BEGIN:VCALENDAR
VERSION:2.0
PRODID:-//Visan i Sverige - ECPv6.15.18//NONSGML v1.0//EN
CALSCALE:GREGORIAN
METHOD:PUBLISH
X-ORIGINAL-URL:https://visanisverige.se
X-WR-CALDESC:Händelser för Visan i Sverige
REFRESH-INTERVAL;VALUE=DURATION:PT1H
X-Robots-Tag:noindex
X-PUBLISHED-TTL:PT1H
BEGIN:VTIMEZONE
TZID:Europe/Stockholm
BEGIN:DAYLIGHT
TZOFFSETFROM:+0100
TZOFFSETTO:+0200
TZNAME:CEST
DTSTART:20240331T010000
END:DAYLIGHT
BEGIN:STANDARD
TZOFFSETFROM:+0200
TZOFFSETTO:+0100
TZNAME:CET
DTSTART:20241027T010000
END:STANDARD
BEGIN:DAYLIGHT
TZOFFSETFROM:+0100
TZOFFSETTO:+0200
TZNAME:CEST
DTSTART:20250330T010000
END:DAYLIGHT
BEGIN:STANDARD
TZOFFSETFROM:+0200
TZOFFSETTO:+0100
TZNAME:CET
DTSTART:20251026T010000
END:STANDARD
BEGIN:DAYLIGHT
TZOFFSETFROM:+0100
TZOFFSETTO:+0200
TZNAME:CEST
DTSTART:20260329T010000
END:DAYLIGHT
BEGIN:STANDARD
TZOFFSETFROM:+0200
TZOFFSETTO:+0100
TZNAME:CET
DTSTART:20261025T010000
END:STANDARD
END:VTIMEZONE
BEGIN:VEVENT
DTSTART;TZID=Europe/Stockholm:20251112T080000
DTEND;TZID=Europe/Stockholm:20251112T190000
DTSTAMP:20260422T152126
CREATED:20251021T085057Z
LAST-MODIFIED:20251021T085057Z
UID:4720-1762934400-1762974000@visanisverige.se
SUMMARY:FJK - Norrköping
DESCRIPTION:Den kultförklarade visgruppen FJK gästar Crescendo med sina angelägna och fint framförda visor.\nAnders Forsslund\, Christer Jonasson Tolv och Mats Klingström.
URL:https://visanisverige.se/evenemang/fjk-norrkoping/
ATTACH;FMTTYPE=image/jpeg:https://visanisverige.se/wp-content/uploads/2025/10/592022221555.jpeg
END:VEVENT
BEGIN:VEVENT
DTSTART;TZID=Europe/Stockholm:20251112T184500
DTEND;TZID=Europe/Stockholm:20251112T210000
DTSTAMP:20260422T152126
CREATED:20250912T060130Z
LAST-MODIFIED:20250912T060130Z
UID:4654-1762973100-1762981200@visanisverige.se
SUMMARY:Lars-Magnus Larsson
DESCRIPTION:Lars-Magnus Larsson med Tommy Kotter \nÄntligen är skådespelaren\, musikern och låtskrivaren Lars-Magnus Larsson tillbaka på vår scen! Den här gången tillsammans med jazzpianisten Tommy Kotter. Det blir en blandad kväll med såväl Gustaf Fröding-tolkningar som exempel ur Lars-Magnus egenskrivna och mångbottnade repertoar. \nLars-Magnus kom från Värmland till Göteborg på 70-talet\, då han kom att ingå i proggruppen Text & Musik. Efter Scenskolan jobbade han 33 år på Folkteatern. Tommy Kotter är sedan många år en av landets bästa jazzpianister som medverkat i otaliga konstellationer. \nFörband/Ny scen: Mats och Britta \nKaffe och fika säljs i pausen.
URL:https://visanisverige.se/evenemang/lars-magnus-larsson/
LOCATION:Kustens Hus\, Taubegatan 9\, Göteborg\, 414 55\, Sverige
CATEGORIES:Konsert
ATTACH;FMTTYPE=image/jpeg:https://visanisverige.se/wp-content/uploads/2025/09/251112-Lars-Kulturpunkten.jpg
ORGANIZER;CN="Visans V%C3%A4nner G%C3%B6teborg":MAILTO:visansvannergbg@gmail.com
END:VEVENT
BEGIN:VEVENT
DTSTART;TZID=Europe/Stockholm:20251113T080000
DTEND;TZID=Europe/Stockholm:20251113T183000
DTSTAMP:20260422T152126
CREATED:20251109T080252Z
LAST-MODIFIED:20251109T080252Z
UID:4737-1763020800-1763058600@visanisverige.se
SUMMARY:FJK - Borensberg
DESCRIPTION:Veteraner\, javisst! Nyskapare\, absolut! \nLekfullt på scenen\, alltid! \nAnders Forsslund\, Christer Jonasson Tolv och Mats Klingström bjuder på en intim viskväll på Svanen. Obs! Begränsat antal platser!
URL:https://visanisverige.se/evenemang/fjk-borensberg/
ATTACH;FMTTYPE=image/jpeg:https://visanisverige.se/wp-content/uploads/2025/10/592022221555-2.jpeg
END:VEVENT
BEGIN:VEVENT
DTSTART;TZID=Europe/Stockholm:20251114T183000
DTEND;TZID=Europe/Stockholm:20251114T200000
DTSTAMP:20260422T152126
CREATED:20251016T201516Z
LAST-MODIFIED:20251016T201516Z
UID:4714-1763145000-1763150400@visanisverige.se
SUMMARY:Konsert med FJK på Mariestads Gamla Teater
DESCRIPTION:Sällskapet Visans Vänner Skaraborg fyller 40 år 2025 och det firar vi bl.a. med en jubileumskonsert. På scen de tre slipade musikvirtuoserna i FJK\,  (F) Anders Forsslund\, (J) Christer Jonasson och (K) Mats Klingström.\nVälkomna till en glimrande konsert med dessa herrar som bjuder publiken på fantastisk musikalitet\, briljant stämsång och med en repertoar bestående av klassisk visa\, evergreens\, covers och givetvis eget material.\nDet här är en kväll att uppleva! Vi ses på teatern!. Biljett: 200 kr som bokas på webb-shopen på denna webbplats https://visansvannerskaraborg.se/  \nFör övrig info:\nMonica mob.nr: 070-633 08 60\nAnders mob.nr: 070-627 67 65
URL:https://visanisverige.se/evenemang/konsert-med-fjk-pa-mariestads-gamla-teater/
LOCATION:Mariestads Gamla teater\, Österlånggatan 8\, Mariestad\, 542 30
CATEGORIES:Konsert
ATTACH;FMTTYPE=image/jpeg:https://visanisverige.se/wp-content/uploads/2025/10/FJK-scaled.jpg
END:VEVENT
BEGIN:VEVENT
DTSTART;TZID=Europe/Stockholm:20251115T080000
DTEND;TZID=Europe/Stockholm:20251115T190000
DTSTAMP:20260422T152126
CREATED:20251109T080228Z
LAST-MODIFIED:20251109T080228Z
UID:4726-1763193600-1763233200@visanisverige.se
SUMMARY:FJK - Klässbol
DESCRIPTION:FJK – veteraner i vis-Sverige med sina 45 år tillsammans på scenen gästar Stavnäs visklubb. Lekfullt\, skickligt och vackert bjuder FJK på en unik viskväll.
URL:https://visanisverige.se/evenemang/fjk-klassbol/
ATTACH;FMTTYPE=image/jpeg:https://visanisverige.se/wp-content/uploads/2025/10/592022221555-1.jpeg
END:VEVENT
BEGIN:VEVENT
DTSTART;TZID=Europe/Stockholm:20250921T140000
DTEND;TZID=Europe/Stockholm:20250921T160000
DTSTAMP:20260422T152126
CREATED:20250912T060409Z
LAST-MODIFIED:20250912T060409Z
UID:4669-1758463200-1758470400@visanisverige.se
SUMMARY:Söndagsvisan / Öppen scen
DESCRIPTION:Har du en visa som du vill sjunga inför en publik\, anmäl dig på plats till visevärden.Kaffe och fika sälj på plats.
URL:https://visanisverige.se/evenemang/sondagsvisan-oppen-scen-8/
LOCATION:Kustens Hus\, Taubegatan 9\, Göteborg\, 414 55\, Sverige
CATEGORIES:Öppen scen
ATTACH;FMTTYPE=image/jpeg:https://visanisverige.se/wp-content/uploads/2025/09/mikrofon_hela.jpg
ORGANIZER;CN="Visans V%C3%A4nner G%C3%B6teborg":MAILTO:visansvannergbg@gmail.com
END:VEVENT
BEGIN:VEVENT
DTSTART;TZID=Europe/Stockholm:20251116T160000
DTEND;TZID=Europe/Stockholm:20251116T180000
DTSTAMP:20260422T152126
CREATED:20251109T053444Z
LAST-MODIFIED:20251109T053444Z
UID:4796-1763308800-1763316000@visanisverige.se
SUMMARY:Viscafé med Briggen tre Bröder
DESCRIPTION:Briggen Tre Bröder är en musikgrupp från Blekinge som bildades 2004 av bröderna Gert\, Jim och Niklas Nilsson. De är kända för att framföra sjömansvisor och andra låtar på listerländska\, för att på så sätt bevara dialekten. Gruppen har släppt flera album\, bland annat det bästsäljande ”Briggen pau listalännska”\, och fick Lions Kulturpris 2020.\nMedlemmar: Gert\, Jim och Niklas Nilsson\nMusikstil: Sjömansvisor och folkmusik framförd på listerländska\nSyfte: Att sprida glädje och kultur samt att bevara dialekten
URL:https://visanisverige.se/evenemang/viscafe-med-briggen-tre-broder/
LOCATION:Lokstallarna\, Prinsgatan 43\, Karlshamn\, 37433
CATEGORIES:Konsert
ATTACH;FMTTYPE=image/png:https://visanisverige.se/wp-content/uploads/2025/11/Viscafe-Briggen-Tre-Boder-2025.png
ORGANIZER;CN="Visans V&auml%3Bnner Karlshamn":MAILTO:visvanner@telia.com
END:VEVENT
BEGIN:VEVENT
DTSTART;TZID=Europe/Stockholm:20251126T184500
DTEND;TZID=Europe/Stockholm:20251126T210000
DTSTAMP:20260422T152126
CREATED:20250912T060208Z
LAST-MODIFIED:20250912T060208Z
UID:4659-1764182700-1764190800@visanisverige.se
SUMMARY:Maud Lindström
DESCRIPTION:Maud Lindström har gjort sig känd för ett rättframt språk och modiga\, välformulerade och angelägna sånger. Personligt\, uppriktigt\, roligt och träffsäkert skildrar hon livet och vardagen som den är på riktigt – skör\, skitig och storslagen. I september 2025 släpper hon albumet ”Du får gå” – sitt första på 20 år. Sångerna handlar om uppbrott\, förlust\, separation och att gå vidare. Att bryta upp från ett förhållande som går på tomgång. Att vilja storma ut från sitt dötrista kontorsjobb och aldrig mer komma tillbaka. Att konfronteras med de stora existentiella frågorna framför tigerburen under ett djurparksbesök. Att fly vardagens alla vinterkräksjukor\, arbetsmiljömöten och förskolestäddagar och ta en söndag i sängen tillsammans. Att ge en dödssjuk förälder tillåtelse att släppa taget och gå. \nFörband/Ny scen: Emil Johansson Rydne \nKaffe och fika säljs i pausen.
URL:https://visanisverige.se/evenemang/maud-lindstrom/
LOCATION:Kustens Hus\, Taubegatan 9\, Göteborg\, 414 55\, Sverige
CATEGORIES:Konsert
ATTACH;FMTTYPE=image/jpeg:https://visanisverige.se/wp-content/uploads/2025/09/251126-Maud-Kulturpunkten.jpg
ORGANIZER;CN="Visans V%C3%A4nner G%C3%B6teborg":MAILTO:visansvannergbg@gmail.com
END:VEVENT
END:VCALENDAR