BEGIN:VCALENDAR
VERSION:2.0
PRODID:-//Visan i Sverige - ECPv6.15.18//NONSGML v1.0//EN
CALSCALE:GREGORIAN
METHOD:PUBLISH
X-ORIGINAL-URL:https://visanisverige.se
X-WR-CALDESC:Händelser för Visan i Sverige
REFRESH-INTERVAL;VALUE=DURATION:PT1H
X-Robots-Tag:noindex
X-PUBLISHED-TTL:PT1H
BEGIN:VTIMEZONE
TZID:Europe/Stockholm
BEGIN:DAYLIGHT
TZOFFSETFROM:+0100
TZOFFSETTO:+0200
TZNAME:CEST
DTSTART:20230326T010000
END:DAYLIGHT
BEGIN:STANDARD
TZOFFSETFROM:+0200
TZOFFSETTO:+0100
TZNAME:CET
DTSTART:20231029T010000
END:STANDARD
BEGIN:DAYLIGHT
TZOFFSETFROM:+0100
TZOFFSETTO:+0200
TZNAME:CEST
DTSTART:20240331T010000
END:DAYLIGHT
BEGIN:STANDARD
TZOFFSETFROM:+0200
TZOFFSETTO:+0100
TZNAME:CET
DTSTART:20241027T010000
END:STANDARD
BEGIN:DAYLIGHT
TZOFFSETFROM:+0100
TZOFFSETTO:+0200
TZNAME:CEST
DTSTART:20250330T010000
END:DAYLIGHT
BEGIN:STANDARD
TZOFFSETFROM:+0200
TZOFFSETTO:+0100
TZNAME:CET
DTSTART:20251026T010000
END:STANDARD
END:VTIMEZONE
BEGIN:VEVENT
DTSTART;TZID=Europe/Stockholm:20240502T210000
DTEND;TZID=Europe/Stockholm:20240502T230000
DTSTAMP:20260421T223012
CREATED:20231215T162218Z
LAST-MODIFIED:20231215T162218Z
UID:2961-1714683600-1714690800@visanisverige.se
SUMMARY:Minneskonsert till Olle Adolphson
DESCRIPTION:”Ge mig en dag” skrev vispoeten Olle Adolphson\, visan som folk tog till sig och döpte till Österlenvisan. Nu ger vi Olle en egen dag med en minneskonsert i Ravlunda kyrka och kransnedläggning på hans grav efter konserten. Det sker på den dagen han skulle ha fyllt 90 år. Du får lyssna på några av Olle Adolphsons mest omtyckta visor både genom solosång och kör. Konsertkvällen bjuder även på berättelser om Olles liv på Österlen.  \nMedverkanden är jazzsångerskan Mimi Terris\, vissångaren och gitarristen Anders Anton\, Älskade Olle-kören under ledning av Alf Bengtsson och Olle Adolphson-kännaren Börje Bengtsson. Efter konserten sker kransnedläggning vid graven med unison sång ”Ge mig en dag”.
URL:https://visanisverige.se/evenemang/minneskonsert-till-olle-adolphson/
LOCATION:Ravlunda kyrka\, Kyrkobacken 7\, Kivik\, 277 37
ATTACH;FMTTYPE=image/jpeg:https://visanisverige.se/wp-content/uploads/2023/12/Kalender2024_1024x1024.jpg
END:VEVENT
BEGIN:VEVENT
DTSTART;TZID=Europe/Stockholm:20240525T160000
DTEND;TZID=Europe/Stockholm:20240525T180000
DTSTAMP:20260421T223012
CREATED:20240507T164407Z
LAST-MODIFIED:20240507T164407Z
UID:3271-1716652800-1716660000@visanisverige.se
SUMMARY:Visor på Hörnet
DESCRIPTION:Konsert med Fäder och Chimären.
URL:https://visanisverige.se/evenemang/visor-pa-hornet/
LOCATION:Umeå Rehnmarkstorget\, Rehnmarkstorget\, Umeå
ATTACH;FMTTYPE=image/jpeg:https://visanisverige.se/wp-content/uploads/2024/05/Gitarren.jpg
END:VEVENT
BEGIN:VEVENT
DTSTART;TZID=Europe/Stockholm:20240525T200000
DTEND;TZID=Europe/Stockholm:20240525T220000
DTSTAMP:20260421T223012
CREATED:20240507T120256Z
LAST-MODIFIED:20240507T120256Z
UID:3259-1716667200-1716674400@visanisverige.se
SUMMARY:Konsert med Mirja Palo
DESCRIPTION:Mirja Palo är musiker och sångerska från Árviesjavrrie bosatt i Jåhkåmåhke och släppte sitt debutalbum Riegádahttin i februari. Hon skapar sin musik utifrån mötet mellan hennes finska rötter och det samiska kulturlandskap inom vilket hon verkar. Flera av hennes sånger framförs på nordsamiska; ett språk som hon lärt sig i vuxen ålder trots att hon själv inte har någon samisk bakgrund. Språket i kombination med det finska folkinstrumentet kantele har kommit att bli avgörande för hennes konstnärliga uttryck i form av nyskapande folkmusik med influenser av pop och visa.\n\nNu kommer hon till Bjurå Folkets hus för en konsert\, missa inte!\n\nFöreställningen sker i samband med musikkursen ”Jag Äger”.Arrangör: Studio Maddez tillsammans med Studieförbundet Bild Nord
URL:https://visanisverige.se/evenemang/konsert-med-mirja-palo/
LOCATION:Bjurå Folkets hus\, Tiljemyrvägen 5\, Niemisel\, 95595\, Sverige
CATEGORIES:Konsert
ATTACH;FMTTYPE=image/jpeg:https://visanisverige.se/wp-content/uploads/2024/05/Lisa-love-Backman3-scaled.jpg
ORGANIZER;CN="Studio Maddez":MAILTO:info@studiomaddez.se
END:VEVENT
END:VCALENDAR