BEGIN:VCALENDAR
VERSION:2.0
PRODID:-//Visan i Sverige - ECPv6.15.18//NONSGML v1.0//EN
CALSCALE:GREGORIAN
METHOD:PUBLISH
X-ORIGINAL-URL:https://visanisverige.se
X-WR-CALDESC:Händelser för Visan i Sverige
REFRESH-INTERVAL;VALUE=DURATION:PT1H
X-Robots-Tag:noindex
X-PUBLISHED-TTL:PT1H
BEGIN:VTIMEZONE
TZID:Europe/Stockholm
BEGIN:DAYLIGHT
TZOFFSETFROM:+0100
TZOFFSETTO:+0200
TZNAME:CEST
DTSTART:20220327T010000
END:DAYLIGHT
BEGIN:STANDARD
TZOFFSETFROM:+0200
TZOFFSETTO:+0100
TZNAME:CET
DTSTART:20221030T010000
END:STANDARD
BEGIN:DAYLIGHT
TZOFFSETFROM:+0100
TZOFFSETTO:+0200
TZNAME:CEST
DTSTART:20230326T010000
END:DAYLIGHT
BEGIN:STANDARD
TZOFFSETFROM:+0200
TZOFFSETTO:+0100
TZNAME:CET
DTSTART:20231029T010000
END:STANDARD
BEGIN:DAYLIGHT
TZOFFSETFROM:+0100
TZOFFSETTO:+0200
TZNAME:CEST
DTSTART:20240331T010000
END:DAYLIGHT
BEGIN:STANDARD
TZOFFSETFROM:+0200
TZOFFSETTO:+0100
TZNAME:CET
DTSTART:20241027T010000
END:STANDARD
END:VTIMEZONE
BEGIN:VEVENT
DTSTART;TZID=Europe/Stockholm:20231008T160000
DTEND;TZID=Europe/Stockholm:20231008T180000
DTSTAMP:20260422T050432
CREATED:20230926T041847Z
LAST-MODIFIED:20230926T041847Z
UID:2896-1696780800-1696788000@visanisverige.se
SUMMARY:Söndagsvisan / Öppen scen
DESCRIPTION:Anmälan sker på plats.\n—————-\nKaffe och fika säljs under hela evenemanget.\nArrangör: Sällskapet Visans Vänner i Göteborg\nMed stöd från Göteborgs Kulturförvaltning
URL:https://visanisverige.se/evenemang/sondagsvisan-oppen-scen-4/
LOCATION:Kustens Hus\, Taubegatan 9\, Göteborg\, 414 55\, Sverige
CATEGORIES:Öppen scen
ATTACH;FMTTYPE=image/png:https://visanisverige.se/wp-content/uploads/2023/09/Oppen-scen-Mick.png
ORGANIZER;CN="Visans V%C3%A4nner G%C3%B6teborg":MAILTO:visansvannergbg@gmail.com
END:VEVENT
BEGIN:VEVENT
DTSTART;TZID=Europe/Stockholm:20231203T170000
DTEND;TZID=Europe/Stockholm:20231203T183000
DTSTAMP:20260422T050432
CREATED:20231127T112559Z
LAST-MODIFIED:20231127T112559Z
UID:2948-1701622800-1701628200@visanisverige.se
SUMMARY:Bandet Dönaberga
DESCRIPTION:Bandet Dönaberga med ursprung i Göingebygden spelar Irländsk musik i Skånsk tappning. Medlemmar Ingemar Nilsson\, mandolin\,gitarr & sång. Anders Påhlsson gitarr & tinwhistle. Pelle Jansson kontrabas\, gitarr & sång. Mauritz Bondesson fiol. Mats Hennig amerikansk & irländsk banjo & sång. Välkomna!
URL:https://visanisverige.se/evenemang/bandet-donaberga/
LOCATION:Lokstallarna\, Prinsgatan 43\, Karlshamn\, 37433
ATTACH;FMTTYPE=image/png:https://visanisverige.se/wp-content/uploads/2023/11/Donaberga-2023-12-03-1.png
ORGANIZER;CN="Visans V&auml%3Bnner Karlshamn":MAILTO:visvanner@telia.com
END:VEVENT
BEGIN:VEVENT
DTSTART;TZID=Europe/Stockholm:20231213T200000
DTEND;TZID=Europe/Stockholm:20231213T220000
DTSTAMP:20260422T050432
CREATED:20230917T192019Z
LAST-MODIFIED:20230917T192019Z
UID:2849-1702497600-1702504800@visanisverige.se
SUMMARY:Julvisor med Visans Vänner
DESCRIPTION:En samling väl valda visor som förknippas med juletiden eller midvintern framförs av de kanske mest hängivna visnördarna från Sällskapet Visans Vänner till ackompanjemang av glögg och pepparkakor.
URL:https://visanisverige.se/evenemang/julvisor-med-visans-vanner/
LOCATION:Kustens Hus\, Taubegatan 9\, Göteborg\, 414 55\, Sverige
CATEGORIES:Konsert
ATTACH;FMTTYPE=image/jpeg:https://visanisverige.se/wp-content/uploads/2023/09/Kulturpunkten-231213-Jul.jpg
ORGANIZER;CN="Visans V%C3%A4nner G%C3%B6teborg":MAILTO:visansvannergbg@gmail.com
END:VEVENT
END:VCALENDAR