BEGIN:VCALENDAR
VERSION:2.0
PRODID:-//Visan i Sverige - ECPv6.15.18//NONSGML v1.0//EN
CALSCALE:GREGORIAN
METHOD:PUBLISH
X-WR-CALNAME:Visan i Sverige
X-ORIGINAL-URL:https://visanisverige.se
X-WR-CALDESC:Händelser för Visan i Sverige
REFRESH-INTERVAL;VALUE=DURATION:PT1H
X-Robots-Tag:noindex
X-PUBLISHED-TTL:PT1H
BEGIN:VTIMEZONE
TZID:Europe/Stockholm
BEGIN:DAYLIGHT
TZOFFSETFROM:+0100
TZOFFSETTO:+0200
TZNAME:CEST
DTSTART:20220327T010000
END:DAYLIGHT
BEGIN:STANDARD
TZOFFSETFROM:+0200
TZOFFSETTO:+0100
TZNAME:CET
DTSTART:20221030T010000
END:STANDARD
BEGIN:DAYLIGHT
TZOFFSETFROM:+0100
TZOFFSETTO:+0200
TZNAME:CEST
DTSTART:20230326T010000
END:DAYLIGHT
BEGIN:STANDARD
TZOFFSETFROM:+0200
TZOFFSETTO:+0100
TZNAME:CET
DTSTART:20231029T010000
END:STANDARD
BEGIN:DAYLIGHT
TZOFFSETFROM:+0100
TZOFFSETTO:+0200
TZNAME:CEST
DTSTART:20240331T010000
END:DAYLIGHT
BEGIN:STANDARD
TZOFFSETFROM:+0200
TZOFFSETTO:+0100
TZNAME:CET
DTSTART:20241027T010000
END:STANDARD
END:VTIMEZONE
BEGIN:VEVENT
DTSTART;TZID=Europe/Stockholm:20230701T200000
DTEND;TZID=Europe/Stockholm:20230702T010000
DTSTAMP:20260422T122310
CREATED:20230327T044452Z
LAST-MODIFIED:20230327T044452Z
UID:2664-1688241600-1688259600@visanisverige.se
SUMMARY:Vi minns Ewert Ljusberg
DESCRIPTION:Sång\, tjolahôpp och fôlkbildning om Ewert Ljusberg. Medverkande scenkonstnärer: Billey Shamrock och Puch Magnus Olsson.
URL:https://visanisverige.se/evenemang/vi-minns-ewert-ljusberg/
LOCATION:Önneköps lanthandelsmuseum\, Önneköp
ATTACH;FMTTYPE=image/jpeg:https://visanisverige.se/wp-content/uploads/2023/03/2023-03-27.jpg
END:VEVENT
BEGIN:VEVENT
DTSTART;TZID=Europe/Stockholm:20230707T210000
DTEND;TZID=Europe/Stockholm:20230715T233000
DTSTAMP:20260422T122310
CREATED:20230707T135659Z
LAST-MODIFIED:20230707T135659Z
UID:2753-1688763600-1689463800@visanisverige.se
SUMMARY:Visfesten i Loo
DESCRIPTION:Visfesten I Loo Ekelund Sollebrunn 15/7 klockan 19.00\nArtister\nGunnar och Olof Källström\nAina Falkås\nClaes Pihl\nKarl Heldal\nUrskog\nJoakim Schmidt
URL:https://visanisverige.se/evenemang/visfesten-i-loo/
CATEGORIES:Festival
ATTACH;FMTTYPE=image/jpeg:https://visanisverige.se/wp-content/uploads/2023/07/20230707_094358-scaled.jpg
END:VEVENT
BEGIN:VEVENT
DTSTART;TZID=Europe/Stockholm:20230716T150000
DTEND;TZID=Europe/Stockholm:20230716T153000
DTSTAMP:20260422T122310
CREATED:20230709T073201Z
LAST-MODIFIED:20230709T073201Z
UID:2760-1689519600-1689521400@visanisverige.se
SUMMARY:Jubileumskompassen Visans vänner Göteborg
DESCRIPTION:Visans Vänner i Göteborg har funnits i mer än 50 år och har sin hemvist i Kustens Hus\, precis vid Göta Älv. Många artister och sånger har frodats hos Visans Vänner. Nu intar de Jubileumskompassens scen och bjuder på ett smakprov av dagens verksamhet och sångare. \nIngegerd Wessel\nIngegerd Wessel är en rutinerad visartist och låtskrivare med mer än 40 års erfarenhet av att tolka den svenska visskatten. Hon har släppt två soloplattor. Ingegerd en röst som går hela vägen in i hjärtat\, en hög scennärvaro\, ett personligt uttryck och en snygg gitarr! \nNiclas Abrahamsson\nLåtskrivaren\, visartisten och författaren Niclas Abrahamsson har även ett förflutet som skådespelare. Niclas har frilansat som visartist sedan 80-talet och har gett ut musik med både eget och andras material. Under våren 2023 släppte han ett nytt album. Niclas tar med sig en stor portion musikalitet och en rejäl nypa professionalitet för en helhetsupplevelse i ord och ton.
URL:https://visanisverige.se/evenemang/jubileumskompassen-visans-vanner-goteborg/
LOCATION:Bältesspännarparken\, Bältessännarparken\, Göteborg\, 41136
CATEGORIES:Konsert
ATTACH;FMTTYPE=image/jpeg:https://visanisverige.se/wp-content/uploads/2023/07/niclas_igge-low.jpg
ORGANIZER;CN="Visans V%C3%A4nner G%C3%B6teborg":MAILTO:visansvannergbg@gmail.com
END:VEVENT
BEGIN:VEVENT
DTSTART;TZID=Europe/Stockholm:20230729T160000
DTEND;TZID=Europe/Stockholm:20230729T220000
DTSTAMP:20260422T122310
CREATED:20230319T154635Z
LAST-MODIFIED:20230319T154635Z
UID:2620-1690646400-1690668000@visanisverige.se
SUMMARY:Loses Visfestival 2023
DESCRIPTION:Välkommen till Finnskogen och magiska Loses Festplats den 29 juli. Program presenteras löpande på vår facebooksida -Loses Visfestival. Välkommen!
URL:https://visanisverige.se/evenemang/loses-visfestival-2023/
LOCATION:Finnskogsteatern\, Loses Festplats\, Gustafsfors 9232\, Bollnäs\, 82192
CATEGORIES:Festival
ATTACH;FMTTYPE=image/jpeg:https://visanisverige.se/wp-content/uploads/2023/03/Loses-Visfestival-2022_low.jpg
END:VEVENT
END:VCALENDAR