BEGIN:VCALENDAR
VERSION:2.0
PRODID:-//Visan i Sverige - ECPv6.15.18//NONSGML v1.0//EN
CALSCALE:GREGORIAN
METHOD:PUBLISH
X-ORIGINAL-URL:https://visanisverige.se
X-WR-CALDESC:Händelser för Visan i Sverige
REFRESH-INTERVAL;VALUE=DURATION:PT1H
X-Robots-Tag:noindex
X-PUBLISHED-TTL:PT1H
BEGIN:VTIMEZONE
TZID:Europe/Stockholm
BEGIN:DAYLIGHT
TZOFFSETFROM:+0100
TZOFFSETTO:+0200
TZNAME:CEST
DTSTART:20220327T010000
END:DAYLIGHT
BEGIN:STANDARD
TZOFFSETFROM:+0200
TZOFFSETTO:+0100
TZNAME:CET
DTSTART:20221030T010000
END:STANDARD
BEGIN:DAYLIGHT
TZOFFSETFROM:+0100
TZOFFSETTO:+0200
TZNAME:CEST
DTSTART:20230326T010000
END:DAYLIGHT
BEGIN:STANDARD
TZOFFSETFROM:+0200
TZOFFSETTO:+0100
TZNAME:CET
DTSTART:20231029T010000
END:STANDARD
BEGIN:DAYLIGHT
TZOFFSETFROM:+0100
TZOFFSETTO:+0200
TZNAME:CEST
DTSTART:20240331T010000
END:DAYLIGHT
BEGIN:STANDARD
TZOFFSETFROM:+0200
TZOFFSETTO:+0100
TZNAME:CET
DTSTART:20241027T010000
END:STANDARD
END:VTIMEZONE
BEGIN:VEVENT
DTSTART;TZID=Europe/Stockholm:20230614T200000
DTEND;TZID=Europe/Stockholm:20230614T223000
DTSTAMP:20260422T134710
CREATED:20230525T123516Z
LAST-MODIFIED:20230525T172259Z
UID:2730-1686772800-1686781800@visanisverige.se
SUMMARY:Visor på Skottsbergska gården
DESCRIPTION:Visans Vänner i Karlshamn bjuder på Visor i sommarkvällen med våra lokala artister. Nytt för i år är att vi kommer att framträda på Karlshamns Museum och den anrika köpmannagården Skottsbergska gården med anor från 1600 talet. \nSkottsbergska gården | karlshamnsmuseum.se
URL:https://visanisverige.se/evenemang/visor-pa-skottsbergska-garden/
LOCATION:Karlshamns Museum\, Ingång Drottninggatan 83\, Karlshamn\, 37438\, Sverige
ATTACH;FMTTYPE=image/png:https://visanisverige.se/wp-content/uploads/2023/05/Skottsbergska-garden-2023.png
ORGANIZER;CN="Visans V&auml%3Bnner Karlshamn":MAILTO:visvanner@telia.com
END:VEVENT
BEGIN:VEVENT
DTSTART;VALUE=DATE:20230615
DTEND;VALUE=DATE:20230617
DTSTAMP:20260422T134710
CREATED:20230327T044540Z
LAST-MODIFIED:20230327T044540Z
UID:2654-1686794400-1686880799@visanisverige.se
SUMMARY:Country i kyrkan med Vandringsmän
DESCRIPTION:Gruppen Vandringsmän framför sitt hyllade countryprogram i Fryksändes vackra kyrka.
URL:https://visanisverige.se/evenemang/country-i-kyrkan-med-vandringsman/
LOCATION:Fryksände K:a\, Torsby\, 68530
CATEGORIES:Konsert
ATTACH;FMTTYPE=image/jpeg:https://visanisverige.se/wp-content/uploads/2023/03/18813971_1405440052876500_4868804995846809031_n.jpg
ORGANIZER;CN="Fryks%C3%A4nde pastorat":MAILTO:fryksande.pastorat@svenskakyrkan.se
END:VEVENT
BEGIN:VEVENT
DTSTART;TZID=Europe/Stockholm:20230615T210000
DTEND;TZID=Europe/Stockholm:20230615T230000
DTSTAMP:20260422T134710
CREATED:20230508T070628Z
LAST-MODIFIED:20230508T113118Z
UID:2725-1686862800-1686870000@visanisverige.se
SUMMARY:Stinas visor till Karins lada\, Ulricehamn
DESCRIPTION:Med sitt andra album ”Medan bäcken brusar” har Göteborgsbandet Stinas visor blivit varma i kläderna i sitt skapande och fortsätter att utforska en egen mix av svensk och irländsk folkmusik\, visa och bluegrass. Texterna är både vardagsnära och finstämda och handlar om att vara mitt i livet. Om vad som händer sen\, när man har hittat kärleken och livet fortsätter rulla på. Om lycka och sorg\, om att försöka vara sig själv och om att bli sams med en dans på köksgolvet. \n”Äkta spelmansglädje\, modernt och traditionellt i ljuv blandning. Texter som berör\, roar och träffar mitt i diktarstammen.”\n/Gåke Gunnarsson\, vissångare \nOm albumet Medan bäcken brusar 2020:\n”Stina Klintboms sång känns så nära och berörande\, så självklart övertygande; i hennes texter får vardagen en glans och en lyster bortom det vanliga. Det porlar som en kall källa och brusar som en norrländsk fors. Med glädje\, renhet och energisk intensitet.\nI orden finns tänkvärda kommentarer till de stora frågorna om livet och kärleken /…/ Ett album som både inspirerar och angår\, du rycks med och blir glad av att lyssna.”\n/Lira musikmagasin \nBandmedlemmar:\nStina Klintbom\, sång\nMagnus Markling\, mandolin\, tin whistle\nAndreas Nordanstig\, gitarr\nJohan Bengtsson\, kontrabas\nHanna Austern\, fiol \n  \nEntré 250 kr \nBiljetter förbokar du genom att ringa eller maila.\n0702826035 eller karin@karinslada.se  \nFörbokade biljetter som inte är uthämtade när konserten börjar säljs. \n0-8 år gratis\, 9-15 år halva priset. \nKom i tid\, platserna är onumrerade. \nVill ni äta smörgås under kvällen ser vi gärna att ni förbokar den samtidigt som biljetterna. Det underlättar vår planering mycket\, tack.
URL:https://visanisverige.se/evenemang/stinas-visor-till-karins-lada-ulricehamn/
LOCATION:Karins lada\, Gullered\, N.Hästhagen\, Ulricehamn\, 523 97
ATTACH;FMTTYPE=image/jpeg:https://visanisverige.se/wp-content/uploads/2023/05/SV2018_glad_liten-scaled.jpg
END:VEVENT
BEGIN:VEVENT
DTSTART;TZID=Europe/Stockholm:20230617T143000
DTEND;TZID=Europe/Stockholm:20230617T153000
DTSTAMP:20260422T134710
CREATED:20230609T173806Z
LAST-MODIFIED:20230609T173806Z
UID:2745-1687012200-1687015800@visanisverige.se
SUMMARY:Ingegerd Wessel & Bästa Bandet
DESCRIPTION:Med lång musikalisk erfarenhet och professionalitet rör sig Ingegerd Wessel & BB ledigt mellan olika genrer. Musiken ligger som trygg grund och stämningsskapare och publiken bjuds på melodiös och dynamisk vispop med texterna i fokus. \nBästa Bandet består av Magnus Petersson klaviatur\,  Tomas Schönning gitarr\, Thomas Johansson bas och Mattias Sjögren trummor. Tillsammans har de spelat  i projektform sedan 2010 då Ingegerd & BB tävlade i P4s Svensktoppen Nästa och och vann länsfinalen i Kalmar län. Sedan dess har de spelat ihop på både små och stora scener\, i kyrkor\, på stadsfester\, i offentliga miljöer\, även i exklusiva mindre sammanhang och medverkade senast vid en stor välgörenhetsgala för organisationen Suicide Zero.
URL:https://visanisverige.se/evenemang/ingegerd-wessel-basta-bandet/
LOCATION:Högsby kyrka\, Högsby
ATTACH;FMTTYPE=image/jpeg:https://visanisverige.se/wp-content/uploads/2023/06/9A8B260F-49E3-4722-91A2-5E1AE932A007-1.jpeg
END:VEVENT
BEGIN:VEVENT
DTSTART;TZID=Europe/Stockholm:20230623T160000
DTEND;TZID=Europe/Stockholm:20230623T180000
DTSTAMP:20260422T134710
CREATED:20230327T044516Z
LAST-MODIFIED:20230327T044516Z
UID:2659-1687536000-1687543200@visanisverige.se
SUMMARY:Midsommarfirande med sång och musik
DESCRIPTION:Traditionsenligt underhåller Billey Shamrock tillsammans med Lasse Zackrisson och Benny Guran på den stora gräsplanen vid Grinda Värdshus. I över 20 år har trion stått för denna uppskattade tradition.
URL:https://visanisverige.se/evenemang/midsommarfirande-med-sang-och-musik/
LOCATION:Grinda Wärdshus\, Södra Bryggan\, Grinda\, 18599
CATEGORIES:Konsert
ATTACH;FMTTYPE=image/jpeg:https://visanisverige.se/wp-content/uploads/2023/03/grindaaaaa.jpg
ORGANIZER;CN="Grinda W%C3%A4rdshus":MAILTO:info@grinda.se
END:VEVENT
BEGIN:VEVENT
DTSTART;TZID=Europe/Stockholm:20230629T200000
DTEND;TZID=Europe/Stockholm:20230629T220000
DTSTAMP:20260422T134710
CREATED:20230609T173709Z
LAST-MODIFIED:20230609T173709Z
UID:2741-1688068800-1688076000@visanisverige.se
SUMMARY:2 Kvinnor & 2 Gitarrer
DESCRIPTION:Malene Langborg och Ingegerd Wessel \nVisa & Pop\, Skatter & Eget\, en fin blandning i gott sällskap med Café Söderbönor. \nDet blir en finfin kväll på södra Öland. Välkommen!
URL:https://visanisverige.se/evenemang/2-kvinnor-2-gitarrer/
LOCATION:Cafe Söderbönor Mörbylånga\, Västerlånggatan 6\, Mörbylånga\, 38650
ATTACH;FMTTYPE=image/jpeg:https://visanisverige.se/wp-content/uploads/2023/06/2475C418-8B75-400E-B061-7130587477CA.jpeg
END:VEVENT
END:VCALENDAR