BEGIN:VCALENDAR
VERSION:2.0
PRODID:-//Visan i Sverige - ECPv6.15.18//NONSGML v1.0//EN
CALSCALE:GREGORIAN
METHOD:PUBLISH
X-ORIGINAL-URL:https://visanisverige.se
X-WR-CALDESC:Händelser för Visan i Sverige
REFRESH-INTERVAL;VALUE=DURATION:PT1H
X-Robots-Tag:noindex
X-PUBLISHED-TTL:PT1H
BEGIN:VTIMEZONE
TZID:Europe/Stockholm
BEGIN:DAYLIGHT
TZOFFSETFROM:+0100
TZOFFSETTO:+0200
TZNAME:CEST
DTSTART:20220327T010000
END:DAYLIGHT
BEGIN:STANDARD
TZOFFSETFROM:+0200
TZOFFSETTO:+0100
TZNAME:CET
DTSTART:20221030T010000
END:STANDARD
BEGIN:DAYLIGHT
TZOFFSETFROM:+0100
TZOFFSETTO:+0200
TZNAME:CEST
DTSTART:20230326T010000
END:DAYLIGHT
BEGIN:STANDARD
TZOFFSETFROM:+0200
TZOFFSETTO:+0100
TZNAME:CET
DTSTART:20231029T010000
END:STANDARD
BEGIN:DAYLIGHT
TZOFFSETFROM:+0100
TZOFFSETTO:+0200
TZNAME:CEST
DTSTART:20240331T010000
END:DAYLIGHT
BEGIN:STANDARD
TZOFFSETFROM:+0200
TZOFFSETTO:+0100
TZNAME:CET
DTSTART:20241027T010000
END:STANDARD
END:VTIMEZONE
BEGIN:VEVENT
DTSTART;TZID=Europe/Stockholm:20230503T204500
DTEND;TZID=Europe/Stockholm:20230503T230000
DTSTAMP:20260422T150407
CREATED:20230211T065618Z
LAST-MODIFIED:20230211T065618Z
UID:2473-1683146700-1683154800@visanisverige.se
SUMMARY:Torbjörnius Arro Förberger
DESCRIPTION:Varmt välkommen till Visans Vänner och Kustens Hus. Göteborgs scen för traditionella och moderna visor i en nordisk samklang.\nTorbjörnius Arro Förberger pres(en)terar INÖVAT MATERIAL. Torbjörnius är en visdiktare av ett sällsamt slag. Han har kallats absurdist av vissa\, viskomiker av andra\, ordekvilibrist av en del. Det ligger något i alla beskrivningarna. Klart är att han knyter an till vistraditionen på ett högst kreativt sätt. Det är uttrycksfullt\, aningen postmodernt och ganska sällsynt – så missa det inte! \nNy scen: Karoliina Alstermo
URL:https://visanisverige.se/evenemang/torbjornius-arro-forberger/
LOCATION:Kustens Hus\, Taubegatan 9\, Göteborg\, 414 55\, Sverige
CATEGORIES:Konsert
ATTACH;FMTTYPE=image/jpeg:https://visanisverige.se/wp-content/uploads/2023/02/Kulturpunkten-230503-Torbjornius.jpg
ORGANIZER;CN="Visans V%C3%A4nner G%C3%B6teborg":MAILTO:visansvannergbg@gmail.com
END:VEVENT
BEGIN:VEVENT
DTSTART;TZID=Europe/Stockholm:20230506T200000
DTEND;TZID=Europe/Stockholm:20230506T213000
DTSTAMP:20260422T150407
CREATED:20230412T151924Z
LAST-MODIFIED:20230412T151924Z
UID:2692-1683403200-1683408600@visanisverige.se
SUMMARY:EN AFTON I TIMMERKOJAN
DESCRIPTION:Ett sångspel om skalden Dan Andersson i Mariestads teater med Torsö vokalensemble och ensemble
URL:https://visanisverige.se/evenemang/en-afton-i-timmerkojan/
LOCATION:Mariestads Teater\, Österlånggatan 8\, Mariestad\, 54237
CATEGORIES:Konsert
ATTACH;FMTTYPE=image/png:https://visanisverige.se/wp-content/uploads/2023/04/BD26B4A7-E6F3-4178-9F3B-2D6E264C8433-3.png
END:VEVENT
BEGIN:VEVENT
DTSTART;TZID=Europe/Stockholm:20230507T180000
DTEND;TZID=Europe/Stockholm:20230507T200000
DTSTAMP:20260422T150407
CREATED:20230419T124231Z
LAST-MODIFIED:20230419T124231Z
UID:2707-1683482400-1683489600@visanisverige.se
SUMMARY:Vis Café med gruppen Ung & Lovande
DESCRIPTION:Gruppen Ung & Lovande från Nordiska Visskolan i Kungälv framträder med ett blandat visprogram. \nTjejerna från Visskolan heter Nora Johansson\, Anna Olander och Emilia Remmert. \nSom vanligt ingår fika i entréavgiften.
URL:https://visanisverige.se/evenemang/vis-cafe-med-gruppen-ung-lovande/
LOCATION:Folkets Hus Karlshamn\, Rådhusgatan 14 A\, Karlshamn\, Sverige
CATEGORIES:Konsert
ATTACH;FMTTYPE=image/png:https://visanisverige.se/wp-content/uploads/2023/04/Ung-o-Lovande-7-maj-2023.png
ORGANIZER;CN="Visans V&auml%3Bnner Karlshamn":MAILTO:visvanner@telia.com
END:VEVENT
BEGIN:VEVENT
DTSTART;TZID=Europe/Stockholm:20230514T190000
DTEND;TZID=Europe/Stockholm:20230514T210000
DTSTAMP:20260422T150407
CREATED:20230222T212807Z
LAST-MODIFIED:20230222T212807Z
UID:2517-1684090800-1684098000@visanisverige.se
SUMMARY:Hommage tä’n Ewert Ljusberg
DESCRIPTION:Duo Stefan Ström och Gabriella Lindvall hyllar Ewert Ljusberg genom att sjunga hans och brodern Arne Ljusbergs visor.\nDet bjuds även på minnen\, skrönor och dängor.
URL:https://visanisverige.se/evenemang/hommage-tan-ewert-ljusberg/
LOCATION:Engelen Ga:stan Stockholm
CATEGORIES:Konsert
ATTACH;FMTTYPE=image/jpeg:https://visanisverige.se/wp-content/uploads/2023/02/DUOEwertHu-scaled.jpg
END:VEVENT
END:VCALENDAR