BEGIN:VCALENDAR
VERSION:2.0
PRODID:-//Visan i Sverige - ECPv6.15.18//NONSGML v1.0//EN
CALSCALE:GREGORIAN
METHOD:PUBLISH
X-WR-CALNAME:Visan i Sverige
X-ORIGINAL-URL:https://visanisverige.se
X-WR-CALDESC:Händelser för Visan i Sverige
REFRESH-INTERVAL;VALUE=DURATION:PT1H
X-Robots-Tag:noindex
X-PUBLISHED-TTL:PT1H
BEGIN:VTIMEZONE
TZID:Europe/Stockholm
BEGIN:DAYLIGHT
TZOFFSETFROM:+0100
TZOFFSETTO:+0200
TZNAME:CEST
DTSTART:20210328T010000
END:DAYLIGHT
BEGIN:STANDARD
TZOFFSETFROM:+0200
TZOFFSETTO:+0100
TZNAME:CET
DTSTART:20211031T010000
END:STANDARD
BEGIN:DAYLIGHT
TZOFFSETFROM:+0100
TZOFFSETTO:+0200
TZNAME:CEST
DTSTART:20220327T010000
END:DAYLIGHT
BEGIN:STANDARD
TZOFFSETFROM:+0200
TZOFFSETTO:+0100
TZNAME:CET
DTSTART:20221030T010000
END:STANDARD
BEGIN:DAYLIGHT
TZOFFSETFROM:+0100
TZOFFSETTO:+0200
TZNAME:CEST
DTSTART:20230326T010000
END:DAYLIGHT
BEGIN:STANDARD
TZOFFSETFROM:+0200
TZOFFSETTO:+0100
TZNAME:CET
DTSTART:20231029T010000
END:STANDARD
END:VTIMEZONE
BEGIN:VEVENT
DTSTART;TZID=Europe/Stockholm:20221201T200000
DTEND;TZID=Europe/Stockholm:20221201T200000
DTSTAMP:20260422T211654
CREATED:20220906T074251Z
LAST-MODIFIED:20220906T074251Z
UID:2193-1669924800-1669924800@visanisverige.se
SUMMARY:IMAGO
DESCRIPTION:IMAGO möter Boye och Lagerkvist i stämningsfulla tonsättningar… \nIMAGO är en pop/folk-trio som hyllas av radio och tidning för att på ett varmt ochvärdigt vis lyfta fram den svenska diktskatten till en ny generation. Trion spelar på kyrkor\, visfestivaler och caféer runtom i Sverige och uppskattas av en bred publik för att de tonsätter kända och mer okända dikter genom vacker stämsång och följsamma melodier. \n******* \nVi serverar fika i pausen för 30:-\nVi öppnar kl 18.00 – kom och se vår fina Cornelisutställning. \nHjärtligt välkomna!
URL:https://visanisverige.se/evenemang/imago/
LOCATION:HökisVisrum/Stockholm\, Hökarängsplan 3\, Stockhom\, 123 56\, Sverige
CATEGORIES:Konsert
ATTACH;FMTTYPE=image/jpeg:https://visanisverige.se/wp-content/uploads/2022/09/imago.jpg
ORGANIZER;CN="H%C3%B6kis Visrum":MAILTO:Info@Hokisvisrum.se
END:VEVENT
BEGIN:VEVENT
DTSTART;TZID=Europe/Stockholm:20221211T180000
DTEND;TZID=Europe/Stockholm:20221211T180000
DTSTAMP:20260422T211654
CREATED:20221202T092524Z
LAST-MODIFIED:20221202T092639Z
UID:2316-1670781600-1670781600@visanisverige.se
SUMMARY:MUSIK I JULETID
DESCRIPTION:Välkommen till Björsäters kyrka\, utanför Mariestad\, söndagen den 11 december kl. 17.00\, där sångskrivaren\, sångaren och gitarristen Jan-Olof Andersson och basisten Felix Rajamäki möter Nu-kören under ledning av Agneta Ström i ett program kring texterna\, musiken\, visorna\, sångerna och psalmerna i juletid.
URL:https://visanisverige.se/evenemang/musik-i-juletid/
LOCATION:Björsäters kyrka\, Björsäter kyrka\, Mariestad\, 542 95
CATEGORIES:Konsert
ATTACH;FMTTYPE=image/jpeg:https://visanisverige.se/wp-content/uploads/2022/12/jan-olof.jpeg
END:VEVENT
BEGIN:VEVENT
DTSTART;TZID=Europe/Stockholm:20221214T194500
DTEND;TZID=Europe/Stockholm:20221214T220000
DTSTAMP:20260422T211654
CREATED:20221002T062603Z
LAST-MODIFIED:20221002T062603Z
UID:2245-1671047100-1671055200@visanisverige.se
SUMMARY:Jultomten lever faktiskt!
DESCRIPTION:Förutom våra vanligaste julsånger\, som brukar sjungas under julottan eller kring granen\, så rymmer traditionen ett stort antal andra visor som på ett eller annat sätt hör julen och årstiden till. Vissa är påtagligt levande medan andra är i behov av upplivningsförsök. Medlemmar i Visans Vänner gräver fram de sötaste och bittraste mandlarna ur det vidlyftiga grötfatet. \nBiljetter Förköp: 120kr + 15kr serviceavgift. I dörren: 120kr (För medlemmar: 50kr)
URL:https://visanisverige.se/evenemang/jultomten-lever-faktiskt/
LOCATION:Kustens Hus\, Taubegatan 9\, Göteborg\, 414 55\, Sverige
CATEGORIES:Konsert
ATTACH;FMTTYPE=image/jpeg:https://visanisverige.se/wp-content/uploads/2022/10/221214-Jultomten-lever.jpg
ORGANIZER;CN="Visans V%C3%A4nner G%C3%B6teborg":MAILTO:visansvannergbg@gmail.com
END:VEVENT
BEGIN:VEVENT
DTSTART;TZID=Europe/Stockholm:20221215T200000
DTEND;TZID=Europe/Stockholm:20221215T200000
DTSTAMP:20260422T211654
CREATED:20220906T074230Z
LAST-MODIFIED:20220906T074230Z
UID:2196-1671134400-1671134400@visanisverige.se
SUMMARY:DUO Ina
DESCRIPTION:Höstterminen på Hökis Visrum avslutas med Duo Ina. Bandet bildades 2017 i Ånimskog\, Dalsland\, och består av mor och dotter: Helena på sång och gitarr och Sara på sång\, piano och ukulele. Stämsång och mötet med publiken är centralt i Duo Inas musicerande. \n2021 släppte Duo Ina sitt debutalbum\, julskivan Vår jul\, med både stämningsfulla klassiker och nyskrivet material. På Hökis visrum framför de bland annat musik från skivan och det finns möjlighet att köpa ett signerat exemplar på plats. Den perfekta julklappen till musikälskaren! \nHelena har sina rötter i Värmland och bor numera i Dalsland. År 2012 bytte hennes dotter Sara ut Dalsland och Åmål mot storstan och flyttade till Stockholm där hon fortfarande är bosatt. \n******** \nVi serverar fika i pausen för 30:-\nVi öppnar kl 18.00 – kom och se vår fina Cornelisutställning. \nHjärtligt välkomna!
URL:https://visanisverige.se/evenemang/duo-ina/
LOCATION:HökisVisrum/Stockholm\, Hökarängsplan 3\, Stockhom\, 123 56\, Sverige
CATEGORIES:Konsert
ATTACH;FMTTYPE=image/png:https://visanisverige.se/wp-content/uploads/2022/09/duoina.png
ORGANIZER;CN="H%C3%B6kis Visrum":MAILTO:Info@Hokisvisrum.se
END:VEVENT
END:VCALENDAR