BEGIN:VCALENDAR
VERSION:2.0
PRODID:-//Visan i Sverige - ECPv6.15.18//NONSGML v1.0//EN
CALSCALE:GREGORIAN
METHOD:PUBLISH
X-WR-CALNAME:Visan i Sverige
X-ORIGINAL-URL:https://visanisverige.se
X-WR-CALDESC:Händelser för Visan i Sverige
REFRESH-INTERVAL;VALUE=DURATION:PT1H
X-Robots-Tag:noindex
X-PUBLISHED-TTL:PT1H
BEGIN:VTIMEZONE
TZID:Europe/Stockholm
BEGIN:DAYLIGHT
TZOFFSETFROM:+0100
TZOFFSETTO:+0200
TZNAME:CEST
DTSTART:20210328T010000
END:DAYLIGHT
BEGIN:STANDARD
TZOFFSETFROM:+0200
TZOFFSETTO:+0100
TZNAME:CET
DTSTART:20211031T010000
END:STANDARD
BEGIN:DAYLIGHT
TZOFFSETFROM:+0100
TZOFFSETTO:+0200
TZNAME:CEST
DTSTART:20220327T010000
END:DAYLIGHT
BEGIN:STANDARD
TZOFFSETFROM:+0200
TZOFFSETTO:+0100
TZNAME:CET
DTSTART:20221030T010000
END:STANDARD
BEGIN:DAYLIGHT
TZOFFSETFROM:+0100
TZOFFSETTO:+0200
TZNAME:CEST
DTSTART:20230326T010000
END:DAYLIGHT
BEGIN:STANDARD
TZOFFSETFROM:+0200
TZOFFSETTO:+0100
TZNAME:CET
DTSTART:20231029T010000
END:STANDARD
END:VTIMEZONE
BEGIN:VEVENT
DTSTART;TZID=Europe/Stockholm:20221102T190000
DTEND;TZID=Europe/Stockholm:20221102T190000
DTSTAMP:20260422T223634
CREATED:20220906T074806Z
LAST-MODIFIED:20220906T074806Z
UID:2145-1667415600-1667415600@visanisverige.se
SUMMARY:Öppen Scen – Hökis Visrum
DESCRIPTION:Nu startar vi upp öppen scen igen\, varje onsdag jämna veckor. Antal är begränsat till 16 personer varav max 10 kan uppträda. Biljett pris är 50 kronor samt en gratisbiljett för den som vill vara volontär och hjälpa till under kvällen. Biljett-priset gäller icke medlemmar i HökisVisrum\,  för medlemmar är det gratis. ett medlemskap kostar 200 sek per kalenderår. \nPå öppen scen kvällen har ni möjlighet att sjunga/spela/läsa dikt under max 10 minuter per person\, vi har en positiv och uppmuntrande attityd och ger varandra uppmuntran och stöd. Det finns möjlighet att köpa fika.. \nHjärtligt välkomna.
URL:https://visanisverige.se/evenemang/oppen-scen-hokis-visrum-4/
LOCATION:HökisVisrum/Stockholm\, Hökarängsplan 3\, Stockhom\, 123 56\, Sverige
CATEGORIES:Öppen scen
ATTACH;FMTTYPE=image/jpeg:https://visanisverige.se/wp-content/uploads/2022/09/hokis-4.jpg
ORGANIZER;CN="H%C3%B6kis Visrum":MAILTO:Info@Hokisvisrum.se
END:VEVENT
BEGIN:VEVENT
DTSTART;TZID=Europe/Stockholm:20221102T194500
DTEND;TZID=Europe/Stockholm:20221102T220000
DTSTAMP:20260422T223634
CREATED:20221002T062756Z
LAST-MODIFIED:20221002T062756Z
UID:2236-1667418300-1667426400@visanisverige.se
SUMMARY:Emil Andersson
DESCRIPTION:Saltstänkta visor\, smäktande schlagers och en väldans massa dragspel! Direkt från Orust kommer nu spelmannen Emil Andersson till Kustens hus! Med sitt dragspel på magen och med vegakepsen på hjässan bjuds det på en uppfriskande kväll som lockar till varma skratt. Som vanligt blir det en stund av både finstämda visor och välkända schlagers\, men även taktfasta valser som får golvtiljorna att svaja. Varmt välkomna på en konsert som får hjärtat att slå i valstakt! \nFörband/Ny scen: Anna Violet\n \n\nBiljetter Förköp: 120kr + 15kr serviceavgift I dörren: 120kr (För medlemmar: 50kr)
URL:https://visanisverige.se/evenemang/emil-andersson/
LOCATION:Kustens Hus\, Taubegatan 9\, Göteborg\, 414 55\, Sverige
CATEGORIES:Konsert
ATTACH;FMTTYPE=image/jpeg:https://visanisverige.se/wp-content/uploads/2022/10/221102-Emil-Andersson.jpg
ORGANIZER;CN="Visans V%C3%A4nner G%C3%B6teborg":MAILTO:visansvannergbg@gmail.com
END:VEVENT
BEGIN:VEVENT
DTSTART;TZID=Europe/Stockholm:20221103T200000
DTEND;TZID=Europe/Stockholm:20221103T200000
DTSTAMP:20260422T223634
CREATED:20220906T074358Z
LAST-MODIFIED:20220906T074358Z
UID:2180-1667505600-1667505600@visanisverige.se
SUMMARY:Les Issambres & Kort Tåg
DESCRIPTION:Denna kväll gästas Hökis Visrum av inte mindre än två akter: Les Issambres och Kort Tåg. Ni kommer att få höra tonsatta dikter och sagor\, melodiös indiepop\, punk\, progg\, skojigt och surt\, en ända härlig blandning av allt! \nLes Issambres\nLes Issambres är ett musikkollektiv från Stockholm som spelar melodiös indiepop. Gruppen har funnits sedan 2005 och har givit ut 9 album på Fifth Week Records. Under 2022 är ett nytt album är under produktion. På Hökis visrum kommer Les Issambres att bjuda på en blandning av nya och gamla låtar i avskalade versioner\, däribland tonsatta dikter från albumet Strindberg (2014). \nKort tåg\nNej till allt! – är Kort tågs paroll. Kort tåg spelar sagor på svenska från Stockholms baksida. Inspirationen kommer från punk och progg. Det blir soligt och sorgligt\, skojigt och kanske lite surt. Låtarna utspelar sig på Söder och utmed gröna linjen. Håll utkik efter Hasse\, Katarina\, ekorrar\, socialister och en parakit som heter Knut. \n***************** \nVi serverar fika i pausen för 30:-\nVi öppnar kl 18.00 – kom och se vår fina Cornelisutställning. \nHjärtligt välkomna!
URL:https://visanisverige.se/evenemang/les-issambres-kort-tag/
LOCATION:HökisVisrum/Stockholm\, Hökarängsplan 3\, Stockhom\, 123 56\, Sverige
CATEGORIES:Konsert
ATTACH;FMTTYPE=image/jpeg:https://visanisverige.se/wp-content/uploads/2022/09/kort-tag.jpg
ORGANIZER;CN="H%C3%B6kis Visrum":MAILTO:Info@Hokisvisrum.se
END:VEVENT
BEGIN:VEVENT
DTSTART;TZID=Europe/Stockholm:20221009T160000
DTEND;TZID=Europe/Stockholm:20221009T180000
DTSTAMP:20260422T223634
CREATED:20221004T193930Z
LAST-MODIFIED:20221004T193930Z
UID:2248-1665331200-1665338400@visanisverige.se
SUMMARY:Söndagsvisa - Öppen scen
DESCRIPTION:Välkommen att spela och sjunga på Kustens hus öppna scen. Ett gyllene tillfälle för dig som vill pröva att stå på en scen och sjunga en visa eller läsa poesi inför en lyhörd publik. Skriv upp dig på listan vid entrén! En vise-värd håller i programmet. Vissångare och lyssnare – välkomna!\nKaffe och fika säljs under hela evenemanget.
URL:https://visanisverige.se/evenemang/sondagsvisa-oppen-scen/
LOCATION:Kustens Hus\, Taubegatan 9\, Göteborg\, 414 55\, Sverige
CATEGORIES:Öppen scen
ATTACH;FMTTYPE=image/jpeg:https://visanisverige.se/wp-content/uploads/2022/10/kustenshus01-scaled.jpg
ORGANIZER;CN="Visans V%C3%A4nner G%C3%B6teborg":MAILTO:visansvannergbg@gmail.com
END:VEVENT
BEGIN:VEVENT
DTSTART;TZID=Europe/Stockholm:20221110T200000
DTEND;TZID=Europe/Stockholm:20221110T200000
DTSTAMP:20260422T223634
CREATED:20220906T074342Z
LAST-MODIFIED:20220906T074342Z
UID:2183-1668110400-1668110400@visanisverige.se
SUMMARY:Ted Bjurwill och Arvid Hedrenius
DESCRIPTION:Ted Bjurwill och Arvid Hedrenius spelar sånger av Ted Bjurwill. I jazzig viston framför 2xsix sångerna på gitarr och sexsträngad bas. Några egna tonsättningar av Fröding\, Ferlin och Martinson kan förekomma. \n******* \nVi serverar fika i pausen för 30:-\nVi öppnar kl 18.00 – kom och se vår fina Cornelisutställning. \nHjärtligt välkomna!
URL:https://visanisverige.se/evenemang/ted-bjurwill-och-arvid-hedrenius/
LOCATION:HökisVisrum/Stockholm\, Hökarängsplan 3\, Stockhom\, 123 56\, Sverige
CATEGORIES:Konsert
ATTACH;FMTTYPE=image/jpeg:https://visanisverige.se/wp-content/uploads/2022/09/bjurwill.jpg
ORGANIZER;CN="H%C3%B6kis Visrum":MAILTO:Info@Hokisvisrum.se
END:VEVENT
BEGIN:VEVENT
DTSTART;TZID=Europe/Stockholm:20221112T180000
DTEND;TZID=Europe/Stockholm:20221112T180000
DTSTAMP:20260422T223634
CREATED:20221012T054624Z
LAST-MODIFIED:20221012T054624Z
UID:2263-1668276000-1668276000@visanisverige.se
SUMMARY:Nordiska folkhögskolans Hanne Juul-stipendiekonsert
DESCRIPTION:Välkommen på en dubbelstipendiekonsert med Hanne Juul-stipendiaterna 2021 och 2022!\n\n17.15 KONSERT MED ELIN CALLMER – Hanne Juul-stipendiaten 2021\nVill man beskriva Elin Callmers konstnärskap är det omöjligt att komma förbi rösten. Kraftfull\, intensiv\, närvarande och orädd. Det går inte att undgå hennes engagemang. Med extraordinär lyskraft och punkens kraft och nerv som fond\, inte sällan med humor och glimten i ögat\, kommunicerar hon utan omsvep starka och berörande sånger om vardagens liv och död. Med debutskivan Frustration i bagaget kommer hon att utdela såväl poetiska som politiska käftsmällar.\nElin Callmer gick Visskolan 2014-16\, och mottog Nordiska folkhögskolans Hanne Juul-stipendium 2021. \n18.00 KONSERT MED HANNE JUUL-STIPENDIATEN 2022\nOffentliggörande av och konsert med årets Hanne Juul-stipendiat! Stipendiet instiftades av Nordiska folkhögskolan i samband med pedagogen\, artisten och den mångåriga ledaren för Nordiska Visskolan\, Hanne Juul\, pensionerades\, och ska gå till en visartist som utvecklat och förnyat visan som konstform. Vem det blir? Det får du veta om du kommer! \nPlats: Mimers teater\, Mimers kulturhus i Kungälv\nTid: 17.15 \nFri entré
URL:https://visanisverige.se/evenemang/nordiska-folkhogskolans-hanne-juul-stipendiekonsert/
LOCATION:Mimers Kulturhus\, Trollhättevägen 4\, Kungälv
ATTACH;FMTTYPE=image/jpeg:https://visanisverige.se/wp-content/uploads/2022/10/Elin-Callmer-scaled.jpg
ORGANIZER;CN="Nordiska Visskolan":MAILTO:maud.lindstrom@nordiska.fhsk.se
END:VEVENT
BEGIN:VEVENT
DTSTART;TZID=Europe/Stockholm:20221116T190000
DTEND;TZID=Europe/Stockholm:20221116T190000
DTSTAMP:20260422T223634
CREATED:20220906T074752Z
LAST-MODIFIED:20220906T074752Z
UID:2148-1668625200-1668625200@visanisverige.se
SUMMARY:Öppen Scen – Hökis Visrum
DESCRIPTION:Nu startar vi upp öppen scen igen\, varje onsdag jämna veckor. Antal är begränsat till 16 personer varav max 10 kan uppträda. Biljett pris är 50 kronor samt en gratisbiljett för den som vill vara volontär och hjälpa till under kvällen. Biljett-priset gäller icke medlemmar i HökisVisrum\,  för medlemmar är det gratis. ett medlemskap kostar 200 sek per kalenderår. \nPå öppen scen kvällen har ni möjlighet att sjunga/spela/läsa dikt under max 10 minuter per person\, vi har en positiv och uppmuntrande attityd och ger varandra uppmuntran och stöd. Det finns möjlighet att köpa fika.. \nHjärtligt välkomna.
URL:https://visanisverige.se/evenemang/oppen-scen-hokis-visrum-3/
LOCATION:HökisVisrum/Stockholm\, Hökarängsplan 3\, Stockhom\, 123 56\, Sverige
CATEGORIES:Öppen scen
ATTACH;FMTTYPE=image/jpeg:https://visanisverige.se/wp-content/uploads/2022/09/hokis-5.jpg
ORGANIZER;CN="H%C3%B6kis Visrum":MAILTO:Info@Hokisvisrum.se
END:VEVENT
BEGIN:VEVENT
DTSTART;TZID=Europe/Stockholm:20221116T194500
DTEND;TZID=Europe/Stockholm:20221116T220000
DTSTAMP:20260422T223634
CREATED:20221002T062722Z
LAST-MODIFIED:20221002T062722Z
UID:2239-1668627900-1668636000@visanisverige.se
SUMMARY:Gunnar Källström
DESCRIPTION:Den mångsidige estradören\, visartisten och författaren Gunnar Källström är aktuell med sitt tionde album Den roliges väg och passar givetvis på att ta vägen om Kustens Hus\, följd av sina vapendragare och multimusiker Martin Olsson och Olof Källström. \nFörband/Ny scen: Camilla Ljung \nBiljetter Förköp: 120kr + 15kr serviceavgift.  I dörren: 120kr (För medlemmar: 50kr)
URL:https://visanisverige.se/evenemang/gunnar-kallstrom/
LOCATION:Kustens Hus\, Taubegatan 9\, Göteborg\, 414 55\, Sverige
CATEGORIES:Konsert
ATTACH;FMTTYPE=image/jpeg:https://visanisverige.se/wp-content/uploads/2022/10/221116-Gunnar-Källström.jpg
ORGANIZER;CN="Visans V%C3%A4nner G%C3%B6teborg":MAILTO:visansvannergbg@gmail.com
END:VEVENT
BEGIN:VEVENT
DTSTART;TZID=Europe/Stockholm:20221117T200000
DTEND;TZID=Europe/Stockholm:20221117T200000
DTSTAMP:20260422T223634
CREATED:20220906T074328Z
LAST-MODIFIED:20220906T074328Z
UID:2186-1668715200-1668715200@visanisverige.se
SUMMARY:Karin Bergström
DESCRIPTION:Karin Bergström sjunger sånger från hjärtat. Efter den kritikerrosade EPn ”För allt vi har kvar” är hon nu aktuell med sin nya ”I varje steg” – sånger kring ögonblick i vardagen som fångar livet. Innerlighet och nerv i visskrud. \n********* \nVi serverar fika i pausen för 30:-\nVi öppnar kl 18.00 – kom och se vår fina Cornelisutställning. \nHjärtligt välkomna!
URL:https://visanisverige.se/evenemang/karin-bergstrom/
LOCATION:HökisVisrum/Stockholm\, Hökarängsplan 3\, Stockhom\, 123 56\, Sverige
CATEGORIES:Konsert
ATTACH;FMTTYPE=image/jpeg:https://visanisverige.se/wp-content/uploads/2022/09/bergstrom.jpg
ORGANIZER;CN="H%C3%B6kis Visrum":MAILTO:Info@Hokisvisrum.se
END:VEVENT
BEGIN:VEVENT
DTSTART;TZID=Europe/Stockholm:20221119T190000
DTEND;TZID=Europe/Stockholm:20221119T220000
DTSTAMP:20260422T223634
CREATED:20221103T120710Z
LAST-MODIFIED:20221107T164913Z
UID:2272-1668884400-1668895200@visanisverige.se
SUMMARY:Visgruppen 4X ger konsert med allsång i Sibräcka Bygdegård\, Tjörn
DESCRIPTION:Sibräcka Bygdegård bjuder in till konsert och allsång med Visgruppen 4X. \nGruppen består av fyra kända musikprofiler från Bohuslän\, Eva Olivia Samuelsson\, Ann-Britt Karlsson samt Birgitta och Anders Gunnarsson. Denna kvartett har ett gediget musikliv i bagaget och har underhållit på ett otal olika scener och evenemang runt om i Norden i över 40 år. Flera gånger har de alla (i olika konstellationer) uppträtt även på Tjörns Visfestival – och nu kommer de äntligen tillbaka. \nDen 19 november uppträder de på Sibräcka Bygdegårds scen. För bokning ring 0703-649407. OBS! Begränsat antal platser. Caféservering under kvällen\nOrdinarie pris 130 kr\, pensionär 90 kr.
URL:https://visanisverige.se/evenemang/visgruppen-4x-ger-konsert-med-allsang-i-sibracka-bygdegard-tjorn/
LOCATION:Sibräcka Bygdegård\, Dyreby 4\, Skärhamn\, 471 95
ATTACH;FMTTYPE=image/jpeg:https://visanisverige.se/wp-content/uploads/2022/10/4x-bild-beskuren.jpg
END:VEVENT
BEGIN:VEVENT
DTSTART;TZID=Europe/Stockholm:20221120T170000
DTEND;TZID=Europe/Stockholm:20221120T190000
DTSTAMP:20260422T223634
CREATED:20221107T131904Z
LAST-MODIFIED:20221107T131904Z
UID:2287-1668963600-1668970800@visanisverige.se
SUMMARY:VisCafé " Vår nya generation"
DESCRIPTION:Elever från Karlshamns Musikskola framför Solosånger\, körsånger och musikaliska inslag. Emil & Emil med vänner tolkar på sitt eget sätt våra visor.
URL:https://visanisverige.se/evenemang/viscafe-var-nya-generation/
LOCATION:Folkets Hus Karlshamn\, Rådhusgatan 14 A\, Karlshamn\, Sverige
CATEGORIES:Konsert
ATTACH;FMTTYPE=image/png:https://visanisverige.se/wp-content/uploads/2022/11/Affisch-Den-nya-generationen-2022-11-20.png
ORGANIZER;CN="Visans V&auml%3Bnner Karlshamn":MAILTO:visvanner@telia.com
END:VEVENT
BEGIN:VEVENT
DTSTART;TZID=Europe/Stockholm:20221123T140000
DTEND;TZID=Europe/Stockholm:20221123T150000
DTSTAMP:20260422T223634
CREATED:20221116T023934Z
LAST-MODIFIED:20221116T023934Z
UID:2302-1669212000-1669215600@visanisverige.se
SUMMARY:Lunchmusik i Grundsunds församlingshem
DESCRIPTION:Välkommen att lyssna till visgruppen 4X som underhåller med lunchmusik i Grundsunds församlingshem. Fri entre. Frivilligt bidrag till kyrkans musikverksamhet. Arrangör: Skaftö Församling
URL:https://visanisverige.se/evenemang/lunchmusik-i-grundsunds-forsamlingshem/
LOCATION:Grundsunds församlingshem\, Lönndalsvägen 30\, Grundsund\, 45179\, Sverige
CATEGORIES:Konsert
ATTACH;FMTTYPE=image/png:https://visanisverige.se/wp-content/uploads/2022/11/4X-lunchmusik.png
ORGANIZER;CN="Skaft%C3%B6 f%C3%B6rsamling":MAILTO:lowe.pettersson@svenskakyrkan.se
END:VEVENT
BEGIN:VEVENT
DTSTART;TZID=Europe/Stockholm:20221124T200000
DTEND;TZID=Europe/Stockholm:20221124T200000
DTSTAMP:20260422T223634
CREATED:20220906T074310Z
LAST-MODIFIED:20220906T074310Z
UID:2189-1669320000-1669320000@visanisverige.se
SUMMARY:Ensamheten DUO
DESCRIPTION:Ensamheten DUO spelar rock på svenska med inspiration från såväl visa som punk! Det är musik om livet\, om kärleken\, om politiken och om sommaren! Ibland är det glädje\, ibland sorg. Precis som livet självt… \nVanligtvis är Ensamheten DUO ett femmannaband men denna kväll gästas Hökis Visrum av bandets sångare och låtskrivare Stefan Langendorf. Med sig har han också Lacki Tselepis på kontrabas. \n****** \nVi serverar fika i pausen för 30:-\nVi öppnar kl 18.00 – kom och se vår fina Cornelisutställning. \nHjärtligt välkomna!
URL:https://visanisverige.se/evenemang/ensamheten-duo/
LOCATION:HökisVisrum/Stockholm\, Hökarängsplan 3\, Stockhom\, 123 56\, Sverige
CATEGORIES:Konsert
ATTACH;FMTTYPE=image/jpeg:https://visanisverige.se/wp-content/uploads/2022/09/ensamheten.jpg
ORGANIZER;CN="H%C3%B6kis Visrum":MAILTO:Info@Hokisvisrum.se
END:VEVENT
BEGIN:VEVENT
DTSTART;TZID=Europe/Stockholm:20221130T190000
DTEND;TZID=Europe/Stockholm:20221130T190000
DTSTAMP:20260422T223634
CREATED:20220906T074728Z
LAST-MODIFIED:20220906T074728Z
UID:2151-1669834800-1669834800@visanisverige.se
SUMMARY:Öppen Scen – Hökis Visrum
DESCRIPTION:Nu startar vi upp öppen scen igen\, varje onsdag jämna veckor. Antal är begränsat till 16 personer varav max 10 kan uppträda. Biljett pris är 50 kronor samt en gratisbiljett för den som vill vara volontär och hjälpa till under kvällen. Biljett-priset gäller icke medlemmar i HökisVisrum\,  för medlemmar är det gratis. ett medlemskap kostar 200 sek per kalenderår. \nPå öppen scen kvällen har ni möjlighet att sjunga/spela/läsa dikt under max 10 minuter per person\, vi har en positiv och uppmuntrande attityd och ger varandra uppmuntran och stöd. Det finns möjlighet att köpa fika.. \nHjärtligt välkomna.
URL:https://visanisverige.se/evenemang/oppen-scen-hokis-visrum-2/
LOCATION:HökisVisrum/Stockholm\, Hökarängsplan 3\, Stockhom\, 123 56\, Sverige
CATEGORIES:Öppen scen
ATTACH;FMTTYPE=image/jpeg:https://visanisverige.se/wp-content/uploads/2022/09/hokis-6.jpg
ORGANIZER;CN="H%C3%B6kis Visrum":MAILTO:Info@Hokisvisrum.se
END:VEVENT
BEGIN:VEVENT
DTSTART;TZID=Europe/Stockholm:20221130T194500
DTEND;TZID=Europe/Stockholm:20221130T220000
DTSTAMP:20260422T223634
CREATED:20221002T062647Z
LAST-MODIFIED:20221003T164416Z
UID:2242-1669837500-1669845600@visanisverige.se
SUMMARY:Ingegerd Wessel & Niclas Abrahamsson
DESCRIPTION:Niclas Abrahamsson: Ord- och tongivande visartist och författare med rotsystemet nedgrävt i den västgötska myllan. Ingegerd Wessel: Rutinerad visartist och låtskrivare med angelägna texter och en röst som går hela vägen in i hjärtat. \nFörband/Ny scen: Lovisa Hagström\n\nBiljetter Förköp: 120kr + 15kr serviceavgift.  I dörren: 120kr (För medlemmar: 50kr)
URL:https://visanisverige.se/evenemang/ingegerd-wessel-niclas-abrahamsson/
LOCATION:Kustens Hus\, Taubegatan 9\, Göteborg\, 414 55\, Sverige
CATEGORIES:Konsert
ATTACH;FMTTYPE=image/jpeg:https://visanisverige.se/wp-content/uploads/2022/10/221130-Ingegerd-och-Niclas.jpg
ORGANIZER;CN="Visans V%C3%A4nner G%C3%B6teborg":MAILTO:visansvannergbg@gmail.com
END:VEVENT
END:VCALENDAR