BEGIN:VCALENDAR
VERSION:2.0
PRODID:-//Visan i Sverige - ECPv6.15.18//NONSGML v1.0//EN
CALSCALE:GREGORIAN
METHOD:PUBLISH
X-ORIGINAL-URL:https://visanisverige.se
X-WR-CALDESC:Händelser för Visan i Sverige
REFRESH-INTERVAL;VALUE=DURATION:PT1H
X-Robots-Tag:noindex
X-PUBLISHED-TTL:PT1H
BEGIN:VTIMEZONE
TZID:Europe/Stockholm
BEGIN:DAYLIGHT
TZOFFSETFROM:+0100
TZOFFSETTO:+0200
TZNAME:CEST
DTSTART:20210328T010000
END:DAYLIGHT
BEGIN:STANDARD
TZOFFSETFROM:+0200
TZOFFSETTO:+0100
TZNAME:CET
DTSTART:20211031T010000
END:STANDARD
BEGIN:DAYLIGHT
TZOFFSETFROM:+0100
TZOFFSETTO:+0200
TZNAME:CEST
DTSTART:20220327T010000
END:DAYLIGHT
BEGIN:STANDARD
TZOFFSETFROM:+0200
TZOFFSETTO:+0100
TZNAME:CET
DTSTART:20221030T010000
END:STANDARD
BEGIN:DAYLIGHT
TZOFFSETFROM:+0100
TZOFFSETTO:+0200
TZNAME:CEST
DTSTART:20230326T010000
END:DAYLIGHT
BEGIN:STANDARD
TZOFFSETFROM:+0200
TZOFFSETTO:+0100
TZNAME:CET
DTSTART:20231029T010000
END:STANDARD
END:VTIMEZONE
BEGIN:VEVENT
DTSTART;TZID=Europe/Stockholm:20220803T193000
DTEND;TZID=Europe/Stockholm:20220803T230000
DTSTAMP:20260423T024040
CREATED:20220801T055758Z
LAST-MODIFIED:20220801T055758Z
UID:2032-1659555000-1659567600@visanisverige.se
SUMMARY:Taube på Kristinehovs malmgård
DESCRIPTION:Kristinehovs malmgård på Södermalm har som ni säkert vet en underbar park. Allt omgivet av frestande blom-\, grill- och kaffedofter. Kanske har ni redan varit där under någon av sommarens visaftnar. Den 3 augusti är det bara Taube som gäller. Uppträder gör Jan-Olof Andersson\, Maria Lindström och Pär Sörman. De fyller augustikvällen med förtrollande musik och sång i Taubes anda.\n\n\nPriset för varje konsert är 150 kronor som betalas vid ingången med kontanter eller Swish. Ingen föranmälan behövs. Insläpp sker 17:30 och konserten pågår mellan 18 – 21. Välkomna till denna fullödiga musikupplevelse på Kristinehov!\n\n\nPär Sörman\n\n\nJan-Olof Andersson\n\n\nMaria Lindström\n\n\nAnsvarig för information i Taubesällskapet är Erling Matz. Skicka gärna funderingar och tips till epost: info@taubesallskapet.se
URL:https://visanisverige.se/evenemang/taube-pa-kristinehovs-malmgard/
LOCATION:Kristinehovs Malmgård\, Kristinehovsgatan 2\, Stockholm\, 11729
ATTACH;FMTTYPE=image/png:https://visanisverige.se/wp-content/uploads/2022/08/Kristinehov.png
END:VEVENT
BEGIN:VEVENT
DTSTART;TZID=Europe/Stockholm:20220805T193000
DTEND;TZID=Europe/Stockholm:20220807T010000
DTSTAMP:20260423T024040
CREATED:20220801T055707Z
LAST-MODIFIED:20220801T055707Z
UID:2036-1659727800-1659834000@visanisverige.se
SUMMARY:Visfestivalen i Lund fyller 20 år!
DESCRIPTION:2022 års festival arrangeras fredag-lördag 5-6 augusti kl 17.30 – 23.00.\nPlats: Kulturens restaurang \nPROGRAM VISFESTIVALEN 2022  – reservation för ändringar. \n​FREDAG 5 AUGUSTI\nAnna Döbling & Wesley Koivumäki \nMaud Lindström \nVisor Naturell \nVisbussen Folke FIN \nGlimra \nResidence \nCopenhagen Slim DK \n​LÖRDAG 6 AUGUSTI\nAnne Eltard DK \nSøren Krogh DK \nMandys nyckel FIN \nVisbussen Folke FIN \nDan Viktor \nFinn Zetterholm \nÅsa Jinder \n​VisFöreningen dansk-svensk visfestivalsfestivalen i Lund arrangeras av i samarbete med Kulturens Restaurang\, Kulturen i Lund\, Kultur Lund\, Sommarlund\, Visit Lund AB\, ABF\, Sparbanken Skåne och Hotell Concordia.\nBILJETTERNA TILL 2022 ÅRS FESTIVAL HITTAR DU HÄR! \n​Biljetter till Visfestivalen i Lund 2022 kostar 350 kr för en dag och 600 kr för två dagar. Serviceavgifter tillkommer\nPensionärer\, ungdomar och studenter får tio procents rabatt på endagspriset. Knäsittande barn gratis. \nOBS: Reservation för programändringar \nBokningslänkar:\nBilletto.se \nTicketmaster.se \n​ \n​
URL:https://visanisverige.se/evenemang/visfestivalen-i-lund-fyller-20-ar/
LOCATION:Kulturens restaurang\, Tegnérsplatsen 6\, Lund\, 223 50
ATTACH;FMTTYPE=image/png:https://visanisverige.se/wp-content/uploads/2022/08/Visfestivalen-Lund.png
END:VEVENT
BEGIN:VEVENT
DTSTART;TZID=Europe/Stockholm:20220805T220000
DTEND;TZID=Europe/Stockholm:20220806T003000
DTSTAMP:20260423T024040
CREATED:20220803T205954Z
LAST-MODIFIED:20220803T205954Z
UID:2068-1659736800-1659745800@visanisverige.se
SUMMARY:Christian Alvad & Anna Wirsén i Laden\, Hald Sø
DESCRIPTION:Christian Alvad och Anna Wirsén spelar i Laden fredag 5 aug. Det blir en konsert som tar dig hela kompassen runt. Små humoristiska berättelser skapar scenografi till en raffinerad blandning av melodier\, sånger och instrumentalnummer. Christian karaktäristiska gitarrspel\, en melodisk strängakrobatik med rötter i folk blues och gospel\, står stadigt i den nordiska traditionen och vävs samman med Annas visor. Här finns närhet i både stämma och uttryck och plats för vemod\, klokskap\, humor och romantik.
URL:https://visanisverige.se/evenemang/christian-alvad-anna-wirsen-i-laden-hald-so/
LOCATION:Laden\, Gamle Almindvej 7\, Viborg\, 8800
CATEGORIES:Konsert
ATTACH;FMTTYPE=image/jpeg:https://visanisverige.se/wp-content/uploads/2022/08/ALU_2751_fix-scaled.jpg
ORGANIZER;CN="Sonny M&ouml%3Bller":MAILTO:smpcnc@gmail.com
END:VEVENT
BEGIN:VEVENT
DTSTART;TZID=Europe/Stockholm:20220806T230000
DTEND;TZID=Europe/Stockholm:20220807T001500
DTSTAMP:20260423T024040
CREATED:20220803T204415Z
LAST-MODIFIED:20220803T204415Z
UID:2059-1659826800-1659831300@visanisverige.se
SUMMARY:Christian Alvad & Anna Wirsén på Musik over Præstø Fjord
DESCRIPTION:Musik over Præstø Fjord är en festival där folkmusik\, dans och visa möts. Här är man tätt på musiken och det skapar en helt speciell stämning och en magisk atmosfär. Christian Alvad och Anna Wirsén spelar i Visetältet på lördagkvällen. Det blir en konsert som tar dig hela kompassen runt. Små humoristiska berättelser skapar scenografi till en raffinerad blandning av melodier\, sånger och instrumentalnummer. Christian karaktäristiska gitarrspel\, en melodisk strängakrobatik med rötter i folk blues och gospel\, står stadigt i den nordiska traditionen och vävs samman med Annas visor. Här finns närhet i både stämma och uttryck och plats för vemod\, klokskap\, humor och romantik. \nSe info om festivalprogram\, praktisk info och priser för festivalpass på www.mopf.dk \n 
URL:https://visanisverige.se/evenemang/christian-alvad-anna-wirsen-pa-musik-over-praesto-fjord/
LOCATION:Musik over Præstø Fjord\, Smidstrupvej 69\, 4733
CATEGORIES:Festival
ATTACH;FMTTYPE=image/jpeg:https://visanisverige.se/wp-content/uploads/2022/08/ALU_2696-fix-low.jpg
ORGANIZER;CN="Musik over Pr&aelig%3Bst&oslash%3B Fjord":MAILTO:kontakt@mopf.dk
END:VEVENT
BEGIN:VEVENT
DTSTART;TZID=Europe/Stockholm:20220807T160000
DTEND;TZID=Europe/Stockholm:20220807T210000
DTSTAMP:20260423T024040
CREATED:20220804T083653Z
LAST-MODIFIED:20220804T083653Z
UID:2077-1659888000-1659906000@visanisverige.se
SUMMARY:Visor för fred
DESCRIPTION:Visor för fred är äntligen tillbaka i Trädgården! I år till förmån för Läkare utan Gränser. \nSöndag 7/8 kl 14.00 – 19.00 på Stora scenen. Inträde: Frivillig Swish till Läkare utan gränser \nPå scen: Elin Callmer\, Mikael Odén\, Jan Hammarlund\, Maja Heurling & Ola Sandström\, Eva Hillered & Jerry Sillah\, Alexander Zuniga Díaz\, Dag Palm\, Lolita Ray & Mats Qwarfordt \nVälkomna!
URL:https://visanisverige.se/evenemang/visor-for-fred/
LOCATION:Vintervikens Trädgård\, Vinterviksvägen 30\, Stockholm
ATTACH;FMTTYPE=image/jpeg:https://visanisverige.se/wp-content/uploads/2022/08/evenemang-fred.jpg
END:VEVENT
BEGIN:VEVENT
DTSTART;TZID=Europe/Stockholm:20220814T140000
DTEND;TZID=Europe/Stockholm:20220814T190000
DTSTAMP:20260423T024040
CREATED:20220629T143256Z
LAST-MODIFIED:20220704T084513Z
UID:1980-1660485600-1660503600@visanisverige.se
SUMMARY:Ruben Nilson Sällskapet firar 40 år
DESCRIPTION:En Ruben Nilson Dag på Jakobsbergs Gård i Bredäng\, Stockholm \nProgram: ”Ruben Nilson och poeterna i Klara” med Kalle Källman – ”Inte bara vanvördiga” med Visentusiasterna – ”Rubens visor på vårt vis” med Gruppen Barfota. \nÖvriga artister: Dua Ancora\, Tobbe Ljunglöf\, Kenneth Weissglas frejd\, Lasse Zackrisson\, Fred Arne Högberg\, Torbjörn Malm och Lars-Åke Andersson.                                                            FRI ENTRÈ \nUtställning av Rubenskonst\, visning av Karsten Wedels film ”Visdiktaren\, plåtslagaren och konstnären Ruben Nilson” samt försäljning av böcker och skivor. Caféservering till fördelaktiga priser.      VÄLKOMNA!
URL:https://visanisverige.se/evenemang/ruben-nilson-sallskapet-firar-40-ar/
ATTACH;FMTTYPE=image/jpeg:https://visanisverige.se/wp-content/uploads/2022/06/ruben-puff.jpg
ORGANIZER;CN="Ruben Nilson S&auml%3Bllskapet i samarbete med Jakobsbergs G&aring%3Brd":MAILTO:laa.andersson@telia.com
END:VEVENT
BEGIN:VEVENT
DTSTART;TZID=Europe/Stockholm:20220821T200000
DTEND;TZID=Europe/Stockholm:20220821T210000
DTSTAMP:20260423T024040
CREATED:20220810T172958Z
LAST-MODIFIED:20220810T172958Z
UID:2090-1661112000-1661115600@visanisverige.se
SUMMARY:Musik i sommarkväll - Karl Fimmerstad
DESCRIPTION:Karl Fimmerstad presenterar\, tillsammans med Johan Ludvig Rask\, ett konsertprogram baserat på årets skiftningar. Om längtan efter något nytt men också efter något tryggt och välkänt. \nMed texter fyllda av lika delar svärta och omtänksamhet tar Karl med sig publiken från vardag och fest\, via charterturism och världsomseglingar\, till insikter och reflektioner kring vad det innebär att vara med- eller motmänniska. Tillsammans med kusinen och multiinstrumentalisten Johan Ludvig Rask framförs visor tonsatta på ett sätt du inte har hört tidigare.
URL:https://visanisverige.se/evenemang/musik-i-sommarkvall-karl-fimmerstad/
LOCATION:Beatebergs kyrka\, Moholm\, 549 93
CATEGORIES:Konsert
ATTACH;FMTTYPE=image/jpeg:https://visanisverige.se/wp-content/uploads/2022/08/7AB29E57-CE04-4F52-AAEE-77920643FC68.jpeg
END:VEVENT
BEGIN:VEVENT
DTSTART;TZID=Europe/Stockholm:20220828T170000
DTEND;TZID=Europe/Stockholm:20220828T190000
DTSTAMP:20260423T024040
CREATED:20220714T170133Z
LAST-MODIFIED:20220714T170133Z
UID:2013-1661706000-1661713200@visanisverige.se
SUMMARY:Visor på Vigrum
DESCRIPTION:Niclas Abrahamsson\nOrd & tongivande visartist och författare med rotsystemet nedgrävt i den västgötska myllan \nIngegerd Wessel\nRutinerad visartist och låtskrivare med angelägna texter och en röst som går hela vägen in i hjärtat
URL:https://visanisverige.se/evenemang/visor-pa-vigrum/
LOCATION:Hovby\, Vigrum\, Hovby Vigrum\, Lidköping\, 53192
CATEGORIES:Konsert
ATTACH;FMTTYPE=image/jpeg:https://visanisverige.se/wp-content/uploads/2022/07/niclas_igge-low.jpg
ORGANIZER;CN="Vigrum Konstform":MAILTO:info@vigrum.com
END:VEVENT
END:VCALENDAR