BEGIN:VCALENDAR
VERSION:2.0
PRODID:-//Visan i Sverige - ECPv6.15.18//NONSGML v1.0//EN
CALSCALE:GREGORIAN
METHOD:PUBLISH
X-ORIGINAL-URL:https://visanisverige.se
X-WR-CALDESC:Händelser för Visan i Sverige
REFRESH-INTERVAL;VALUE=DURATION:PT1H
X-Robots-Tag:noindex
X-PUBLISHED-TTL:PT1H
BEGIN:VTIMEZONE
TZID:Europe/Stockholm
BEGIN:DAYLIGHT
TZOFFSETFROM:+0100
TZOFFSETTO:+0200
TZNAME:CEST
DTSTART:20250330T010000
END:DAYLIGHT
BEGIN:STANDARD
TZOFFSETFROM:+0200
TZOFFSETTO:+0100
TZNAME:CET
DTSTART:20251026T010000
END:STANDARD
BEGIN:DAYLIGHT
TZOFFSETFROM:+0100
TZOFFSETTO:+0200
TZNAME:CEST
DTSTART:20260329T010000
END:DAYLIGHT
BEGIN:STANDARD
TZOFFSETFROM:+0200
TZOFFSETTO:+0100
TZNAME:CET
DTSTART:20261025T010000
END:STANDARD
BEGIN:DAYLIGHT
TZOFFSETFROM:+0100
TZOFFSETTO:+0200
TZNAME:CEST
DTSTART:20270328T010000
END:DAYLIGHT
BEGIN:STANDARD
TZOFFSETFROM:+0200
TZOFFSETTO:+0100
TZNAME:CET
DTSTART:20271031T010000
END:STANDARD
END:VTIMEZONE
BEGIN:VEVENT
DTSTART;TZID=Europe/Stockholm:20260517T160000
DTEND;TZID=Europe/Stockholm:20260517T180000
DTSTAMP:20260419T155536
CREATED:20260412T075031Z
LAST-MODIFIED:20260412T075031Z
UID:5091-1779033600-1779040800@visanisverige.se
SUMMARY:Tårar och Tändstickor
DESCRIPTION:Gruppen Tårar och Tändstickor från Nordiska Visskolan framför ett program med eget materiel och kända visor. Vår satsning på ungdomarna är otroligt viktig.
URL:https://visanisverige.se/evenemang/tarar-och-tandstickor/
LOCATION:Lokstallarna\, Prinsgatan 43\, Karlshamn\, 37433
CATEGORIES:Konsert
ATTACH;FMTTYPE=image/png:https://visanisverige.se/wp-content/uploads/2026/04/Tarar-o-Tandstickor-maj-2026.png
ORGANIZER;CN="Visans V&auml%3Bnner Karlshamn":MAILTO:visvanner@telia.com
END:VEVENT
BEGIN:VEVENT
DTSTART;TZID=Europe/Stockholm:20260522T190000
DTEND;TZID=Europe/Stockholm:20260522T220000
DTSTAMP:20260419T155536
CREATED:20260322T210227Z
LAST-MODIFIED:20260322T210227Z
UID:5026-1779476400-1779487200@visanisverige.se
SUMMARY:Vandringsmän far Söderut
DESCRIPTION:Vandringsmän besöker Södermalm i Stockholm med ett visprogram framfört av en trio med 131 års professionell scenerfarenhet.
URL:https://visanisverige.se/evenemang/vandringsman-far-soderut/
LOCATION:Skölpaddsön\, Bysistorget 2\, Stockholm
CATEGORIES:Konsert
ATTACH;FMTTYPE=image/jpeg:https://visanisverige.se/wp-content/uploads/2026/03/Vandringsman-pa-Hokis.jpg
ORGANIZER;CN="Sk%C3%B6ldpadds%C3%B6n":MAILTO:info@skoldpaddson.se
END:VEVENT
BEGIN:VEVENT
DTSTART;TZID=Europe/Stockholm:20260613T160000
DTEND;TZID=Europe/Stockholm:20260613T210000
DTSTAMP:20260419T155536
CREATED:20260228T091611Z
LAST-MODIFIED:20260228T091611Z
UID:4954-1781366400-1781384400@visanisverige.se
SUMMARY:Ale visfestival
DESCRIPTION:Välkommen till andra upplagan av Ale visfestival! Efter förra årets premiär återkommer vi nu med ett härligt\, varierat program. \n\n\n\n\n\n\n\n\n\n\nAlbumaktuella Claes Pihl bjuder på nya visor som svänger och sladdar bland jazz\, folkmusik och rockabilly. Johan Frendberg ger oss både visklassiker och egenskrivet samt smakprov ur sin hyllningsföreställning till Peter Le Marc. Stinas visor spelar upp sina folkmusikdoftande alster och vistolkaren Hannes Westlund leder allsången samt bjuder in ett antal hemliga gäster. Allt är bäddat för en fantastisk festivalkväll på mysiga Café Torpet\, där både grillen och våffeljärnet kommer att gå varmt. \nDag: 13 juni\nTid: 16-21\nPlats: Café Torpet\nEntrépris: 295 kr plus serviceavgift\nDirektförsäljning i dörren i mån av plats \nKöp din biljett här: https://www.biljettkiosken.se/alevisfestival \nVi rekommenderar att boka bord om du vill äta.\nMaila till info@cafétorpet.se och ange ditt biljettbokningsnummer.
URL:https://visanisverige.se/evenemang/ale-visfestival-2/
LOCATION:Café Torpet\, Skepplanda\, Slittorp 300\, Skepplanda\, 446 92
CATEGORIES:Konsert
ATTACH;FMTTYPE=image/jpeg:https://visanisverige.se/wp-content/uploads/2026/02/645469345_122166844694779579_7942700379440842809_n.jpg
END:VEVENT
BEGIN:VEVENT
DTSTART;TZID=Europe/Stockholm:20260629T190000
DTEND;TZID=Europe/Stockholm:20260629T210000
DTSTAMP:20260419T155536
CREATED:20260403T085553Z
LAST-MODIFIED:20260411T135129Z
UID:5054-1782759600-1782766800@visanisverige.se
SUMMARY:Nordliga vindar – nordisk turné
DESCRIPTION:Visturnén Nordliga Vindar gör nedslag på Kustens Hus i Göteborg! Följ med norska Liv Kreken\, svenska Katarina Hemlin och det finlandssvenska folkrockbandet Mandys Nyckel på en konsert där vi firar vår frihet att uttrycka oss fritt\, som människor före kön\, och knyter an till vår gemensamma nordiska berättartradition. ”Visa” anses ofta vara en egen genre\, men är det inte i grund och botten bara berättande text satt till musik? Och i så fall är inte all sjungen text i sin naknaste form en visa? \nBiljetter hittar du under DETALJER (här nedan eller till höger beroende på om du är på mobilen eller datorn). \n  \nMer om oss: \nLiv Kreken \nLiv Kreken er ein norsk songar\, komponist og tekstforfattar med eit særmerkt uttrykk. Kreken er kjend for eit sterkt forteljande nærvær og finurlige tekstar og for ei formidlingsevne som gjer både humor og alvor truverdige. Sjangermessig spenner ho frå rolege viser i pop- og jazzstil til spansk gitar og kabaret. Kreken vert omtalt som ein artist med både melodiar og lyrikk av høg klasse og får ros for gode historiar. \nKatarina Hemlin \nMjuk värme och kargt vemod\, grubblerier och underfundigheter. Katarina Hemlins sånger är skärvor ur verkligheten\, ibland vassa\, ibland lena och blänkande. I föreningen mellan röst och gitarrspel skapar hon i ena stunden suggestivt\, vackert allvar och i nästa kavat punk\, men alltid med berättandet i fokus. Hon står också bakom hemstadens 400-årsjubileum låt: ”Vi vill leva\, vi vill dö i Göteborg”. \nMandys Nyckel \nFolkrockbandet Mandys Nyckel spelar sin egen musik med sitt eget säregna sound. Publiken förs in i ett fräscht\, nordiskt ljudlandskap som genomsyras av en empatisk och optimistisk livssyn. Piano\, violin\, dragspel\, gitarr\, bas\, trummor och sångstämmor är arrangerade med eftertanke för att stödja varann. Mandys Nyckel har uppträtt runtom i Finland under tio års tid och producerat fyra studioalbum\, det senaste albumet “Jag har varit här förut” med Tomas Niemistö som producent kom ut i oktober 2025.
URL:https://visanisverige.se/evenemang/nordliga-vindar-nordisk-turne/
LOCATION:Kustens Hus\, Taubegatan 9\, Göteborg\, 414 55\, Sverige
CATEGORIES:Konsert
ATTACH;FMTTYPE=image/png:https://visanisverige.se/wp-content/uploads/2026/04/Billetto-bild.png
ORGANIZER;CN="Katarina Hemlin":MAILTO:katarinahemlinsmusik@gmail.com
END:VEVENT
BEGIN:VEVENT
DTSTART;TZID=Europe/Stockholm:20260714T190000
DTEND;TZID=Europe/Stockholm:20260714T210000
DTSTAMP:20260419T155536
CREATED:20260410T203648Z
LAST-MODIFIED:20260410T203648Z
UID:5075-1784055600-1784062800@visanisverige.se
SUMMARY:Visafton i Visskolans tecken
DESCRIPTION:Varmt välkomna till en varierad och färgstark viskonsert med tidigare elever från Nordiska Visskolan!\nSex akter\, med fikapaus i mitten\, i Sveriges vackraste folkpark Flunsåsparken\, där inträdet ALLTID är gratis! Vi ses där! \n  \nKvällens artister: \nEl Raffe  \nEl Raffe\, en stolt tredjedel av Klangeriet\, är något helt unikt på visscenen. Med varm röst\, persiskt melodispråk och rytmisk flamencogitarr skapar han sin egen ljudvärld där visor från Mellanöstern\, Sverige och Spanien får nytt liv. Hör klassiker\, egenskrivna sånger och inte minst texter av Karin Boye stöpta i El Raffes alldeles egen form. \nHannes Westlund  \nMed rötter i Skepplanda såväl som Nordiska Visskolan (examen 2023) ägnar sig Hannes åt att ta vara på och levandegöra den svenska vis-skatten. Med sin starka närvaro på scenen tolkar han visor som berör på djupet\, här finns både hjärtliga skratt och tårar. En upplevelse ni inte vill missa! \nBrita Lodmark \nBrita är en ung artist från Göteborg som genom sin musik bjuder in lyssnarna till en värld av autentiska känslor och upplevelser. Att vara vuxen men fortfarande ett barn\, nyfiken men samtidigt rädd\, fri men ändå begränsad är några teman som dyker upp i texterna. Brita är ute på sommarturne med sitt debutalbum och tillsammans med medmusikanter får man hänga med i en härlig\, intim och rätt så funky och nära konsert. \nChristoph Oesterreich \nChristoph är vissångaren som gärna tolkar visor som har förankring i livets realiteter och vedermödor där både döden och humorn trängs om det poetiska utrymmet. Inlevelsefullt får storheter som Bellman\, Cornelis och Ulf Lundell m.fl. hans personliga tolkning. Ofta letar han fram mer eller mindre kända pärlor ur olika artisters låtskatt för att ta med publiken på en engagerande resa – för i mötet med publiken är mottot att både roa och oroa. \nSusanna Hillbom \nSusanna Hillbom är sjuksköterska \, vårdlärare och massör. Parallellt med dessa jobb har hon sjungit\, målat och skrivit visor och böcker. Vård\, lidande\, tillfrisknande och politisk kamp har varit hennes vardag och också blivit innehållet i hennes alster. Efter ett ökat engagemang i RFSU\, riksförbundet för sexuell upplysning\, skrev hon musikteaterföreställningen Tapper och vred som spelades runt om i landet. Hennes sånger präglas av tydlighet och humor men också av folkbildning samt en önskan om att vi ska sjunga med. \nLiv Pierrou \nLiv Pierrou är musiker och textmänniska i lika delar. Hon komponerar och sjunger med influenser från indie-folk\, americana\, jazz och visa. Pierrou har en förkärlek för varma\, cinematiska ljudbilder som leker med rytmer och stämsång.
URL:https://visanisverige.se/evenemang/visafton-i-visskolans-tecken/
LOCATION:Flunsåsparken\, Sockenvägen 24\, Göteborg\, 400 72
CATEGORIES:Konsert
ATTACH;FMTTYPE=image/png:https://visanisverige.se/wp-content/uploads/2026/04/Visafton-2026.png
ORGANIZER;CN="Klangeriet":MAILTO:klangeriet.info@gmail.com
END:VEVENT
BEGIN:VEVENT
DTSTART;TZID=Europe/Stockholm:20260812T190000
DTEND;TZID=Europe/Stockholm:20260812T220000
DTSTAMP:20260419T155536
CREATED:20260322T210158Z
LAST-MODIFIED:20260322T210158Z
UID:5033-1786561200-1786572000@visanisverige.se
SUMMARY:Vandringsmän far Norrut
DESCRIPTION:Vandringsmän – landets mest legendariska poptrio med en genomsnittsungdom på 73\,2 – kör en ball konsert på krogen.
URL:https://visanisverige.se/evenemang/vandringsman-far-norrut/
LOCATION:Norrport\, Roslagsgatan 38\, Stockholm\, 113 55
CATEGORIES:Konsert
ATTACH;FMTTYPE=image/jpeg:https://visanisverige.se/wp-content/uploads/2026/03/Kristinehov-2023.jpg
ORGANIZER;CN="Norrport":MAILTO:info@norrport.se
END:VEVENT
BEGIN:VEVENT
DTSTART;TZID=Europe/Stockholm:20260814T170000
DTEND;TZID=Europe/Stockholm:20260814T230000
DTSTAMP:20260419T155536
CREATED:20260416T094211Z
LAST-MODIFIED:20260417T142529Z
UID:5096-1786726800-1786748400@visanisverige.se
SUMMARY:Stallarholmens visdagar
DESCRIPTION:Leif Brixmark & New Holland Band
URL:https://visanisverige.se/evenemang/stallarholmens-visdagar/
LOCATION:Mälsåkers slott\, Mälsåkers slott\, Stallarholmen
ATTACH;FMTTYPE=image/jpeg:https://visanisverige.se/wp-content/uploads/2026/04/LEIF-BRIXMARK-Foto-Ake-Lindberg.jpg
END:VEVENT
END:VCALENDAR