BEGIN:VCALENDAR
VERSION:2.0
PRODID:-//Visan i Sverige - ECPv6.15.18//NONSGML v1.0//EN
CALSCALE:GREGORIAN
METHOD:PUBLISH
X-WR-CALNAME:Visan i Sverige
X-ORIGINAL-URL:https://visanisverige.se
X-WR-CALDESC:Händelser för Visan i Sverige
REFRESH-INTERVAL;VALUE=DURATION:PT1H
X-Robots-Tag:noindex
X-PUBLISHED-TTL:PT1H
BEGIN:VTIMEZONE
TZID:Europe/Stockholm
BEGIN:DAYLIGHT
TZOFFSETFROM:+0100
TZOFFSETTO:+0200
TZNAME:CEST
DTSTART:20250330T010000
END:DAYLIGHT
BEGIN:STANDARD
TZOFFSETFROM:+0200
TZOFFSETTO:+0100
TZNAME:CET
DTSTART:20251026T010000
END:STANDARD
BEGIN:DAYLIGHT
TZOFFSETFROM:+0100
TZOFFSETTO:+0200
TZNAME:CEST
DTSTART:20260329T010000
END:DAYLIGHT
BEGIN:STANDARD
TZOFFSETFROM:+0200
TZOFFSETTO:+0100
TZNAME:CET
DTSTART:20261025T010000
END:STANDARD
BEGIN:DAYLIGHT
TZOFFSETFROM:+0100
TZOFFSETTO:+0200
TZNAME:CEST
DTSTART:20270328T010000
END:DAYLIGHT
BEGIN:STANDARD
TZOFFSETFROM:+0200
TZOFFSETTO:+0100
TZNAME:CET
DTSTART:20271031T010000
END:STANDARD
END:VTIMEZONE
BEGIN:VEVENT
DTSTART;TZID=Europe/Stockholm:20260714T190000
DTEND;TZID=Europe/Stockholm:20260714T210000
DTSTAMP:20260419T190502
CREATED:20260410T203648Z
LAST-MODIFIED:20260410T203648Z
UID:5075-1784055600-1784062800@visanisverige.se
SUMMARY:Visafton i Visskolans tecken
DESCRIPTION:Varmt välkomna till en varierad och färgstark viskonsert med tidigare elever från Nordiska Visskolan!\nSex akter\, med fikapaus i mitten\, i Sveriges vackraste folkpark Flunsåsparken\, där inträdet ALLTID är gratis! Vi ses där! \n  \nKvällens artister: \nEl Raffe  \nEl Raffe\, en stolt tredjedel av Klangeriet\, är något helt unikt på visscenen. Med varm röst\, persiskt melodispråk och rytmisk flamencogitarr skapar han sin egen ljudvärld där visor från Mellanöstern\, Sverige och Spanien får nytt liv. Hör klassiker\, egenskrivna sånger och inte minst texter av Karin Boye stöpta i El Raffes alldeles egen form. \nHannes Westlund  \nMed rötter i Skepplanda såväl som Nordiska Visskolan (examen 2023) ägnar sig Hannes åt att ta vara på och levandegöra den svenska vis-skatten. Med sin starka närvaro på scenen tolkar han visor som berör på djupet\, här finns både hjärtliga skratt och tårar. En upplevelse ni inte vill missa! \nBrita Lodmark \nBrita är en ung artist från Göteborg som genom sin musik bjuder in lyssnarna till en värld av autentiska känslor och upplevelser. Att vara vuxen men fortfarande ett barn\, nyfiken men samtidigt rädd\, fri men ändå begränsad är några teman som dyker upp i texterna. Brita är ute på sommarturne med sitt debutalbum och tillsammans med medmusikanter får man hänga med i en härlig\, intim och rätt så funky och nära konsert. \nChristoph Oesterreich \nChristoph är vissångaren som gärna tolkar visor som har förankring i livets realiteter och vedermödor där både döden och humorn trängs om det poetiska utrymmet. Inlevelsefullt får storheter som Bellman\, Cornelis och Ulf Lundell m.fl. hans personliga tolkning. Ofta letar han fram mer eller mindre kända pärlor ur olika artisters låtskatt för att ta med publiken på en engagerande resa – för i mötet med publiken är mottot att både roa och oroa. \nSusanna Hillbom \nSusanna Hillbom är sjuksköterska \, vårdlärare och massör. Parallellt med dessa jobb har hon sjungit\, målat och skrivit visor och böcker. Vård\, lidande\, tillfrisknande och politisk kamp har varit hennes vardag och också blivit innehållet i hennes alster. Efter ett ökat engagemang i RFSU\, riksförbundet för sexuell upplysning\, skrev hon musikteaterföreställningen Tapper och vred som spelades runt om i landet. Hennes sånger präglas av tydlighet och humor men också av folkbildning samt en önskan om att vi ska sjunga med. \nLiv Pierrou \nLiv Pierrou är musiker och textmänniska i lika delar. Hon komponerar och sjunger med influenser från indie-folk\, americana\, jazz och visa. Pierrou har en förkärlek för varma\, cinematiska ljudbilder som leker med rytmer och stämsång.
URL:https://visanisverige.se/evenemang/visafton-i-visskolans-tecken/
LOCATION:Flunsåsparken\, Sockenvägen 24\, Göteborg\, 400 72
CATEGORIES:Konsert
ATTACH;FMTTYPE=image/png:https://visanisverige.se/wp-content/uploads/2026/04/Visafton-2026.png
ORGANIZER;CN="Klangeriet":MAILTO:klangeriet.info@gmail.com
END:VEVENT
BEGIN:VEVENT
DTSTART;TZID=Europe/Stockholm:20260812T190000
DTEND;TZID=Europe/Stockholm:20260812T220000
DTSTAMP:20260419T190502
CREATED:20260322T210158Z
LAST-MODIFIED:20260322T210158Z
UID:5033-1786561200-1786572000@visanisverige.se
SUMMARY:Vandringsmän far Norrut
DESCRIPTION:Vandringsmän – landets mest legendariska poptrio med en genomsnittsungdom på 73\,2 – kör en ball konsert på krogen.
URL:https://visanisverige.se/evenemang/vandringsman-far-norrut/
LOCATION:Norrport\, Roslagsgatan 38\, Stockholm\, 113 55
CATEGORIES:Konsert
ATTACH;FMTTYPE=image/jpeg:https://visanisverige.se/wp-content/uploads/2026/03/Kristinehov-2023.jpg
ORGANIZER;CN="Norrport":MAILTO:info@norrport.se
END:VEVENT
BEGIN:VEVENT
DTSTART;TZID=Europe/Stockholm:20260814T170000
DTEND;TZID=Europe/Stockholm:20260814T230000
DTSTAMP:20260419T190502
CREATED:20260416T094211Z
LAST-MODIFIED:20260417T142529Z
UID:5096-1786726800-1786748400@visanisverige.se
SUMMARY:Stallarholmens visdagar
DESCRIPTION:Leif Brixmark & New Holland Band
URL:https://visanisverige.se/evenemang/stallarholmens-visdagar/
LOCATION:Mälsåkers slott\, Mälsåkers slott\, Stallarholmen
ATTACH;FMTTYPE=image/jpeg:https://visanisverige.se/wp-content/uploads/2026/04/LEIF-BRIXMARK-Foto-Ake-Lindberg.jpg
END:VEVENT
END:VCALENDAR