BEGIN:VCALENDAR
VERSION:2.0
PRODID:-//Visan i Sverige - ECPv6.15.18//NONSGML v1.0//EN
CALSCALE:GREGORIAN
METHOD:PUBLISH
X-ORIGINAL-URL:https://visanisverige.se
X-WR-CALDESC:Händelser för Visan i Sverige
REFRESH-INTERVAL;VALUE=DURATION:PT1H
X-Robots-Tag:noindex
X-PUBLISHED-TTL:PT1H
BEGIN:VTIMEZONE
TZID:Europe/Stockholm
BEGIN:DAYLIGHT
TZOFFSETFROM:+0100
TZOFFSETTO:+0200
TZNAME:CEST
DTSTART:20230326T010000
END:DAYLIGHT
BEGIN:STANDARD
TZOFFSETFROM:+0200
TZOFFSETTO:+0100
TZNAME:CET
DTSTART:20231029T010000
END:STANDARD
BEGIN:DAYLIGHT
TZOFFSETFROM:+0100
TZOFFSETTO:+0200
TZNAME:CEST
DTSTART:20240331T010000
END:DAYLIGHT
BEGIN:STANDARD
TZOFFSETFROM:+0200
TZOFFSETTO:+0100
TZNAME:CET
DTSTART:20241027T010000
END:STANDARD
BEGIN:DAYLIGHT
TZOFFSETFROM:+0100
TZOFFSETTO:+0200
TZNAME:CEST
DTSTART:20250330T010000
END:DAYLIGHT
BEGIN:STANDARD
TZOFFSETFROM:+0200
TZOFFSETTO:+0100
TZNAME:CET
DTSTART:20251026T010000
END:STANDARD
END:VTIMEZONE
BEGIN:VEVENT
DTSTART;TZID=Europe/Stockholm:20241002T210000
DTEND;TZID=Europe/Stockholm:20241002T230000
DTSTAMP:20260421T165337
CREATED:20240904T174318Z
LAST-MODIFIED:20240904T174318Z
UID:3569-1727902800-1727910000@visanisverige.se
SUMMARY:Sanna Hogman – God morgon ADHD
DESCRIPTION:Varmt välkommen till Visans Vänner och Kustens Hus. Göteborgs scen för traditionella och moderna visor i en nordisk samklang.\n\nSANNA HOGMAN\nEn föreställning\, en konsert och en berättelse. Tillsammans med jazzpianisten John Holmström tar Sanna Hogman med oss på en hisnande resa mellan lyriska toner i visans land och pinsamma\, roliga\, galna\, sorgliga och fina stunder från sitt liv med diagnosen ADHD. \nFörband/Ny scen: Isabelle Johansson \n\n—————-Adress: Taubegatan 9Kaffe och fika säljs i pausen.—————-Arrangör: Sällskapet Visans Vänner i GöteborgMed stöd från Göteborgs Stad\, Kulturrådet\, Studieförbundet Vuxenskolan
URL:https://visanisverige.se/evenemang/sanna-hogman-god-morgon-adhd/
LOCATION:Kustens Hus\, Taubegatan 9\, Göteborg\, 414 55\, Sverige
CATEGORIES:Konsert
ATTACH;FMTTYPE=image/jpeg:https://visanisverige.se/wp-content/uploads/2024/09/241002-Sanna.jpg
ORGANIZER;CN="Visans V%C3%A4nner G%C3%B6teborg":MAILTO:visansvannergbg@gmail.com
END:VEVENT
BEGIN:VEVENT
DTSTART;TZID=Europe/Stockholm:20241016T210000
DTEND;TZID=Europe/Stockholm:20241016T230000
DTSTAMP:20260421T165337
CREATED:20240904T174300Z
LAST-MODIFIED:20240904T174300Z
UID:3575-1729112400-1729119600@visanisverige.se
SUMMARY:Så sjung mens himlen är ljus – Olle Adolphson 90år
DESCRIPTION:Varmt välkommen till Visans Vänner och Kustens Hus. Göteborgs scen för traditionella och moderna visor i en nordisk samklang.\nOLLE ADOLPHSON 90år\nDet är tveksamt om Olle själv någonsin satt sin fot på Kustens Hus\, men hans visor har framförts flitigt på scenen genom åren. Det är dags att hylla Olle med en helkväll. Jan Malmborg\, författare till den Augustnominerade biografin Trubbel berättar om visartistens liv och gärning. Sångaren och den utsökta gitarristen Alexander Zuniga Diaz tolkar Adolphson\, och medlemmar ur Göteborgs Kammarkör framför några av hans visor i fina arrangemang.\n—————-Adress: Taubegatan 9Kaffe och fika säljs i pausen.—————-Arrangör: Sällskapet Visans Vänner i GöteborgMed stöd från Göteborgs Stad\, Kulturrådet\, Studieförbundet Vuxenskolan
URL:https://visanisverige.se/evenemang/sa-sjung-mens-himlen-ar-ljus-olle-adolphson-90ar/
LOCATION:Kustens Hus\, Taubegatan 9\, Göteborg\, 414 55\, Sverige
CATEGORIES:Konsert
ATTACH;FMTTYPE=image/jpeg:https://visanisverige.se/wp-content/uploads/2024/09/241016-Olle-90ar.jpg
ORGANIZER;CN="Visans V%C3%A4nner G%C3%B6teborg":MAILTO:visansvannergbg@gmail.com
END:VEVENT
BEGIN:VEVENT
DTSTART;TZID=Europe/Stockholm:20241020T130000
DTEND;TZID=Europe/Stockholm:20241020T220000
DTSTAMP:20260421T165337
CREATED:20240910T154919Z
LAST-MODIFIED:20240910T154919Z
UID:3637-1729429200-1729461600@visanisverige.se
SUMMARY:Körworkshop och konsert med Stinas visor
DESCRIPTION:Körworkshop och konsert \nVälkommen till en vis- och folkmusikdag med bandet Stinas visor! \nDu får prova på traditionell och nyskriven musik i visans och folkmusikens tecken. Vi avslutar dagen med en gemensam konsert. Du anmäler dig som enskild körmedlem men vi ser gärna att många från samma kör kommer tillsammans. Sprid gärna ordet så vi blir ett stort gäng! \nVi erbjuder: \n*Kör-workshop med Stina Klintbom och Andreas Nordanstig från Stinas visor. \nNi får lära er några traditionella folkvisor och några av Stinas nyskrivna visor. \nVi jobbar med stämsång\, sångteknik och text-interpretation. \n*Konsert tillsammans med Stinas visor på kvällen där ni får visa vad ni lärt er! \nLunch ingår i priset! Medelhavsbuffé och salladstallrik samt fika. \nSå här kan det se ut under en kör-konsert med Stinas visor: \nhttps://youtu.be/1fdgh9hOpX0?si=PCC9HyNgwjVC-Bvw \nAnmälan med namn och mailadress samt stämtillhörighet och eventuella allergier till Bilda senast 7 oktober. I mån av plats kan det finnas möjlighet till efter-anmälan. När du anmält dig får du info om betalning. \n\n20 oktober på Ljungskilegården \nPreliminära tider: \nKörworkshop del 1 kl 11.00—12.00 \nLunch \nKörworkshop del 2 kl 13.00-15.00 \nPAUS medan bandet soundcheckar \nSoundcheck/genrep kör och band : 16.30-18.00 \nKonsert: 19.00-20.00 \n  \n\n\nLedare\nStina Klintbom\n\nPris\n200 kr inklusive fika
URL:https://visanisverige.se/evenemang/korworkshop-och-konsert-med-stinas-visor/
LOCATION:Ljungskilegården\, Vällebergsvägen 2\, LJUNGSKILE\, 45930
CATEGORIES:Konsert
ATTACH;FMTTYPE=image/png:https://visanisverige.se/wp-content/uploads/2024/09/Korkonsert-med-Stinas-visor-2.png
END:VEVENT
BEGIN:VEVENT
DTSTART;TZID=Europe/Stockholm:20241024T190000
DTEND;TZID=Europe/Stockholm:20241024T190000
DTSTAMP:20260421T165337
CREATED:20241020T093127Z
LAST-MODIFIED:20241020T093144Z
UID:3805-1729796400-1729796400@visanisverige.se
SUMMARY:Svenska Visakademien 25-årsjubileum
DESCRIPTION:Visakademien fyller 25 år och jubilerar med en viskavalkad på Stallet i Stockholm torsdag den 24 oktober kl 19.00. Ett unikt tillfälle att se många av Sveriges viktigaste nyckelpersoner och mest framstående artister inom visans område\, alla ledamöter i Visakademien\, på samma scen. \nMedverkande: David Anthin\, Martin Bagge\, Marie Bergman\, Eva Borgström\, Monica Dominique\, Jan Hammarlund\, Hanne Juul\, Gunnar Källström\, Sven Kristersson\, Maria Lindström\, Maud Lindström\, Ulla-Carin Nyquist\, Marita Rhedin\, Ola Sandström\, Karin Strand\, Pär Sörman\, Lena Willemark\, Finn Zetterholm \nSvenska Visakademien bildades för att stödja den svenskspråkiga visan och sången\, för att initiera och genomföra seminarier\, symposier\, konserter och för att vara en mötesplats för samtal kring visan med diskussioner och debatter.
URL:https://visanisverige.se/evenemang/svenska-visakademien-25-arsjubileum/
LOCATION:Stallet\, Stallgatan 7\, Stockholm\, 11148
CATEGORIES:Konsert
ATTACH;FMTTYPE=image/jpeg:https://visanisverige.se/wp-content/uploads/2024/10/visakademien-1.jpg
END:VEVENT
END:VCALENDAR