BEGIN:VCALENDAR
VERSION:2.0
PRODID:-//Visan i Sverige - ECPv6.15.18//NONSGML v1.0//EN
CALSCALE:GREGORIAN
METHOD:PUBLISH
X-ORIGINAL-URL:https://visanisverige.se
X-WR-CALDESC:Händelser för Visan i Sverige
REFRESH-INTERVAL;VALUE=DURATION:PT1H
X-Robots-Tag:noindex
X-PUBLISHED-TTL:PT1H
BEGIN:VTIMEZONE
TZID:Europe/Stockholm
BEGIN:DAYLIGHT
TZOFFSETFROM:+0100
TZOFFSETTO:+0200
TZNAME:CEST
DTSTART:20230326T010000
END:DAYLIGHT
BEGIN:STANDARD
TZOFFSETFROM:+0200
TZOFFSETTO:+0100
TZNAME:CET
DTSTART:20231029T010000
END:STANDARD
BEGIN:DAYLIGHT
TZOFFSETFROM:+0100
TZOFFSETTO:+0200
TZNAME:CEST
DTSTART:20240331T010000
END:DAYLIGHT
BEGIN:STANDARD
TZOFFSETFROM:+0200
TZOFFSETTO:+0100
TZNAME:CET
DTSTART:20241027T010000
END:STANDARD
BEGIN:DAYLIGHT
TZOFFSETFROM:+0100
TZOFFSETTO:+0200
TZNAME:CEST
DTSTART:20250330T010000
END:DAYLIGHT
BEGIN:STANDARD
TZOFFSETFROM:+0200
TZOFFSETTO:+0100
TZNAME:CET
DTSTART:20251026T010000
END:STANDARD
END:VTIMEZONE
BEGIN:VEVENT
DTSTART;TZID=Europe/Stockholm:20240706T213000
DTEND;TZID=Europe/Stockholm:20240706T230000
DTSTAMP:20260421T205242
CREATED:20240708T173804Z
LAST-MODIFIED:20240708T173804Z
UID:3384-1720301400-1720306800@visanisverige.se
SUMMARY:Snett Ljus - konsert på Lofta Caffé
DESCRIPTION:GRÅ sätter ord på det du har tänkt – men kanske inte har sagt högt. \nI konsertföreställningen\, “Snett ljus”\, får publiken tillsammans med GRÅ:s se vad ljuset faller på – kanske är det på någonting vackert\, kanske på någonting fult\, kanske på någonting trasigt; eller så kilar sig ljuset in i springan där emellan.  Intimt\, nära och poetiskt. \nPå en ö i Göteborgs södra skärgård bildades duon GRÅ\, vårvintern 2021. Fröet såddes när Johanna Björneke Wirgård spelade sina undanstoppade sånger för Petra Haraldson och idén om ett samarbete tog form. Flera nya sånger tillkom och undan för undan växte material till en fullängdsskiva fram. \nJohanna Björneke Wirgård är utbildad på musikhögskolan i Göteborg och har sedan dess varit verksam som musiklärare. \nPetra Haraldson har turnérat med och spelat i olika konstellationer genom åren och släppt singlar och två album med egenskrivna sånger. I januari 2023 släppte Petra tillsammans med musikern Camilla Åström albumet Unarmed med deras tonsättningar av utvalda dikter av Karin Boye i engelska nyöversättningar.
URL:https://visanisverige.se/evenemang/snett-ljus-konsert-pa-lofta-caffe/
LOCATION:Lofta Caffé\, Lofta gamla skola\, Gamleby\, 594 93
CATEGORIES:Konsert
ATTACH;FMTTYPE=image/png:https://visanisverige.se/wp-content/uploads/2024/06/Skarmavbild-2024-06-29-kl.-22.55.00.png
ORGANIZER;CN="Lofta Caff%C3%A9":MAILTO:info@lofta-caffe.com
END:VEVENT
BEGIN:VEVENT
DTSTART;TZID=Europe/Stockholm:20240712T200000
DTEND;TZID=Europe/Stockholm:20240713T230000
DTSTAMP:20260421T205242
CREATED:20240308T120603Z
LAST-MODIFIED:20240308T120603Z
UID:3052-1720814400-1720911600@visanisverige.se
SUMMARY:Visfesten i Loo
DESCRIPTION:Två dagars visfest i ljuvliga Loo – två mil norr om Alingsås.\nArtister i vårt mysiga tält – Fredag – Matilda Magnusson –\n”Matilda Magnusson sjunger svensk visa med ett engagemang och en energi som är alldeles speciell och helt hennes egen. Hon blandar friskt traditionell litterär\, modern rytmisk och egenhändigt komponerad visa\, alltid med samma glödande och övertygande inlevelse. Väl förankrad i traditionen är hon en ung förnyare av svensk visa.”\nGunnar Källström – ”Gunnar Källström är en helt unik artist. Det finns ingen som på hans självklara sätt slungar sig mellan tjofaderittan till vemodigt mörker…/…Fantastiska\, hisnande historier…/…Ännu ett makalöst album och han har hittat ett alldeles eget rum inom svensk visa.” – Barometern\nArtister lördag – Ola Henricsson – Han har en doktorshatt i muntligt berättande och har med sina berättelser fascinerat publik i såväl Bombay som Borås men är också Bastukvintettens välkända gitarrton. Men framför allt är han en enträgen vissnickare sedan innan han föddes.\nUrskog – Vi minns förra årets jublande succé. Urskog tar sig an den svenska visan från alla världens håll. Varning för scendrag!\nDessutom – Keramik av Anna Ekwall Henricsson och Therese Källström i vår gemytliga lada.\nKaffe och bullar i trädgården\, mingel med grannar och nya bekantskaper och så är vi extra stolta över vårt magnifika tält från 1953!\nEntré 200 kr per dag eller 300 kronor för båda.\nVarmt välkommen! \nhttps://www.facebook.com/events/370388409092318/?post_id=370388415758984&view=permalink&notif_id=1708972463293130&notif_t=feedback_reaction_generic&ref=notif&locale=sv_SE
URL:https://visanisverige.se/evenemang/visfesten-i-loo-2/
LOCATION:Loo 560 Sollebrunn\, Loo 560 Ekelund\, Sollebrunn\, 44175
CATEGORIES:Festival,Konsert
ATTACH;FMTTYPE=image/jpeg:https://visanisverige.se/wp-content/uploads/2024/02/Goa-grannar-presenterar-stolt-2.jpg
END:VEVENT
BEGIN:VEVENT
DTSTART;TZID=Europe/Stockholm:20240720T150000
DTEND;TZID=Europe/Stockholm:20240720T190000
DTSTAMP:20260421T205242
CREATED:20240710T070706Z
LAST-MODIFIED:20240710T070706Z
UID:3454-1721487600-1721502000@visanisverige.se
SUMMARY:Taubedag i Uddevalla
DESCRIPTION:På sin födelsedag 12 mars 1945 instiftade Evert Taube Samfundet Visans Vänner i Uddevalla med omnejd. Där för genomförs en Taubedag med konsert varje sommar i Margretegärdeparken i Uddevalla. I år är det den 20 juli kl. 13:00. Medverkar gör medlemmar i Visans Vänner i Uddevalla samt årets visstipendiat från Nordiska Folkhögskolan i Kungälv.
URL:https://visanisverige.se/evenemang/taubedag-i-uddevalla/
LOCATION:Margretegärdesparken Uddevalla\, Torggatan 7\, Uddevalla\, 45130
CATEGORIES:Konsert
ATTACH;FMTTYPE=image/jpeg:https://visanisverige.se/wp-content/uploads/2024/07/Evert-Taube.jpg
END:VEVENT
BEGIN:VEVENT
DTSTART;TZID=Europe/Stockholm:20240721T200000
DTEND;TZID=Europe/Stockholm:20240721T213000
DTSTAMP:20260421T205242
CREATED:20240603T123909Z
LAST-MODIFIED:20240603T123909Z
UID:3302-1721592000-1721597400@visanisverige.se
SUMMARY:Konsert
DESCRIPTION:Konsert med Leif Brixmark & New Holland Band \nMusiker : Staffan Johansson gitarr\, Kenneth Johnsson saxofon/klarinett\, Mats Hammarlöf basgitarr\, Tony Lind\, trummor och Leif Brixmark \ngitarr\, dragspel och sång.
URL:https://visanisverige.se/evenemang/konsert/
LOCATION:Mälsåkers slott\, Mälsåkers slott\, Stallarholmen
CATEGORIES:Konsert
ATTACH;FMTTYPE=image/jpeg:https://visanisverige.se/wp-content/uploads/2024/06/LEIF-BRIXMARK-Foto-Ake-Lindberg.jpg
END:VEVENT
BEGIN:VEVENT
DTSTART;TZID=Europe/Stockholm:20240724T200000
DTEND;TZID=Europe/Stockholm:20240724T220000
DTSTAMP:20260421T205242
CREATED:20240604T133403Z
LAST-MODIFIED:20240604T133403Z
UID:3312-1721851200-1721858400@visanisverige.se
SUMMARY:Konsert
DESCRIPTION:Konsert med Leif Brixmark & New Holland Band.\nMusiker: Kenneth Johnsson saxofon/klarinett. \nStaffan Johansson gitarr \nMats Hammarlöf basgitarr \nTony Lind trummor \nLeif Brixmark sång/gitarr/dragspel \n 
URL:https://visanisverige.se/evenemang/konsert-2/
LOCATION:Tunaberg Nyköping\, Hembygdsgården\, Nyköping
CATEGORIES:Konsert
ATTACH;FMTTYPE=image/jpeg:https://visanisverige.se/wp-content/uploads/2024/06/LEIF-BRIXMARK-Foto-Ake-Lindberg-1.jpg
END:VEVENT
END:VCALENDAR