BEGIN:VCALENDAR
VERSION:2.0
PRODID:-//Visan i Sverige - ECPv6.15.18//NONSGML v1.0//EN
CALSCALE:GREGORIAN
METHOD:PUBLISH
X-ORIGINAL-URL:https://visanisverige.se
X-WR-CALDESC:Händelser för Visan i Sverige
REFRESH-INTERVAL;VALUE=DURATION:PT1H
X-Robots-Tag:noindex
X-PUBLISHED-TTL:PT1H
BEGIN:VTIMEZONE
TZID:Europe/Stockholm
BEGIN:DAYLIGHT
TZOFFSETFROM:+0100
TZOFFSETTO:+0200
TZNAME:CEST
DTSTART:20230326T010000
END:DAYLIGHT
BEGIN:STANDARD
TZOFFSETFROM:+0200
TZOFFSETTO:+0100
TZNAME:CET
DTSTART:20231029T010000
END:STANDARD
BEGIN:DAYLIGHT
TZOFFSETFROM:+0100
TZOFFSETTO:+0200
TZNAME:CEST
DTSTART:20240331T010000
END:DAYLIGHT
BEGIN:STANDARD
TZOFFSETFROM:+0200
TZOFFSETTO:+0100
TZNAME:CET
DTSTART:20241027T010000
END:STANDARD
BEGIN:DAYLIGHT
TZOFFSETFROM:+0100
TZOFFSETTO:+0200
TZNAME:CEST
DTSTART:20250330T010000
END:DAYLIGHT
BEGIN:STANDARD
TZOFFSETFROM:+0200
TZOFFSETTO:+0100
TZNAME:CET
DTSTART:20251026T010000
END:STANDARD
END:VTIMEZONE
BEGIN:VEVENT
DTSTART;TZID=Europe/Stockholm:20240403T210000
DTEND;TZID=Europe/Stockholm:20240403T230000
DTSTAMP:20260422T005449
CREATED:20240128T055022Z
LAST-MODIFIED:20240128T055022Z
UID:2991-1712178000-1712185200@visanisverige.se
SUMMARY:Elin-Louise Bäcklin
DESCRIPTION:Varmt välkommen till Visans Vänner och Kustens Hus. Göteborgs scen för traditionella och moderna visor i en nordisk samklang.\nELIN-LOUISE BÄCKLIN är nu äntligen tillbaka\, tillsammans med Gustav Bäcklin på banjo och gitarr. Det blir countrydoftande stämsång och vackra melodier. Berättande texter i ett sammanhang där både humor och allvar får ta plats. Det blir egna visor och gamla schlagers. Skillingtryck och folkvisor i tidlösa arrangemang. En kanonkväll att se fram emot.\nFörband/Ny scen: Anna Pollak\n—————-\nBILJETTER\nFörköp: 120kr + 15kr serviceavgift.\nhttps://www.kulturpunkten.nu/even…/elin-louise-backlin/…\nBiljetter kan även köpas på plats.\nEntré: 120kr\n(för medlemmar: 50kr)\nSwish eller kontant\n—————-\nPlats: Kustens Hus\nInsläpp: 18.45\nPå scen: 19.00\nHållplats: Chapmans torg\nAdress: Taubegatan 9\nKaffe och fika säljs i pausen.\n—————-\nArrangör: Sällskapet Visans Vänner i Göteborg\nMed stöd från Göteborgs Stad\, Kulturrådet\, Studieförbundet Vuxenskolan
URL:https://visanisverige.se/evenemang/elin-louise-backlin/
LOCATION:Kustens Hus\, Taubegatan 9\, Göteborg\, 414 55\, Sverige
CATEGORIES:Konsert
ATTACH;FMTTYPE=image/jpeg:https://visanisverige.se/wp-content/uploads/2024/01/240403-Elin-Louise-Backlin.jpg
ORGANIZER;CN="Visans V%C3%A4nner G%C3%B6teborg":MAILTO:visansvannergbg@gmail.com
END:VEVENT
BEGIN:VEVENT
DTSTART;TZID=Europe/Stockholm:20240417T210000
DTEND;TZID=Europe/Stockholm:20240417T230000
DTSTAMP:20260422T005449
CREATED:20240128T054759Z
LAST-MODIFIED:20240128T054759Z
UID:2994-1713387600-1713394800@visanisverige.se
SUMMARY:Säsongsfinal med Visans Vänner
DESCRIPTION:Varmt välkommen till Visans Vänner och Kustens Hus. Göteborgs scen för traditionella och moderna visor i en nordisk samklang.\nSÄSONGSAVSLUTNING med Visans Vänner\nLite av en ny tradition är dessa kvällar där medlemmar från Visans Vänner samlas för en konsert. Denna afton spelar bland annat: Kristfrid Warner och Sara Kollberg Clarke\, Thomas Olsson\, Anders Åsefeldt\, Eva Olivia Samuelson m.fl. Obs. Namn kan tillkomma och ändringar kan ske. Välkomna den stundande sommaren med oss!\n—————-\nBILJETTER\nFörköp: 120kr + 15kr serviceavgift.\nhttps://www.kulturpunkten.nu/…/sasongsavslutning…/…\nBiljetter kan även köpas på plats.\nEntré: 120kr\n(för medlemmar: 50kr)\nSwish eller kontant\n—————-\nPlats: Kustens Hus\nInsläpp: 18.45\nPå scen: 19.00\nHållplats: Chapmans torg\nAdress: Taubegatan 9\nKaffe och fika säljs i pausen.\n—————-\nArrangör: Sällskapet Visans Vänner i Göteborg\nMed stöd från Göteborgs Stad\, Kulturrådet\, Studieförbundet Vuxenskolan
URL:https://visanisverige.se/evenemang/sasongsfinal-med-visans-vanner/
LOCATION:Kustens Hus\, Taubegatan 9\, Göteborg\, 414 55\, Sverige
CATEGORIES:Konsert
ATTACH;FMTTYPE=image/jpeg:https://visanisverige.se/wp-content/uploads/2024/01/240417-Visans-Vanner.jpg
ORGANIZER;CN="Visans V%C3%A4nner G%C3%B6teborg":MAILTO:visansvannergbg@gmail.com
END:VEVENT
BEGIN:VEVENT
DTSTART;TZID=Europe/Stockholm:20240421T180000
DTEND;TZID=Europe/Stockholm:20240421T200000
DTSTAMP:20260422T005449
CREATED:20240329T055805Z
LAST-MODIFIED:20240329T055805Z
UID:3189-1713722400-1713729600@visanisverige.se
SUMMARY:Viscafé med Trio de la Göta
DESCRIPTION:Gruppen Trio de la Göta består av Maya Estrela\,  Natalie Almskog och Hannes Westlund. Elever vid Nordiska Visskolan i Kungälv som framför ett blandat visprogram.
URL:https://visanisverige.se/evenemang/viscafe-med-trio-de-la-gota/
LOCATION:Karlshamns Folkets Hus\, Rådhusgatan 14 A\, Karlshamn\, 374 36
CATEGORIES:Konsert
ATTACH;FMTTYPE=image/png:https://visanisverige.se/wp-content/uploads/2024/03/Trio-de-la-Gota-Viscafe-2024-04-21-1.png
ORGANIZER;CN="Visans V&auml%3Bnner Karlshamn":MAILTO:visvanner@telia.com
END:VEVENT
BEGIN:VEVENT
DTSTART;TZID=Europe/Stockholm:20240421T180000
DTEND;TZID=Europe/Stockholm:20240421T200000
DTSTAMP:20260422T005449
CREATED:20240329T055835Z
LAST-MODIFIED:20240329T055835Z
UID:3187-1713722400-1713729600@visanisverige.se
SUMMARY:Viscafé med Trio de la Göta
DESCRIPTION:Gruppen Trio de la Göta består av Maya Estrela\,  Natalie Almskog och Hannes Westlund. Elever vid Nordiska Visskolan i Kungälv som framför ett blandat visprogram.
URL:https://visanisverige.se/evenemang/viscafe-med-trio-de-la-gota-2/
LOCATION:Karlshamns Folkets Hus\, Rådhusgatan 14 A\, Karlshamn\, 374 36
CATEGORIES:Konsert
ATTACH;FMTTYPE=image/png:https://visanisverige.se/wp-content/uploads/2024/03/Trio-de-la-Gota-Viscafe-2024-04-21.png
ORGANIZER;CN="Visans V&auml%3Bnner Karlshamn":MAILTO:visvanner@telia.com
END:VEVENT
END:VCALENDAR