BEGIN:VCALENDAR
VERSION:2.0
PRODID:-//Visan i Sverige - ECPv6.15.18//NONSGML v1.0//EN
CALSCALE:GREGORIAN
METHOD:PUBLISH
X-ORIGINAL-URL:https://visanisverige.se
X-WR-CALDESC:Händelser för Visan i Sverige
REFRESH-INTERVAL;VALUE=DURATION:PT1H
X-Robots-Tag:noindex
X-PUBLISHED-TTL:PT1H
BEGIN:VTIMEZONE
TZID:Europe/Stockholm
BEGIN:DAYLIGHT
TZOFFSETFROM:+0100
TZOFFSETTO:+0200
TZNAME:CEST
DTSTART:20230326T010000
END:DAYLIGHT
BEGIN:STANDARD
TZOFFSETFROM:+0200
TZOFFSETTO:+0100
TZNAME:CET
DTSTART:20231029T010000
END:STANDARD
BEGIN:DAYLIGHT
TZOFFSETFROM:+0100
TZOFFSETTO:+0200
TZNAME:CEST
DTSTART:20240331T010000
END:DAYLIGHT
BEGIN:STANDARD
TZOFFSETFROM:+0200
TZOFFSETTO:+0100
TZNAME:CET
DTSTART:20241027T010000
END:STANDARD
BEGIN:DAYLIGHT
TZOFFSETFROM:+0100
TZOFFSETTO:+0200
TZNAME:CEST
DTSTART:20250330T010000
END:DAYLIGHT
BEGIN:STANDARD
TZOFFSETFROM:+0200
TZOFFSETTO:+0100
TZNAME:CET
DTSTART:20251026T010000
END:STANDARD
END:VTIMEZONE
BEGIN:VEVENT
DTSTART;TZID=Europe/Stockholm:20240207T200000
DTEND;TZID=Europe/Stockholm:20240207T220000
DTSTAMP:20260422T034212
CREATED:20240128T054838Z
LAST-MODIFIED:20240128T054838Z
UID:2979-1707336000-1707343200@visanisverige.se
SUMMARY:Elona Planman
DESCRIPTION:Varmt välkommen till Visans Vänner och Kustens Hus. Göteborgs scen för traditionella och moderna visor i en nordisk samklang. \n\nELONA PLANMAN tror på äventyret\, konsten och att musikens kraft kan förändra världen. Med två skivor i bagaget och ett ständigt resande runt i norden har hon på relativt kort tid gjort sig ett namn på de klassiska visscenerna. Med stark karisma kombinerar hon en stor dos musikalitet med poesi\, och lekfullhet.\nFörband/Ny scen: Jonathan Gustafsson\n—————-\nBILJETTER\nFörköp: 120kr + 15kr serviceavgift.\nhttps://www.kulturpunkten.nu/evenemang/elona-planman/…\nBiljetter kan även köpas på plats.\nEntré: 120kr\n(för medlemmar: 50kr)\nSwish eller kontant\n—————-\nPlats: Kustens Hus\nInsläpp: 18.45\nPå scen: 19.00\nHållplats: Chapmans torg\nAdress: Taubegatan 9\nKaffe och fika säljs i pausen.\n—————-\nArrangör: Sällskapet Visans Vänner i Göteborg\nMed stöd från Göteborgs Stad\, Kulturrådet\, Studieförbundet Vuxenskolan
URL:https://visanisverige.se/evenemang/elona-planman/
LOCATION:Kustens Hus\, Taubegatan 9\, Göteborg\, 414 55\, Sverige
CATEGORIES:Konsert
ATTACH;FMTTYPE=image/jpeg:https://visanisverige.se/wp-content/uploads/2024/01/240207-Elona-Planman.jpg
ORGANIZER;CN="Visans V%C3%A4nner G%C3%B6teborg":MAILTO:visansvannergbg@gmail.com
END:VEVENT
BEGIN:VEVENT
DTSTART;TZID=Europe/Stockholm:20240221T200000
DTEND;TZID=Europe/Stockholm:20240221T220000
DTSTAMP:20260422T034212
CREATED:20240128T054905Z
LAST-MODIFIED:20240128T054905Z
UID:2982-1708545600-1708552800@visanisverige.se
SUMMARY:Vier Brillen
DESCRIPTION:Varmt välkommen till Visans Vänner och Kustens Hus. Göteborgs scen för traditionella och moderna visor i en nordisk samklang.\nHisingens nationalorkester VIER BRILLEN firar 30-årsjubileum och är mycket stolta över att få göra detta tillsammans med Visans Vänner. Det blir glada\, svängiga\, roliga\, spektakulära\, egenskrivna\, underfundiga visor. Kanske till och med några saxofonsolon eller dåliga vitsar. Varning! Vier Brillen är varken trendiga\, sexiga eller coola!\nFörband/Ny scen: Eva Borgström\n—————-\nBILJETTER\nFörköp: 120kr + 15kr serviceavgift.\nhttps://www.kulturpunkten.nu/evenemang/vier-brillen-2/…\nBiljetter kan även köpas på plats.\nEntré: 120kr\n(för medlemmar: 50kr)\nSwish eller kontant\n—————-\nPlats: Kustens Hus\nInsläpp: 18.45\nPå scen: 19.00\nHållplats: Chapmans torg\nAdress: Taubegatan 9\nKaffe och fika säljs i pausen.\n—————-\nArrangör: Sällskapet Visans Vänner i Göteborg\nMed stöd från Göteborgs Stad\, Kulturrådet\, Studieförbundet Vuxenskolan
URL:https://visanisverige.se/evenemang/vier-brillen/
LOCATION:Kustens Hus\, Taubegatan 9\, Göteborg\, 414 55\, Sverige
CATEGORIES:Konsert
ATTACH;FMTTYPE=image/jpeg:https://visanisverige.se/wp-content/uploads/2024/01/240221-Vier-Brillen.jpg
ORGANIZER;CN="Visans V%C3%A4nner G%C3%B6teborg":MAILTO:visansvannergbg@gmail.com
END:VEVENT
END:VCALENDAR