BEGIN:VCALENDAR
VERSION:2.0
PRODID:-//Visan i Sverige - ECPv6.15.18//NONSGML v1.0//EN
CALSCALE:GREGORIAN
METHOD:PUBLISH
X-ORIGINAL-URL:https://visanisverige.se
X-WR-CALDESC:Händelser för Visan i Sverige
REFRESH-INTERVAL;VALUE=DURATION:PT1H
X-Robots-Tag:noindex
X-PUBLISHED-TTL:PT1H
BEGIN:VTIMEZONE
TZID:Europe/Stockholm
BEGIN:DAYLIGHT
TZOFFSETFROM:+0100
TZOFFSETTO:+0200
TZNAME:CEST
DTSTART:20220327T010000
END:DAYLIGHT
BEGIN:STANDARD
TZOFFSETFROM:+0200
TZOFFSETTO:+0100
TZNAME:CET
DTSTART:20221030T010000
END:STANDARD
BEGIN:DAYLIGHT
TZOFFSETFROM:+0100
TZOFFSETTO:+0200
TZNAME:CEST
DTSTART:20230326T010000
END:DAYLIGHT
BEGIN:STANDARD
TZOFFSETFROM:+0200
TZOFFSETTO:+0100
TZNAME:CET
DTSTART:20231029T010000
END:STANDARD
BEGIN:DAYLIGHT
TZOFFSETFROM:+0100
TZOFFSETTO:+0200
TZNAME:CEST
DTSTART:20240331T010000
END:DAYLIGHT
BEGIN:STANDARD
TZOFFSETFROM:+0200
TZOFFSETTO:+0100
TZNAME:CET
DTSTART:20241027T010000
END:STANDARD
END:VTIMEZONE
BEGIN:VEVENT
DTSTART;TZID=Europe/Stockholm:20231004T210000
DTEND;TZID=Europe/Stockholm:20231004T230000
DTSTAMP:20260422T093736
CREATED:20230917T193032Z
LAST-MODIFIED:20230917T193032Z
UID:2834-1696453200-1696460400@visanisverige.se
SUMMARY:Jenny Almsenius sjunger Povel
DESCRIPTION:Medan natten sänkte sin sammet heter skivan\, på vilken Jenny Almsenius tolkar Povel Ramels låtskatt. Sedan vårens releasekonsert på Fasching i Stockholm har Jenny sjungit för utsålda hus i stora delar av landet. Nu kommer hon till Kustens Hus i sin födelsestad Göteborg. Jenny har alltid ett munspel berett i fickan\, men ikväll tar hon även med sina musiker Daniel Tilling och Johan Bengtsson.
URL:https://visanisverige.se/evenemang/jenny-almsenius-sjunger-povel/
LOCATION:Kustens Hus\, Taubegatan 9\, Göteborg\, 414 55\, Sverige
CATEGORIES:Konsert
ATTACH;FMTTYPE=image/jpeg:https://visanisverige.se/wp-content/uploads/2023/09/Kulturpunkten-231004-Jenny-Almsenius.jpg
ORGANIZER;CN="Visans V%C3%A4nner G%C3%B6teborg":MAILTO:visansvannergbg@gmail.com
END:VEVENT
BEGIN:VEVENT
DTSTART;TZID=Europe/Stockholm:20231018T210000
DTEND;TZID=Europe/Stockholm:20231018T230000
DTSTAMP:20260422T093736
CREATED:20230918T193211Z
LAST-MODIFIED:20230918T193211Z
UID:2837-1697662800-1697670000@visanisverige.se
SUMMARY:Just as Blue
DESCRIPTION:Västkustens hetaste Bluegrassband förmedlar historier om att vara på väg. Om längtan bort och om längtan hem. Vi får höra såväl traditionellt som nyskrivet material. Ulla Tanggaard – sång & gitarr\, Jörgen Berg – banjo\, Lasse Williamsson – violin & Eriks Sundberg – kontrabas. \nFörband/Ny scen: Dante Lärka
URL:https://visanisverige.se/evenemang/just-as-blue/
LOCATION:Kustens Hus\, Taubegatan 9\, Göteborg\, 414 55\, Sverige
CATEGORIES:Konsert
ATTACH;FMTTYPE=image/jpeg:https://visanisverige.se/wp-content/uploads/2023/09/Kulturpunkten-231018-Just-as-Blue.jpg
ORGANIZER;CN="Visans V%C3%A4nner G%C3%B6teborg":MAILTO:visansvannergbg@gmail.com
END:VEVENT
END:VCALENDAR