BEGIN:VCALENDAR
VERSION:2.0
PRODID:-//Visan i Sverige - ECPv6.15.18//NONSGML v1.0//EN
CALSCALE:GREGORIAN
METHOD:PUBLISH
X-ORIGINAL-URL:https://visanisverige.se
X-WR-CALDESC:Händelser för Visan i Sverige
REFRESH-INTERVAL;VALUE=DURATION:PT1H
X-Robots-Tag:noindex
X-PUBLISHED-TTL:PT1H
BEGIN:VTIMEZONE
TZID:Europe/Stockholm
BEGIN:DAYLIGHT
TZOFFSETFROM:+0100
TZOFFSETTO:+0200
TZNAME:CEST
DTSTART:20220327T010000
END:DAYLIGHT
BEGIN:STANDARD
TZOFFSETFROM:+0200
TZOFFSETTO:+0100
TZNAME:CET
DTSTART:20221030T010000
END:STANDARD
BEGIN:DAYLIGHT
TZOFFSETFROM:+0100
TZOFFSETTO:+0200
TZNAME:CEST
DTSTART:20230326T010000
END:DAYLIGHT
BEGIN:STANDARD
TZOFFSETFROM:+0200
TZOFFSETTO:+0100
TZNAME:CET
DTSTART:20231029T010000
END:STANDARD
BEGIN:DAYLIGHT
TZOFFSETFROM:+0100
TZOFFSETTO:+0200
TZNAME:CEST
DTSTART:20240331T010000
END:DAYLIGHT
BEGIN:STANDARD
TZOFFSETFROM:+0200
TZOFFSETTO:+0100
TZNAME:CET
DTSTART:20241027T010000
END:STANDARD
END:VTIMEZONE
BEGIN:VEVENT
DTSTART;TZID=Europe/Stockholm:20230326T210000
DTEND;TZID=Europe/Stockholm:20230402T230000
DTSTAMP:20260422T172057
CREATED:20230327T041451Z
LAST-MODIFIED:20230327T044359Z
UID:2650-1679864400-1680476400@visanisverige.se
SUMMARY:Storken landar i Gadbjerg
DESCRIPTION:Under parollen Storken landar hos dig blir det nu konsert i Gadbjerg. På scenen: Perry Stenbäck\, Martin Sundahl\, Billey Shamrock och Robert Dueholm. Visor på i första hand danska och svenska utlovas.
URL:https://visanisverige.se/evenemang/storken-landar-i-gadbjerg/
LOCATION:Margrethesalen\, Gadbjerg
CATEGORIES:Konsert
ATTACH;FMTTYPE=image/jpeg:https://visanisverige.se/wp-content/uploads/2023/03/Forar-med-3-ALTERNATIV-.jpg
ORGANIZER;CN="Yrkestrubadurernas F&ouml%3Brening":MAILTO:pierre@pierrestrom.se
END:VEVENT
BEGIN:VEVENT
DTSTART;TZID=Europe/Stockholm:20230405T204500
DTEND;TZID=Europe/Stockholm:20230405T230000
DTSTAMP:20260422T172057
CREATED:20230211T065835Z
LAST-MODIFIED:20230211T065835Z
UID:2467-1680727500-1680735600@visanisverige.se
SUMMARY:Hyllning till Thorstein Bergman
DESCRIPTION:Varmt välkommen till Visans Vänner och Kustens Hus. Göteborgs scen för traditionella och moderna visor i en nordisk samklang.\nSläkt\, vänner och medmusikanter minns Thorstein Bergman (1942–2022). Han gick sin egen väg genom den svenska vishistorien. Att han samtidigt hade ena foten i den amerikanska vishistorien är mindre känt. Själv såg han det kanske som samma stig. Vad han än tog sig för i musikväg eller som folkbildare gjorde han det mycket grundligt och med stor respekt för respektive tradition. I detta program gör vi några nedslag längs Thorsteins långa och vindlande stig från 60-talet ända fram till vårt sekel. Medverkande: Mie Svennberg\, Olga Lantz\, Petter Lantz\, Mats Havström\, Tommy Johansson och Anders Svensson.
URL:https://visanisverige.se/evenemang/hyllning-till-thorstein-bergman/
LOCATION:Kustens Hus\, Taubegatan 9\, Göteborg\, 414 55\, Sverige
CATEGORIES:Konsert
ATTACH;FMTTYPE=image/jpeg:https://visanisverige.se/wp-content/uploads/2023/02/Kulturpunkten-230405-Hyllning-till-Thorstein.jpg
ORGANIZER;CN="Visans V%C3%A4nner G%C3%B6teborg":MAILTO:visansvannergbg@gmail.com
END:VEVENT
BEGIN:VEVENT
DTSTART;TZID=Europe/Stockholm:20230412T210000
DTEND;TZID=Europe/Stockholm:20230412T230000
DTSTAMP:20260422T172057
CREATED:20230406T060400Z
LAST-MODIFIED:20230406T060400Z
UID:2684-1681333200-1681340400@visanisverige.se
SUMMARY:Bohusskalden Fredrik Nycander i ord och ton
DESCRIPTION:Fredrik Nycander föddes 1867 i Bohuslän och dog 1944 i Stockholm. Han var en aktiv person i det omfattande badgästlivet i början på 1900-talet i Lysekil och en mycket produktiv poet och författare från 1888 fram till sin död. Anders och Birgitta Gunnarsson har botaniserat bland diktböcker och handskrifter på Kungliga biblioteket och tonsatt ett 15-tal dikter. Premiär för programmet blir det på det kulturhistoriska sällskapet Vikarvet i Lysekil\, som Nycander var med och startade 1915. Tonsättningarna är mycket omväxlande utifrån dikterna olika karaktärer och de belyser intressanta historiska skeden under slutet av 1800- och 1900-talets början. Förutom Birgitta och Anders Gunnarsson medverkar pianisten Lowe Pettersson.
URL:https://visanisverige.se/evenemang/bohusskalden-fredrik-nycander-i-ord-och-ton/
LOCATION:Vikarvet\, Turistgatan 17\, Lysekil\, 453 30
CATEGORIES:Konsert
ATTACH;FMTTYPE=image/png:https://visanisverige.se/wp-content/uploads/2023/04/Nycander-musiker.png
ORGANIZER;CN="Vikarvet Kulturhistoriskt S%C3%A4llskap":MAILTO:vikarvet@gmail.com
END:VEVENT
BEGIN:VEVENT
DTSTART;TZID=Europe/Stockholm:20230415T170000
DTEND;TZID=Europe/Stockholm:20230415T190000
DTSTAMP:20260422T172057
CREATED:20230122T103018Z
LAST-MODIFIED:20230122T103018Z
UID:2385-1681578000-1681585200@visanisverige.se
SUMMARY:Ingegerd Wessel och Niclas Abrahamsson
DESCRIPTION:Vi får fint besök av två fantastiska vissångare som var för sig stått på många visscener bl.a Visfesten i Steninge och som på senare år ibland även turnerar tillsammans.\n\nIngegerd Wessel är en rutinerad visartist och låtskrivare med mer än 40 års erfarenhet i musikbranschen. Hon tolkar den svenska visskatten och har även släppt två soloplattor. Ingegerd kommer med angelägna texter\, en röst som går hela vägen in i hjärtat\, en hög scennärvaro\, personligt uttryck och en snygg gitarr.\n\nNiclas Abrahamsson är en låtskrivare\, visartist och författare med ett förflutet som skådespelare. Han har frilansat som visartist sedan 80-talet och har gett ut musik med eget och andras material. Under våren -23 släpper han ett nytt album.\nNiclas tar med sig en stor portion musikalitet och en rejäl nypa professionalitet för en helhetsupplevelse i ord och ton.
URL:https://visanisverige.se/evenemang/ingegerd-wessel-och-niclas-abrahamsson/
LOCATION:Strandgatan 20\, Strandgatan 20\, Halmstad
CATEGORIES:Konsert
ATTACH;FMTTYPE=image/jpeg:https://visanisverige.se/wp-content/uploads/2023/01/IMG_0975.jpg
ORGANIZER;CN="Visklubben Skeppet":MAILTO:info@visklubbenskeppet.se
END:VEVENT
BEGIN:VEVENT
DTSTART;TZID=Europe/Stockholm:20230416T180000
DTEND;TZID=Europe/Stockholm:20230416T193000
DTSTAMP:20260422T172057
CREATED:20230322T095643Z
LAST-MODIFIED:20230322T095643Z
UID:2633-1681668000-1681673400@visanisverige.se
SUMMARY:Mats Klingström & Unit
DESCRIPTION:Mats Klingström mångårig medlem i gruppen FJK framträder här med UNIT från Musik i Blekinge. \nMats är bl.a. känd för sina tolkningar och översättningar av Leonard Cohen. \nVisans Vänner i Karlshamn är arrangör av evenemanget som framförs i Lokstallarna Karlshamn.
URL:https://visanisverige.se/evenemang/mats-klingstrom-unit/
LOCATION:Lokstallarna\, Prinsgatan 43\, Karlshamn\, 37433
CATEGORIES:Konsert
ATTACH;FMTTYPE=image/png:https://visanisverige.se/wp-content/uploads/2023/03/Klingstrom-o-UNIT-2023-1.png
ORGANIZER;CN="Visans V&auml%3Bnner Karlshamn":MAILTO:visvanner@telia.com
END:VEVENT
BEGIN:VEVENT
DTSTART;TZID=Europe/Stockholm:20230419T204500
DTEND;TZID=Europe/Stockholm:20230419T230000
DTSTAMP:20260422T172057
CREATED:20230211T065823Z
LAST-MODIFIED:20230211T065823Z
UID:2470-1681937100-1681945200@visanisverige.se
SUMMARY:Carl-Einar Häckner
DESCRIPTION:Varmt välkommen till Visans Vänner och Kustens Hus. Göteborgs scen för traditionella och moderna visor i en nordisk samklang.\nDenna afton uppträder Carl-Einar Häckner som sjunger sina visor på Kustens hus. En vis kväll i två delar med paus. Carl-Einar Häckner är en underhållare\, trollkarl och komiker\, stand-up comedian\, författare\, musiker från Göteborg som uppträder i hela världen på engelska\, tyska men allra helst och bäst på svenska i Sverige.
URL:https://visanisverige.se/evenemang/carl-einar-hackner/
LOCATION:Kustens Hus\, Taubegatan 9\, Göteborg\, 414 55\, Sverige
CATEGORIES:Konsert
ATTACH;FMTTYPE=image/jpeg:https://visanisverige.se/wp-content/uploads/2023/02/CEH-visafton-kustens-hus-19-april-SoMe-liggande-color.jpg
ORGANIZER;CN="Visans V%C3%A4nner G%C3%B6teborg":MAILTO:visansvannergbg@gmail.com
END:VEVENT
END:VCALENDAR