BEGIN:VCALENDAR
VERSION:2.0
PRODID:-//Visan i Sverige - ECPv6.15.18//NONSGML v1.0//EN
CALSCALE:GREGORIAN
METHOD:PUBLISH
X-ORIGINAL-URL:https://visanisverige.se
X-WR-CALDESC:Händelser för Visan i Sverige
REFRESH-INTERVAL;VALUE=DURATION:PT1H
X-Robots-Tag:noindex
X-PUBLISHED-TTL:PT1H
BEGIN:VTIMEZONE
TZID:Europe/Stockholm
BEGIN:DAYLIGHT
TZOFFSETFROM:+0100
TZOFFSETTO:+0200
TZNAME:CEST
DTSTART:20220327T010000
END:DAYLIGHT
BEGIN:STANDARD
TZOFFSETFROM:+0200
TZOFFSETTO:+0100
TZNAME:CET
DTSTART:20221030T010000
END:STANDARD
BEGIN:DAYLIGHT
TZOFFSETFROM:+0100
TZOFFSETTO:+0200
TZNAME:CEST
DTSTART:20230326T010000
END:DAYLIGHT
BEGIN:STANDARD
TZOFFSETFROM:+0200
TZOFFSETTO:+0100
TZNAME:CET
DTSTART:20231029T010000
END:STANDARD
BEGIN:DAYLIGHT
TZOFFSETFROM:+0100
TZOFFSETTO:+0200
TZNAME:CEST
DTSTART:20240331T010000
END:DAYLIGHT
BEGIN:STANDARD
TZOFFSETFROM:+0200
TZOFFSETTO:+0100
TZNAME:CET
DTSTART:20241027T010000
END:STANDARD
END:VTIMEZONE
BEGIN:VEVENT
DTSTART;TZID=Europe/Stockholm:20230307T110000
DTEND;TZID=Europe/Stockholm:20230307T120000
DTSTAMP:20260422T184253
CREATED:20230110T203716Z
LAST-MODIFIED:20230110T203716Z
UID:2352-1678186800-1678190400@visanisverige.se
SUMMARY:Svenska visor med Daniel Petrén
DESCRIPTION:Vissångaren Daniel Petrén gästar träffpunkt\, Upphärad och ger ett ca 60 min program med Svenska visor. Texter och musik av Taube\, Hambe\, Nils Ferlin blandat med gitarrstycken och Daniels egna sånger. www.danielpetren.com
URL:https://visanisverige.se/evenemang/svenska-visor-med-daniel-petren/
LOCATION:Träffpunkt Upphärad\, Lindåsgården\, Sjuntorpsvägen 12\, Upphärad\, 46179
CATEGORIES:Konsert
ATTACH;FMTTYPE=image/jpeg:https://visanisverige.se/wp-content/uploads/2023/01/fardig_kvadrat_svartvit_portrat_under_bro-scaled.jpg
ORGANIZER;CN="Trollh%C3%A4ttans stad":MAILTO:kontaktcenter@trollhattan.se
END:VEVENT
BEGIN:VEVENT
DTSTART;TZID=Europe/Stockholm:20230308T193000
DTEND;TZID=Europe/Stockholm:20230308T210000
DTSTAMP:20260422T184253
CREATED:20230303T165500Z
LAST-MODIFIED:20230303T165500Z
UID:2540-1678303800-1678309200@visanisverige.se
SUMMARY:Kulturonsdag – Quinnoväsen på internationella kvinnodagen i Lilla Edet
DESCRIPTION:Vi firar internationella kvinnodagen tillsammans med visgruppen Quinnoväsen. Den 8 mars uppmärksammas kvinnors situation världen över. Gruppen Quinnoväsen sjunger och spelar denna kväll vackra\, värmande och humoristiska visor. Utmärkande för deras framträdande är variation av instrument\, mycket rytm och takt samt stämsång. Quinnoväsens äkta kärlek till text och innehåll innebär att vi får höra både några kända\, älskade sånger\, men också en del nyare samt mer okänt material som passar extra bra på just kvinnodagen. \nQuinnoväsens medlemmar kommer ifrån Vänersborg i norr till Grundsund i väst och Göteborg i syd: Birgitta Gunnarson\, Ann-Britt Karlsson\, Ann-Catrine Persson\, Ingmarie Romell \, Eva Olivia Samuelsson och Eva Simmons. Med på scenen har de gitarrer\, bas\, nyckelharpa\, ukulele\, flöjter och slagverk. Medlemmarna har stor rutin och erfarenhet av vismusik i alla dess former. \nHjärtligt välkommen!
URL:https://visanisverige.se/evenemang/kulturonsdag-quinnovasen-pa-internationella-kvinnodagen-i-lilla-edet/
LOCATION:Kulturhuset Eden\, Edetsalongen\, Göteborgsvägen 61\, Lilla Edet\, 463 31
CATEGORIES:Konsert
ATTACH;FMTTYPE=image/png:https://visanisverige.se/wp-content/uploads/2023/03/quinnovasen-960x640-1.png
ORGANIZER;CN="Lilla Edets kommun":MAILTO:kommun@lillaedet.se
END:VEVENT
BEGIN:VEVENT
DTSTART;TZID=Europe/Stockholm:20230308T194500
DTEND;TZID=Europe/Stockholm:20230308T220000
DTSTAMP:20260422T184253
CREATED:20230211T065600Z
LAST-MODIFIED:20230211T065600Z
UID:2461-1678304700-1678312800@visanisverige.se
SUMMARY:Systrar på scen
DESCRIPTION:Varmt välkommen till Visans Vänner och Kustens Hus. Göteborgs scen för traditionella och moderna visor i en nordisk samklang. \nDenna afton uppträder: Systrar på scen \n\nHär möter du ett knippe av Visans vänners kvinnliga visartister. Med sång\, spel och poesi firar vi den internationella kvinnodagen. Vi är både unga och gamla och av olika fason\, och blandar livslust och vemod utifrån vårt kvinnoperspektiv. Kvinnor\, män och alla däremellan är välkomna!
URL:https://visanisverige.se/evenemang/systrar-pa-scen/
LOCATION:Kustens Hus\, Taubegatan 9\, Göteborg\, 414 55\, Sverige
CATEGORIES:Konsert
ATTACH;FMTTYPE=image/jpeg:https://visanisverige.se/wp-content/uploads/2023/02/Kulturpunkten-230308-Systrar-pa-scen.jpg
ORGANIZER;CN="Visans V%C3%A4nner G%C3%B6teborg":MAILTO:visansvannergbg@gmail.com
END:VEVENT
BEGIN:VEVENT
DTSTART;TZID=Europe/Stockholm:20230310T203000
DTEND;TZID=Europe/Stockholm:20230311T220000
DTSTAMP:20260422T184253
CREATED:20230210T204452Z
LAST-MODIFIED:20230210T204452Z
UID:2449-1678480200-1678572000@visanisverige.se
SUMMARY:KAKAFON musik och poesifestival
DESCRIPTION:Den 10 och 11 mars förlängs Internationella kvinnodagen på Folkteatern med en två dagars musik- och poesifestival där vi får möta några högst aktuella poeter från förr och i dag. Röster från ett sekel tillbaka\, i form av Karin Boye\, Signe Aurell och Anna Margolin\, med flera\, tolkas i nya tonsättningar av olika artister. Till detta kommer även den albumaktuella poeten och musikern Charlie Brolund. Kvällarna kommer att ramas in av trion Kaja och ytterligare\, hemliga\, gäster! Det blir passion\, längtan\, existentialism\, tröst\, glädje\, kamp och mod.\n\nMEDVERKANDE:\nIrrbloss / Signe Aurell (med Maja Heurling & Ola Sandström)\n\nShtoltse Lider / Anna Margolin (med Ida Gillner & Livet Nord)\n\nVapenlös / Karin Boye (med Petra Haraldson & Livet Nord)\n\nCharlie Brolund (med cellist Jonas Bleckman)\n\nKaja\n+hemliga gästartister!\n\nPROGRAM\nFredag 10 mars:\n19.30 Kaja\n20.00 Charlie Brolund\n21.30 Vapenlös\n\nLördag 11 mars:\n19.30 Kaja\n20.00 Shtoltse lider\n21.30 Irrbloss\n\nOM ARTISTERNA\n\nVapenlös\nKarin Boye berör. Hennes poesi handlar ofta om hur vi människor i grunden delar samma existentiella villkor. Tidlöst vemod\, passion\, hopp\, tröst\, trots och längtan. Karin var verksam under och mellan de båda världskrigen och hon var en politisk och religiös sökare. En rebell som gick sin egen väg i en tid när detta sällan uppskattades. Inte minst gällde det hennes kärleksrelationer med både kvinnor och män\, men även att hon på olika sätt tog ställning mot nazismen och det som skedde i dess spår. Musikerna Camilla Åström och Petra Haraldson har sedan 2014 följt i Karin Boyes fotspår och tonsatt ett personligt urval dikter med en stark ådra av både vemod och mod. Tonsättningarna blev albumet Vapenlös som släpptes 2020 på Kakafon Records. Den 27 januari 2023 släpps Unarmed med samtliga spår översatta till engelska.\nPetra Haraldson – berättelse\, sång och piano\nLivet Nord – berättelse\, violinquinton och sång\n\nKaja\nKajas instrumentala musik rymmer ett brett spektrum av känslouttryck och en kreativ mix av olika influenser. Rötterna hämtar näring i Östeuropa\, men grenarna växer sig allt vidare ut i gränslandet mellan olika musiktraditioner. Vidsynt och nyfiket har de låtit musiken få ta sina egna vägar från klezmer\, rumänskt och balkanskt till tango\, svensk folkton och stråk av filmisk kammarmusik. Kaja kommer att rama in de båda ordspäckade kvällarna.\nLivet Nord – violinquinton\nDaniel Wejdin – kontrabas\nJonathan Larsson – dragspel\n\nIrrbloss\nSigne Aurell lämnade på egen hand Sverige 1913 för att söka lyckan i USA\, där hon arbetade som sömmerska\, tvätterska och skribent. I USA gav hon även ut sin metriskt perfekta och språkligt glödande diktsamling Irrbloss 1919 – på svenska. Signes för samtiden hittills okända dikter handlar om hemlängtan och om kampen för frigivningen av Joe Hill och för en ljusare framtid. 100 år senare får de en musikalisk inramning av Maja Heurling och Ola Sandström där folkmusik möter visa och där tonsättningarna lyfter varenda meningsbärande ord. 2019 släpptes albumet Irrbloss med 13 tonsättningar. I oktober 2022 fick sångerna vingar och spelades live på turné i Svenskbygderna i USA med kvällens konstellation. Då släpptes också en EP med fyra av sångerna översatta till engelska.\nMaja Heurling – sång och gitarr\nOla Sandström – sång och gitarr\nLivet Nord – violinquinton\nDaniel Wejdin – kontrabas\n\nShtoltse lider\nAnna Margolin\, Celia Dropkin och Rokhl Korn är några av de poeter som tolkas i projektet Shtoltse lider. För hundra år sedan blomstrade jiddischkulturen och det fanns en stor rörelse av kvinnliga poeter som drevs av konstnärliga\, djärva visioner. Efter andra världskriget föll deras verk i glömska\, men tack vare feministiska kretsar på 80-talet översattes de till engelska och en ny värld kunde ta del av poesin. 2019 släpptes albumet Shtoltse lider (Stolta dikter) där Ida Gillner och Louise Vase blåste nytt liv i denna poesiskatt med nya tonsättningar av ovan nämnda poeter. Sång på jiddisch\, poesiläsning på svenska och engagerat berättande blir till konserten Shtoltse lider\, här i duoformat med Ida Gillner och Livet Nord i lekfullt och dynamiskt samspel med varandra.\nIda Gillner – sång\, piano\, sopransaxofon och berättande\nLivet Nord – violinquinton\, klockspel och sång\n\n\nCharlie Brolund\nCharlie Brolund är en icke-binär textförfattare\, kompositör och sångare uppväxt och bosatt i Stockholm. 2020 släppte Charlie albumet Dröm och Realitet (Kakafon Records) – en crossover mellan hens inlästa poesi på svenska och nykomponerad musik av bl.a. Frida Johansson\, Shida Shahabi\, Daniel Ögren och Livet Nord. Charlie utforskar i text och musik teman såsom tro\, tvivel\, föräldraskap\, förluster\, längtan\, rädsla och kärlek med inspiration från bl.a. Boye och Åkesson. Under kvällen kommer några av dessa verk uppföras tillsammans med sprillans ny text och musik från Charlies kommande album som släpps senare under 2023. Publiken bjuds på reflektioner kring livet i stort och smått: mystik och åtrå\, längtan efter vila\, en undran över hur man som vuxen egentligen pratar med en tonåring och ett tack till de människor som genom tiderna har fört kampen för allas lika rättigheter. Allt i ett personligt duoformat tillsammans med den riviga och lekfulla folkmusikern Jonas Bleckman (Ale Möller\, Good Harvest m.fl.) på cello.\nCharlie Brolund – röst\, sång\, piano\nJonas Bleckman – cello\n\n\nFotograf: Malin Karlsson (Charlie Brolund) / Peter Lloyd (Vapenlös) / Nettan Kock (Kaja) / Christopher Anderzon (Maja och Ola)\n\nFolkteatern\, Göteborg\, Lilla Scenen
URL:https://visanisverige.se/evenemang/kakafon-musik-och-poesifestival/
LOCATION:Folkteatern\, Olof Palmes plats 1\, Göteborg\, 413 04
CATEGORIES:Festival,Konsert
ATTACH;FMTTYPE=image/jpeg:https://visanisverige.se/wp-content/uploads/2023/02/327010768_598557852082352_3524433423342092712_n.jpg
END:VEVENT
BEGIN:VEVENT
DTSTART;TZID=Europe/Stockholm:20230311T160000
DTEND;TZID=Europe/Stockholm:20230311T173000
DTSTAMP:20260422T184253
CREATED:20230116T160054Z
LAST-MODIFIED:20230116T160054Z
UID:2378-1678550400-1678555800@visanisverige.se
SUMMARY:Visans dag
DESCRIPTION:Visans dag firar vi till minne av Evert Taubes födelse.\nDenna gång vill vi även fira internationella kvinnodagen. Vi vill lyfta fram kvinnors musik och några artister i och kring visklubben sjunger sånger av kvinnliga viskompositörer.
URL:https://visanisverige.se/evenemang/visans-dag/
LOCATION:Strandgatan 20\, Strandgatan 20\, Halmstad
CATEGORIES:Konsert
ORGANIZER;CN="Visklubben Skeppet":MAILTO:info@visklubbenskeppet.se
END:VEVENT
BEGIN:VEVENT
DTSTART;TZID=Europe/Stockholm:20230318T120000
DTEND;TZID=Europe/Stockholm:20230318T130000
DTSTAMP:20260422T184253
CREATED:20230222T181403Z
LAST-MODIFIED:20230222T181403Z
UID:2506-1679140800-1679144400@visanisverige.se
SUMMARY:Kaffe me’ Drömmar
DESCRIPTION:DET KOMMER ALLTID BÄTTRE DAGAR \nIngegerd Wessel –  rutinerad visartist och låtskrivare med angelägna texter och en röst som går hela vägen in i hjärtat.  Med lång erfarenhet rör hon sig ledigt mellan visa\, pop\,  soul och blues och tolkar bla den svenska musikskatten i god kombo med eget material. Wessel kommer med hög scennärvaro\, personligt uttryck och snygg gitarr. \n” Svänget\, rösten\, det gedigna hantverkets i texter och ackompanjemang. En inspiratör som bär på många berättelser” – Christina Kjellsson.  \n”Ingegerd Wessel måste numera betraktas som en av vissångarna i division 1. Hon har vad som krävs: hon har rösten\, sångerna och framför allt\, hon har fingertoppskänslan” – Per Wikner\, Obladoo \n 
URL:https://visanisverige.se/evenemang/kaffe-me-drommar/
LOCATION:Huskvarna Teater\, Jönköpingsvägen 17\, Huskvarna
CATEGORIES:Konsert
ATTACH;FMTTYPE=image/jpeg:https://visanisverige.se/wp-content/uploads/2023/02/D3BC37D5-4073-41D5-95F7-464696DF33E6.jpeg
END:VEVENT
BEGIN:VEVENT
DTSTART;TZID=Europe/Stockholm:20230318T140000
DTEND;TZID=Europe/Stockholm:20230318T160000
DTSTAMP:20260422T184253
CREATED:20230227T133349Z
LAST-MODIFIED:20230227T133349Z
UID:2530-1679148000-1679155200@visanisverige.se
SUMMARY:Visans Dag i Norden
DESCRIPTION:Samfundet Visans Vänner i Uddevalla\, som instiftades av Evert Taube på hans 55-årsdag den 12 mars 1945\, ger även i år en viskonsert med allsång i anslutning till Taubes födelsedag. I år blir det den 18 mars då medlemmar ut Visans Vänner i Uddevalla står på scenen. Välkomna!!
URL:https://visanisverige.se/evenemang/visans-dag-i-norden-2/
LOCATION:Bohusläns museum Hörsalen\, Museigatan 1\, Uddevalla
CATEGORIES:Konsert
ATTACH;FMTTYPE=image/jpeg:https://visanisverige.se/wp-content/uploads/2023/02/Visans-dag-i-Norden-2023-E32646.jpg
END:VEVENT
BEGIN:VEVENT
DTSTART;TZID=Europe/Stockholm:20230322T194500
DTEND;TZID=Europe/Stockholm:20230322T220000
DTSTAMP:20260422T184253
CREATED:20230211T065718Z
LAST-MODIFIED:20230211T065718Z
UID:2464-1679514300-1679522400@visanisverige.se
SUMMARY:West of Eden
DESCRIPTION:Varmt välkommen till Visans Vänner och Kustens Hus. Göteborgs scen för traditionella och moderna visor i en nordisk samklang. \n\nDenna afton uppträder West of Eden som tar sig an nationalskalden Evert Taube och sjunger för första gången på svenska. Det blir en spännande\, och välbehövlig uppdatering av Evert Taubes låtskatt\, färgad av den irländska atlantkusten och de skotska hedarnas musik.\nNy scen: Deya Boström
URL:https://visanisverige.se/evenemang/west-of-eden/
LOCATION:Kustens Hus\, Taubegatan 9\, Göteborg\, 414 55\, Sverige
CATEGORIES:Konsert
ATTACH;FMTTYPE=image/jpeg:https://visanisverige.se/wp-content/uploads/2023/02/Kulturpunkten-230322-West-of-Eden.jpg
ORGANIZER;CN="Visans V%C3%A4nner G%C3%B6teborg":MAILTO:visansvannergbg@gmail.com
END:VEVENT
BEGIN:VEVENT
DTSTART;TZID=Europe/Stockholm:20230325T170000
DTEND;TZID=Europe/Stockholm:20230325T190000
DTSTAMP:20260422T184253
CREATED:20230317T201021Z
LAST-MODIFIED:20230317T201021Z
UID:2605-1679763600-1679770800@visanisverige.se
SUMMARY:Nordisk viskonsert i Grundsund
DESCRIPTION:Den 24 – 26 mars kommer ett 40-tal visentusiaster från Norge\, Danmark\, Finland och Sverige till Skaftö Folkets Hus i Grundsund för en nordisk visträff. I samband med visträffen kommer det att ges en viskonsert lördag 25 mars. Här kommer vi att få höra visor från de nordiska länderna Norge\, Danmark\, Finland och Sverige framförda på originalspråk. Entré 100 kr inklusive fika.
URL:https://visanisverige.se/evenemang/nordisk-viskonsert-i-grundsund/
LOCATION:Skaftö Folkets Hus\, Alfågelstigen 2\, Grundsund\, 45179\, Sverige
CATEGORIES:Konsert
ATTACH;FMTTYPE=image/png:https://visanisverige.se/wp-content/uploads/2023/03/Nordisk-viskonsert.png
ORGANIZER;CN="Skaft%C3%B6 Folkets Hus":MAILTO:info@skaftofolketshus.se
END:VEVENT
BEGIN:VEVENT
DTSTART;TZID=Europe/Stockholm:20230326T210000
DTEND;TZID=Europe/Stockholm:20230402T230000
DTSTAMP:20260422T184253
CREATED:20230327T041451Z
LAST-MODIFIED:20230327T044359Z
UID:2650-1679864400-1680476400@visanisverige.se
SUMMARY:Storken landar i Gadbjerg
DESCRIPTION:Under parollen Storken landar hos dig blir det nu konsert i Gadbjerg. På scenen: Perry Stenbäck\, Martin Sundahl\, Billey Shamrock och Robert Dueholm. Visor på i första hand danska och svenska utlovas.
URL:https://visanisverige.se/evenemang/storken-landar-i-gadbjerg/
LOCATION:Margrethesalen\, Gadbjerg
CATEGORIES:Konsert
ATTACH;FMTTYPE=image/jpeg:https://visanisverige.se/wp-content/uploads/2023/03/Forar-med-3-ALTERNATIV-.jpg
ORGANIZER;CN="Yrkestrubadurernas F&ouml%3Brening":MAILTO:pierre@pierrestrom.se
END:VEVENT
END:VCALENDAR