BEGIN:VCALENDAR
VERSION:2.0
PRODID:-//Visan i Sverige - ECPv6.15.18//NONSGML v1.0//EN
CALSCALE:GREGORIAN
METHOD:PUBLISH
X-ORIGINAL-URL:https://visanisverige.se
X-WR-CALDESC:Händelser för Visan i Sverige
REFRESH-INTERVAL;VALUE=DURATION:PT1H
X-Robots-Tag:noindex
X-PUBLISHED-TTL:PT1H
BEGIN:VTIMEZONE
TZID:Europe/Stockholm
BEGIN:DAYLIGHT
TZOFFSETFROM:+0100
TZOFFSETTO:+0200
TZNAME:CEST
DTSTART:20220327T010000
END:DAYLIGHT
BEGIN:STANDARD
TZOFFSETFROM:+0200
TZOFFSETTO:+0100
TZNAME:CET
DTSTART:20221030T010000
END:STANDARD
BEGIN:DAYLIGHT
TZOFFSETFROM:+0100
TZOFFSETTO:+0200
TZNAME:CEST
DTSTART:20230326T010000
END:DAYLIGHT
BEGIN:STANDARD
TZOFFSETFROM:+0200
TZOFFSETTO:+0100
TZNAME:CET
DTSTART:20231029T010000
END:STANDARD
BEGIN:DAYLIGHT
TZOFFSETFROM:+0100
TZOFFSETTO:+0200
TZNAME:CEST
DTSTART:20240331T010000
END:DAYLIGHT
BEGIN:STANDARD
TZOFFSETFROM:+0200
TZOFFSETTO:+0100
TZNAME:CET
DTSTART:20241027T010000
END:STANDARD
END:VTIMEZONE
BEGIN:VEVENT
DTSTART;TZID=Europe/Stockholm:20230202T193000
DTEND;TZID=Europe/Stockholm:20230202T220000
DTSTAMP:20260422T200437
CREATED:20230125T071906Z
LAST-MODIFIED:20230125T071906Z
UID:2408-1675366200-1675375200@visanisverige.se
SUMMARY:STIGMARK & RAY
DESCRIPTION:Välkommen till en kväll med duon Annika Stigmark och Lolita Ray! Eget material på svenska\, stämsång\, piano\, gitarr\, mandolin och munspel! Samma kväll uppträder också Kristian von Svensson Inträde 150kr. Kultursekten i Högdalen. Info/bokning Kultursekten@gmail.com
URL:https://visanisverige.se/evenemang/stigmark-ray/
LOCATION:Kultursekten\, Sverige
CATEGORIES:Konsert
ATTACH;FMTTYPE=image/jpeg:https://visanisverige.se/wp-content/uploads/2023/01/336D8C8F-FD52-4AA5-AB5B-8E30C66734F3.jpeg
ORGANIZER;CN="Kultursekten":MAILTO:kultursekten@gmail.com
END:VEVENT
BEGIN:VEVENT
DTSTART;TZID=Europe/Stockholm:20230207T140000
DTEND;TZID=Europe/Stockholm:20230207T150000
DTSTAMP:20260422T200437
CREATED:20230110T203214Z
LAST-MODIFIED:20230110T203214Z
UID:2337-1675778400-1675782000@visanisverige.se
SUMMARY:Visor och gitarr med Daniel Petrén
DESCRIPTION:Musikprogram vid sopplunch i St Pauli\, Göteborg. Vissångaren Daniel Petrén framför Svenska visor och psalmer\, klassisk gitarr och några av sina egna sånger. Avskalat och stämningsfullt. www.danielpetren.com
URL:https://visanisverige.se/evenemang/visor-och-gitarr-med-daniel-petren/
LOCATION:Sankt Pauli\, Sankt Pauli kyrkoplan 1\, Göteborg\, 416 63
CATEGORIES:Konsert
ATTACH;FMTTYPE=image/jpeg:https://visanisverige.se/wp-content/uploads/2023/01/fardig_under_bron_svartvit_omslag-scaled.jpg
ORGANIZER;CN="St Pauli f%C3%B6rsamling":MAILTO:sanktpauli.forsamling@svenskakyrkan.se
END:VEVENT
BEGIN:VEVENT
DTSTART;TZID=Europe/Stockholm:20230208T140000
DTEND;TZID=Europe/Stockholm:20230208T150000
DTSTAMP:20260422T200437
CREATED:20230110T203612Z
LAST-MODIFIED:20230110T203612Z
UID:2341-1675864800-1675868400@visanisverige.se
SUMMARY:Visor och gitarr med Daniel Petrén
DESCRIPTION:Musikprogram vid sopplunch i Färgelanda församlingshem. Vissångaren Daniel Petrén framför Svenska visor och psalmer\, klassisk gitarr och några av sina egna sånger. Avskalat och stämningsfullt. www.danielpetren.com
URL:https://visanisverige.se/evenemang/visor-och-gitarr-med-daniel-petren-2/
LOCATION:Färgelanda prästgård\, Kyrkvägen 10\, Färgelanda\, 45831
CATEGORIES:Konsert
ATTACH;FMTTYPE=image/jpeg:https://visanisverige.se/wp-content/uploads/2023/01/fardig_under_bron_svartvit_omslag-1-scaled.jpg
ORGANIZER;CN="F%C3%A4rgelanda-H%C3%B6gs%C3%A4ters f%C3%B6rsamling":MAILTO:fargelanda.forsamling@svenskakyrkan.se
END:VEVENT
BEGIN:VEVENT
DTSTART;TZID=Europe/Stockholm:20230219T180000
DTEND;TZID=Europe/Stockholm:20230219T190000
DTSTAMP:20260422T200437
CREATED:20230110T203639Z
LAST-MODIFIED:20230110T203639Z
UID:2347-1676829600-1676833200@visanisverige.se
SUMMARY:Sånger om längtan och ljus
DESCRIPTION:Vissångaren och gitarristen Daniel Petrén framför Svenska visor och psalmer\, klassisk gitarr och några av sina egna sånger. Medverkar gör även Karl-Johan Råsmark (gitarr\, fiol) och Niclas Geidvik (trumpet). Det blir musik från Daniels EP Längtan\, som släpps under våren. www.danielpetren.com
URL:https://visanisverige.se/evenemang/sanger-om-langtan-och-ljus/
LOCATION:Herrestads kyrka\, Klockarevägen\, Uddevalla\, 45175
CATEGORIES:Konsert
ATTACH;FMTTYPE=image/jpeg:https://visanisverige.se/wp-content/uploads/2023/01/fardig_under_bron_svartvit_omslag-2-scaled.jpg
ORGANIZER;CN="Herrestads f%C3%B6rsamling":MAILTO:herrestad.forsamling@svenskakyrkan.se
END:VEVENT
BEGIN:VEVENT
DTSTART;TZID=Europe/Stockholm:20230222T194500
DTEND;TZID=Europe/Stockholm:20230222T220000
DTSTAMP:20260422T200437
CREATED:20230211T065516Z
LAST-MODIFIED:20230211T065516Z
UID:2458-1677095100-1677103200@visanisverige.se
SUMMARY:Lena Robért & Leif Pedda Pedersen
DESCRIPTION:Varmt välkommen till Visans Vänner och Kustens Hus. Göteborgs scen för traditionella och moderna visor i en nordisk samklang.\nDenna afton uppträder: ”I glömda poeters sällskap” Ett program fyllt med lyrik\, musik\, allvar\, humor\, gitarr\, luft\, liv\, sång\, tystnad och glädje! Vi heter Leif och Lena och har lånat texter av bland andra Anna Greta Wide\, Olof Lagercrantz\, Lars Forsell och Anders Wällhed\, som vi tonsatt och vill dela med oss av. \nNy scen: Eli Wadst
URL:https://visanisverige.se/evenemang/lena-robert-leif-pedda-pedersen/
LOCATION:Kustens Hus\, Taubegatan 9\, Göteborg\, 414 55\, Sverige
CATEGORIES:Konsert
ATTACH;FMTTYPE=image/jpeg:https://visanisverige.se/wp-content/uploads/2023/02/Kulturpunkten-230222-Lena-och-Leif.jpg
ORGANIZER;CN="Visans V%C3%A4nner G%C3%B6teborg":MAILTO:visansvannergbg@gmail.com
END:VEVENT
END:VCALENDAR