BEGIN:VCALENDAR
VERSION:2.0
PRODID:-//Visan i Sverige - ECPv6.15.18//NONSGML v1.0//EN
CALSCALE:GREGORIAN
METHOD:PUBLISH
X-ORIGINAL-URL:https://visanisverige.se
X-WR-CALDESC:Händelser för Visan i Sverige
REFRESH-INTERVAL;VALUE=DURATION:PT1H
X-Robots-Tag:noindex
X-PUBLISHED-TTL:PT1H
BEGIN:VTIMEZONE
TZID:Europe/Stockholm
BEGIN:DAYLIGHT
TZOFFSETFROM:+0100
TZOFFSETTO:+0200
TZNAME:CEST
DTSTART:20210328T010000
END:DAYLIGHT
BEGIN:STANDARD
TZOFFSETFROM:+0200
TZOFFSETTO:+0100
TZNAME:CET
DTSTART:20211031T010000
END:STANDARD
BEGIN:DAYLIGHT
TZOFFSETFROM:+0100
TZOFFSETTO:+0200
TZNAME:CEST
DTSTART:20220327T010000
END:DAYLIGHT
BEGIN:STANDARD
TZOFFSETFROM:+0200
TZOFFSETTO:+0100
TZNAME:CET
DTSTART:20221030T010000
END:STANDARD
BEGIN:DAYLIGHT
TZOFFSETFROM:+0100
TZOFFSETTO:+0200
TZNAME:CEST
DTSTART:20230326T010000
END:DAYLIGHT
BEGIN:STANDARD
TZOFFSETFROM:+0200
TZOFFSETTO:+0100
TZNAME:CET
DTSTART:20231029T010000
END:STANDARD
END:VTIMEZONE
BEGIN:VEVENT
DTSTART;TZID=Europe/Stockholm:20220505T100000
DTEND;TZID=Europe/Stockholm:20220505T190000
DTSTAMP:20260423T084316
CREATED:20220308T105118Z
LAST-MODIFIED:20220308T105118Z
UID:1563-1651744800-1651777200@visanisverige.se
SUMMARY:Musikanterna
DESCRIPTION:Musikanterna är gamla bekanta på Hökis Visrum vid det här laget… Denna gång är de bara några stycken – Micke\, Ewa och Torbjörn – men de garanterar att de kommer fylla Visrummet från golv till tak med sin musik! \nMusikanterna kommer främst att spela Micke Lindströms egna låtar och då från den senast utgivna ”Marie-Louise Visor”. Albumet är en svit om 5-6 visor om en fiktiv kvinna som möter livets vedermöder i olika miljöer\, olika tider och inte minst\, möten med olika människor. Utöver det utlovar Musikanterna några tolkningar av våra mest älskade vissnubbar! \nAtt lyssna in sig på…: https://open.spotify.com/album/10OaWruFWrtrZ1WKWj9sfE?si=whkMqNBfT06ekSKFT2qfGg&utm_source=copy-link \n*********** \nVi serverar fika i pausen för 30:-\nVi öppnar kl 18.00 – kom och se vår fina Cornelisutställning. \nHjärtligt välkomna!
URL:https://visanisverige.se/evenemang/musikanterna/
LOCATION:HökisVisrum/Stockholm\, Hökarängsplan 3\, Stockhom\, 123 56\, Sverige
CATEGORIES:Konsert
ATTACH;FMTTYPE=image/png:https://visanisverige.se/wp-content/uploads/2022/03/h-bild-17.png
ORGANIZER;CN="H%C3%B6kis Visrum":MAILTO:Info@Hokisvisrum.se
END:VEVENT
BEGIN:VEVENT
DTSTART;TZID=Europe/Stockholm:20220506T140000
DTEND;TZID=Europe/Stockholm:20220506T150000
DTSTAMP:20260423T084316
CREATED:20220502T155041Z
LAST-MODIFIED:20220502T155041Z
UID:1848-1651845600-1651849200@visanisverige.se
SUMMARY:Elin Callmer - Jag är en ö
DESCRIPTION:Jag är en ö är ett tänkvärt visprogram som handlar om ensamheten\, den faktiska och den existentiella och om vår längtan efter att få höra till. Med humor och allvar sjunger visartisten Elin Callmer eget material och tolkar andras. \nSpelas på Dalateatern\, Falun 6/5 2022 kl 12.00. Biljetter på dalateatern.se \n  \n 
URL:https://visanisverige.se/evenemang/elin-callmer-jag-ar-en-o/
LOCATION:Dalateatern\, Falun
CATEGORIES:Konsert
ATTACH;FMTTYPE=image/jpeg:https://visanisverige.se/wp-content/uploads/2022/05/DSC0534-scaled.jpg
END:VEVENT
BEGIN:VEVENT
DTSTART;TZID=Europe/Stockholm:20220508T170000
DTEND;TZID=Europe/Stockholm:20220508T190000
DTSTAMP:20260423T084316
CREATED:20220425T045843Z
LAST-MODIFIED:20220425T045843Z
UID:1818-1652029200-1652036400@visanisverige.se
SUMMARY:Will ni höra så ynkelig en händelse?
DESCRIPTION:Skillingtryck – Föredrag & visor med Karin Strand\, chef för Svenskt visarkiv\, & Johan Jansson\, vissångare. \n  \n 
URL:https://visanisverige.se/evenemang/will-ni-hora-sa-ynkelig-en-handelse/
LOCATION:Kläppgården\, Harads\, Harads\, 96024\, Sverige
CATEGORIES:Konsert
ATTACH;FMTTYPE=image/png:https://visanisverige.se/wp-content/uploads/2022/04/Affisch8maj2-e1650869895320.png
ORGANIZER;CN="Edefors Hembygdsf&ouml%3Brening":MAILTO:m.strand.none@gmail.com
END:VEVENT
BEGIN:VEVENT
DTSTART;TZID=Europe/Stockholm:20220512T100000
DTEND;TZID=Europe/Stockholm:20220512T190000
DTSTAMP:20260423T084316
CREATED:20220308T105055Z
LAST-MODIFIED:20220308T105055Z
UID:1566-1652349600-1652382000@visanisverige.se
SUMMARY:Peppe Ekberg
DESCRIPTION:Musikern och låtskrivaren Peppe Ekberg började sin musikaliska resa som trummis i olika lokala band i Södertälje. År 2004 började Peppe att skriva egna texter och musik där berättandet var det centrala\, genom att hitta ett uttryck att berätta och att beskriva det lilla i det stora\, om misslyckanden och om den hungrande längtan som finns i oss alla. Nu kommer han till Hökis Visrum för att framföra sina verk i ett intimt och akustiskt sammanhang med närhet mellan publik och musiker. \nPeppe Ekberg har tidigare medverkat på Visfestivalen Stallarholmens Visdagar tillsammans med Louise Hoffsten och Jack Wreesvijk. I början av år 2021 debuterade han med skivan Irrat Runt som spelades in i samarbet med producenten Anders Larm. Med skivdebuten fick han även skivkontrakt på Skivbolaget Riverside Records och samma år var Peppe även en av fem finalister i P4 Västmanlands P4-nästa med låten ”Kom Min Älskling”. Han är just nu aktuell med låten ”Ute Faller Regn” som producerats av Andreas Quincy Dahlbäck och som ges ut genom skivbolaget Eagle Records. \n******* \nVi serverar fika i pausen för 30:-\nVi öppnar kl 18.00 – kom och se vår fina Cornelisutställning. \nHjärtligt välkomna!
URL:https://visanisverige.se/evenemang/peppe-ekberg/
LOCATION:HökisVisrum/Stockholm\, Hökarängsplan 3\, Stockhom\, 123 56\, Sverige
CATEGORIES:Konsert
ATTACH;FMTTYPE=image/jpeg:https://visanisverige.se/wp-content/uploads/2022/03/h-bild-18.jpg
ORGANIZER;CN="H%C3%B6kis Visrum":MAILTO:Info@Hokisvisrum.se
END:VEVENT
BEGIN:VEVENT
DTSTART;TZID=Europe/Stockholm:20220519T210000
DTEND;TZID=Europe/Stockholm:20220519T210000
DTSTAMP:20260423T084316
CREATED:20220308T104902Z
LAST-MODIFIED:20220308T104902Z
UID:1584-1652994000-1652994000@visanisverige.se
SUMMARY:Miranda Murre Eriksson
DESCRIPTION:Miranda Murre Eriksson från Smålands djupa granskog tar med lyssnarna på en känslomässig berg- och dalbana med sina underfundiga texter och följsamma melodier genom glädje och sorg i livets stora och vardagens små stunder. \nMurre kommer ifrån den lilla byn Torsåsby i Västra Torsås som ligger i de södra delarna av Alvesta kommun och har sedan 14 års ålder\, fart och flängt mellan tåg och bussar till olika platser och spelningar och spelat sin musik. Numera är hon bosatt i visstaden Västervik där hon studerade vid Visskolan 2014–2016 och därefter beslutade sig för att stanna kvar. \nI vår är hon aktuell med sin debutplatta Tänk om… där hennes akustiska låtar lyfts in i ett folkrockigare rum. Detta gör hon tillsammans med ett par livliga och begåvade musiker som även de har rötterna i Smålands djupa granskog. \n******* \nVi serverar fika i pausen för 30:-\nVi öppnar kl 18.00 – kom och se vår fina Cornelisutställning. \nHjärtligt välkomna!
URL:https://visanisverige.se/evenemang/miranda-murre-eriksson/
LOCATION:HökisVisrum/Stockholm\, Hökarängsplan 3\, Stockhom\, 123 56\, Sverige
CATEGORIES:Konsert
ATTACH;FMTTYPE=image/png:https://visanisverige.se/wp-content/uploads/2022/03/h-bild-19.png
ORGANIZER;CN="H%C3%B6kis Visrum":MAILTO:Info@Hokisvisrum.se
END:VEVENT
BEGIN:VEVENT
DTSTART;TZID=Europe/Stockholm:20220520T210000
DTEND;TZID=Europe/Stockholm:20220520T230000
DTSTAMP:20260423T084316
CREATED:20220517T053955Z
LAST-MODIFIED:20220517T053955Z
UID:1892-1653080400-1653087600@visanisverige.se
SUMMARY:Personliga favoriter med Duo Klingström&Larsson
DESCRIPTION:De personliga favoriterna finns bland Mats egna visor liksom hans egna översättningar av några stora vispoeter\, som Cohen\, Dylan och Lanois. Duon tar också med några favoritlåtar  i originaltappning\, t.ex. Killing the Blues\,\nBartender´s Blues och And I Love Her. \nMats Klingström har gjort sig känd som en av våra absolut främsta och mest älskade Cohentolkare. Han är även en stor traditionsbärare av svensk visa och erhöll 2021 Ferlinsällskapets Trubadurpris. \nHasse Larsson är kontrabasist och en frilansmusiker som spelar tillsammans med många artister och i många olika sammanhang Han trakterar sitt instrument och musiken med stor fingertoppskänsla och bjuder på en härlig musikglädje.
URL:https://visanisverige.se/evenemang/personliga-favoriter-med-duo-klingstromlarsson/
LOCATION:Musikvalvet Baggen\, Svartmangatan 27\, Stockholm\, 11129\, Sverige
CATEGORIES:Konsert
ATTACH;FMTTYPE=image/jpeg:https://visanisverige.se/wp-content/uploads/2022/05/Mats-Klingstrom.jpg
ORGANIZER;CN="A-C S&aring%3Bng&amp%3Bamp%3Bkonsert - Musikvalvet":MAILTO:a.edblad@gmail.com
END:VEVENT
BEGIN:VEVENT
DTSTART;TZID=Europe/Stockholm:20220523T210000
DTEND;TZID=Europe/Stockholm:20220523T220000
DTSTAMP:20260423T084316
CREATED:20220512T100157Z
LAST-MODIFIED:20220512T100157Z
UID:1873-1653339600-1653343200@visanisverige.se
SUMMARY:Tapper och vred
DESCRIPTION:Välkommen till föreställningen Tapper och Vred! \nVi spelar i Hörsalen på Nordiska Folkhögskolan i Kungälv\, kl 19.00 den 23e maj! \nTapper och Vred var mottot för RFSU:s grundare Elise Ottosen Jensen\, även kallad Ottar. Vår föreställning tar avstamp i Sverige för hundra år sen med Ottar i centrum. Hur levde människor på den tiden? Vad innebar den dåvarande sexualpolitiken för vanligt folk?\nGenom visor\, teater och poesi letar vi oss sedan fram till dagens samhälle och den nya läroplanen 2022 – Sexualitet\, samtycke och relationer. Vilka utmaningar står samhället inför idag? Hur hanterar man intimitet i en digital värld? Och vad är egentligen kärlek?\nTillsammans kan vi (åtminstone försöka) ta reda på det! \nSpelplatsen är Hörsalen\, Nordiska Folkhögskolan\, Kungälv. \nGratis inträde\nValfritt utträde\nSwish 0709269643 \nVill du säkra din plats så maila hillbomsusanna@yahoo.se \nVarmt välkomna önskar\,\nSusanna Hillbom\, Malin Carlsson och Ronja Möller
URL:https://visanisverige.se/evenemang/tapper-och-vred/
LOCATION:Nordiska folkhögskolan. Kungälv.\, Olof Palmes väg 1\, Kungälv\, **233
CATEGORIES:Konsert
ATTACH;FMTTYPE=image/jpeg:https://visanisverige.se/wp-content/uploads/2022/05/FB_IMG_1651897480546.jpg
ORGANIZER;CN="Susanna Hillbom":MAILTO:hillbomsusanna@yahoo.se
END:VEVENT
BEGIN:VEVENT
DTSTART;TZID=Europe/Stockholm:20220524T210000
DTEND;TZID=Europe/Stockholm:20220524T220000
DTSTAMP:20260423T084316
CREATED:20220512T135429Z
LAST-MODIFIED:20220512T135429Z
UID:1882-1653426000-1653429600@visanisverige.se
SUMMARY:Tapper och vred
DESCRIPTION:Välkommen till föreställningen Tapper och Vred!\nVi spelar på Frilagret\, i Göteborg den 24e maj kl 19.00.\nTapper och Vred var mottot för RFSU:s grundare Elise Ottosen Jensen\, även kallad Ottar. Vår föreställning tar avstamp i Sverige för hundra år sen med Ottar i centrum. Hur levde människor på den tiden? Vad innebar den dåvarande sexualpolitiken för vanligt folk?\nGenom visor\, teater och poesi letar vi oss sedan fram till dagens samhälle och den nya läroplanen 2022 – Sexualitet\, samtycke och relationer. Vilka utmaningar står samhället inför idag? Hur hanterar man intimitet i en digital värld? Och vad är egentligen kärlek?\nTillsammans kan vi (åtminstone försöka) ta reda på det!\nSpelplatsen är Frilagret\, Heurlins Plats 1\, 413 01 Göteborg.\nGratis inträde\nValfritt utträde\nSwish 0709269643\nVill du säkra din plats så maila hillbomsusanna@yahoo.se\nVarmt välkomna önskar\,\nSusanna Hillbom\, Malin Carlsson och Ronja Möller
URL:https://visanisverige.se/evenemang/tapper-och-vred-2/
LOCATION:Frilagret. Göteborg\, Heurlins plats 1\, Göteborg\, 413 01
CATEGORIES:Konsert
ATTACH;FMTTYPE=image/jpeg:https://visanisverige.se/wp-content/uploads/2022/05/Elise-OJ.jpg
ORGANIZER;CN="Susanna Hillbom":MAILTO:hillbomsusanna@yahoo.se
END:VEVENT
BEGIN:VEVENT
DTSTART;TZID=Europe/Stockholm:20220526T100000
DTEND;TZID=Europe/Stockholm:20220526T190000
DTSTAMP:20260423T084316
CREATED:20220308T105037Z
LAST-MODIFIED:20220308T105037Z
UID:1569-1653559200-1653591600@visanisverige.se
SUMMARY:Maria Lindström
DESCRIPTION:Maria Lindström har varit visartist i fler decennier än hon orkar räkna ut\, men än är hon inte uträknad. Hon bodde länge i Malmö där hon debuterade professionellt som skådespelare och musiker\, och fortsatte senare med egna kabaréer på legendariska restaurang Möllan\, på Mosebacke i Stockholm och många andra ställen. Maria har ägnat sig åt Taube\, Bellman\, Birger Sjöberg\, Strindberg och allt som är bra även på andra språk\, men framför allt är hon sjungande låtskrivare och poet med 10 album och ett par diktsamlingar. Sedan tjugu år är hon äntligen återbördad Stockholmare\, närmare bestämt i Högdalen! \n******* \nVi serverar fika i pausen för 30:-\nVi öppnar kl 18.00 – kom och se vår fina Cornelisutställning. \nHjärtligt välkomna!
URL:https://visanisverige.se/evenemang/maria-lindstrom/
LOCATION:HökisVisrum/Stockholm\, Hökarängsplan 3\, Stockhom\, 123 56\, Sverige
CATEGORIES:Konsert
ATTACH;FMTTYPE=image/png:https://visanisverige.se/wp-content/uploads/2022/03/h-bild-20.png
ORGANIZER;CN="H%C3%B6kis Visrum":MAILTO:Info@Hokisvisrum.se
END:VEVENT
BEGIN:VEVENT
DTSTART;TZID=Europe/Stockholm:20220528T210000
DTEND;TZID=Europe/Stockholm:20220529T000000
DTSTAMP:20260423T084316
CREATED:20220430T164326Z
LAST-MODIFIED:20220430T164326Z
UID:1828-1653771600-1653782400@visanisverige.se
SUMMARY:VISUMS Jubileumskonsert med Pernilla Andersson
DESCRIPTION:Bokning:\nhttps://www.biljettcentrum.com/…/visums…/\n\nVisans vänner i Umeå/Visum fyller 30 år och firar detta med en Jubileumskonsert på Ersboda Folkets Hus\, där huvudartisten är singer/songwritern mm Pernilla Andersson.\nKonserten startar kl. 19.00 men insläpp sker från 18.00. Konserten är uppdelad i två akter med en paus emellan. Före paus spelar vissångaren Anders Bek och musikgruppen Pumpaorkestern. Efter en paus på ca 30 min äntrar Pernilla Andersson scenen.\n\n\nInformation om artisterna:\n\nAnders Bek\nAnders var med när Visum startades och finns också med på Visums samlings-CD från 1994\, ”Visum Oi”.\nAnders har gjort ett stort antal egna visor och hans framträdanden kännetecknas av stor scennärvaro och en berörande röst. Han beskriver sitt artisteri på följande sätt. ”Efter en längre tjänstledighet från singer/songwriter-scenen återvänder jag som ensam gärningsman\, bestyckad med gitarr och akustisk sång. Det blir ett knippe självförvållade låtar\, lagrade under ett par tre decennier”.\n\n\nPumpaorkestern\nPumpaorkestern är ett Umeå-baserat 5-mannaband där bl.a. Lars Eriksson ingår. Lars var också med de inledande åren i samband med starten av Visum. På sin hemsida beskriver orkestern sig så här.\nPumpaorkestern uppstod på hösten 2012 som husband till föreställningen Vaudeville 2013\, och på den vägen är det. Orkestern har spelat på olika tillställningar och festivaler. Mycket av musiken kommer från något slags nycabaret eller Dark Cabaret. Vagabond Opera och Circus Contraption är bl.a. inspiratörer.\n\nOrkestern består av Lars Ericson – piano\, dragspel\, sång\, klockspel mm\nJohan Friborg – sax\, klarinett\, ukulele\, gitarr\, sång\nFredrik Mårtensson – bas\nMattias Olofsson – trummor\, slagverk och sång\nMaria Lindblom – sång\, ukulele\, slagverk mm\n\n\nPernilla Andersson\nPernilla Andersson föddes i ett musikerhem. Pappan var jazzmusiker och mamman schlager- och jazzsångerska. Redan vid 5 års ålder började hon spela piano och bara några år senare gjorde hon sina första\, egna låtar. Hon har en masterexamen från Kungliga Musikhögskolan och har studerat vid Balettakademin i Göteborg.\nPernilla är en av våra mest folkkära och turnerande artister som också arbetar som producent\, låtskrivare och skivbolagsdirektör för skivetiketten Sheriff Records. Hon har gett ut 11 studioalbum sedan 2009 och har varit Grammisnominerad både som Årets artist och Årets kompositör.\n\nPernilla har ett starkt samhällsengagemang både som mentor för unga tjejer som vill ta sig fram i musikbranschen\, och som kraftfull förespråkare för en bättre äldrevård. Det senare resulterade i att hon startade Vårdupproret.\nVi kan inte tänka oss någon mer lämpad än Pernilla att avsluta Visums Jubileumskonsert.\n\nLäs mer på:\nhttp://www.pernillaandersson.com/nyhet\n\nhttps://alltomvasterbotten.se/…/visums…/
URL:https://visanisverige.se/evenemang/visums-jubileumskonsert-med-pernilla-andersson/
LOCATION:Ersboda Folkets hus Umeå\, Byttgränd 13\, Umeå\, 906 27
CATEGORIES:Konsert
ATTACH;FMTTYPE=image/png:https://visanisverige.se/wp-content/uploads/2022/04/ghgfdh-e1651344177352.png
ORGANIZER;CN="Studief&ouml%3Brbundet Bilda Nord":MAILTO:nord@bilda.nu
END:VEVENT
END:VCALENDAR