BEGIN:VCALENDAR
VERSION:2.0
PRODID:-//Visan i Sverige - ECPv6.15.18//NONSGML v1.0//EN
CALSCALE:GREGORIAN
METHOD:PUBLISH
X-ORIGINAL-URL:https://visanisverige.se
X-WR-CALDESC:Händelser för Visan i Sverige
REFRESH-INTERVAL;VALUE=DURATION:PT1H
X-Robots-Tag:noindex
X-PUBLISHED-TTL:PT1H
BEGIN:VTIMEZONE
TZID:Europe/Stockholm
BEGIN:DAYLIGHT
TZOFFSETFROM:+0100
TZOFFSETTO:+0200
TZNAME:CEST
DTSTART:20210328T010000
END:DAYLIGHT
BEGIN:STANDARD
TZOFFSETFROM:+0200
TZOFFSETTO:+0100
TZNAME:CET
DTSTART:20211031T010000
END:STANDARD
BEGIN:DAYLIGHT
TZOFFSETFROM:+0100
TZOFFSETTO:+0200
TZNAME:CEST
DTSTART:20220327T010000
END:DAYLIGHT
BEGIN:STANDARD
TZOFFSETFROM:+0200
TZOFFSETTO:+0100
TZNAME:CET
DTSTART:20221030T010000
END:STANDARD
BEGIN:DAYLIGHT
TZOFFSETFROM:+0100
TZOFFSETTO:+0200
TZNAME:CEST
DTSTART:20230326T010000
END:DAYLIGHT
BEGIN:STANDARD
TZOFFSETFROM:+0200
TZOFFSETTO:+0100
TZNAME:CET
DTSTART:20231029T010000
END:STANDARD
END:VTIMEZONE
BEGIN:VEVENT
DTSTART;TZID=Europe/Stockholm:20220305T140000
DTEND;TZID=Europe/Stockholm:20220305T170000
DTSTAMP:20260423T110146
CREATED:20220304T094613Z
LAST-MODIFIED:20220304T095515Z
UID:1456-1646488800-1646499600@visanisverige.se
SUMMARY:Visans Dag i Norden
DESCRIPTION:Samfundet Visans Vänner i Uddevalla håller sin årliga konsert på Bohusläns museum. Årets visstipendiat kommer att presenteras. Medlemmar ur Visans Vänner står på scenen.
URL:https://visanisverige.se/evenemang/visans-dag-i-norden/
LOCATION:Bohusläns museum Hörsalen\, Museigatan 1\, Uddevalla
CATEGORIES:Konsert
ATTACH;FMTTYPE=image/png:https://visanisverige.se/wp-content/uploads/2022/03/Ord-och-toner.png
END:VEVENT
BEGIN:VEVENT
DTSTART;TZID=Europe/Stockholm:20220310T190000
DTEND;TZID=Europe/Stockholm:20220310T200000
DTSTAMP:20260423T110146
CREATED:20220308T194453Z
LAST-MODIFIED:20220308T194453Z
UID:1621-1646938800-1646942400@visanisverige.se
SUMMARY:Fåglar och frihet
DESCRIPTION:Vi är tre elever från Nordiska Vislinjen som med vårt turnéprojekt presenterar en konsert med frihet i fokus. Fågeln är för många en symbol för den ultimata friheten. Under vår konsert tar fågeln med oss till olika ljudlandskap och texter\, alltifrån det vackra och sköra till det råa och ärliga. Fågeln uppmanar oss att visa oss sårbara\, stolta och fria. Låtarna vi presenterar kommer vara en blandning av pop-ballader på engelska\, traditionella visor och egenskrivet material.\nVi som medverkar heter Sara Bylund\, Vendela Neij och Alicia Elfversson
URL:https://visanisverige.se/evenemang/faglar-och-frihet-4/
LOCATION:Frölunda kulturhus\, Valthornsgatan 13\, Västra Frölunda\, 421 46
CATEGORIES:Konsert
ATTACH;FMTTYPE=image/jpeg:https://visanisverige.se/wp-content/uploads/2022/03/Faglar-och-frihet-650x433-1.jpg
ORGANIZER;CN="Fr%C3%B6lunda kulturhus":MAILTO:tomas.modig@kultur.goteborg.se
END:VEVENT
BEGIN:VEVENT
DTSTART;TZID=Europe/Stockholm:20220311T180000
DTEND;TZID=Europe/Stockholm:20220311T190000
DTSTAMP:20260423T110146
CREATED:20220308T194511Z
LAST-MODIFIED:20220308T194511Z
UID:1627-1647021600-1647025200@visanisverige.se
SUMMARY:Fåglar och frihet
DESCRIPTION:Vi är tre elever från Nordiska Vislinjen som med vårt turnéprojekt presenterar en konsert med frihet i fokus. Fågeln är för många en symbol för den ultimata friheten. Under vår konsert tar fågeln med oss till olika ljudlandskap och texter\, alltifrån det vackra och sköra till det råa och ärliga. Fågeln uppmanar oss att visa oss sårbara\, stolta och fria. Låtarna vi presenterar kommer vara en blandning av pop-ballader på engelska\, traditionella visor och egenskrivet material.\nVi som medverkar heter Sara Bylund\, Vendela Neij och Alicia Elfversson
URL:https://visanisverige.se/evenemang/faglar-och-frihet-5/
LOCATION:Mimers hus\, Trollhättevägen 4\, Kungälv\, 442 34
CATEGORIES:Konsert
ATTACH;FMTTYPE=image/jpeg:https://visanisverige.se/wp-content/uploads/2022/03/Faglar-och-frihet-650x433-2.jpg
ORGANIZER;CN="Mimers hus":MAILTO:robin.gillenskog@skola.kungalv.se
END:VEVENT
BEGIN:VEVENT
DTSTART;TZID=Europe/Stockholm:20220312T190000
DTEND;TZID=Europe/Stockholm:20220312T210000
DTSTAMP:20260423T110146
CREATED:20220308T194546Z
LAST-MODIFIED:20220308T194546Z
UID:1633-1647111600-1647118800@visanisverige.se
SUMMARY:Fåglar och frihet
DESCRIPTION:Vi är tre elever från Nordiska Vislinjen som med vårt turnéprojekt presenterar en konsert med frihet i fokus. Fågeln är för många en symbol för den ultimata friheten. Under vår konsert tar fågeln med oss till olika ljudlandskap och texter\, alltifrån det vackra och sköra till det råa och ärliga. Fågeln uppmanar oss att visa oss sårbara\, stolta och fria. Låtarna vi presenterar kommer vara en blandning av pop-ballader på engelska\, traditionella visor och egenskrivet material.\nVi som medverkar heter Sara Bylund\, Vendela Neij och Alicia Elfversson.
URL:https://visanisverige.se/evenemang/faglar-och-frihet-6/
LOCATION:Vajberiet\, Övre Hallegatan 27\, Göteborg\, 417 13
CATEGORIES:Konsert
ATTACH;FMTTYPE=image/jpeg:https://visanisverige.se/wp-content/uploads/2022/03/Faglar-och-frihet-650x433-3.jpg
ORGANIZER;CN="Vajberiet":MAILTO:neapolitansounds@gmail.com
END:VEVENT
BEGIN:VEVENT
DTSTART;TZID=Europe/Stockholm:20220315T090000
DTEND;TZID=Europe/Stockholm:20220315T200000
DTSTAMP:20260423T110146
CREATED:20220311T110720Z
LAST-MODIFIED:20220311T110720Z
UID:1663-1647334800-1647374400@visanisverige.se
SUMMARY:Stinas visor - Musik på biblioteket
DESCRIPTION:Med sitt andra album ”Medan bäcken brusar” bjuder gruppen på egna visor i en lekfull mix av svensk och irländsk folkmusik\, visa och bluegrass. De vardagsnära texterna innehåller båda små och stora frågor om livet och ämnen som relationer\, cyklar och dans hemma på köksgolvet.
URL:https://visanisverige.se/evenemang/stinas-visor-musik-pa-biblioteket-3/
LOCATION:Högsbo bibliotek\, Axel Dahlströms Torg 3\, Göteborg\, 414 80
CATEGORIES:Konsert
ATTACH;FMTTYPE=image/jpeg:https://visanisverige.se/wp-content/uploads/2022/03/DSC_1180-Blå-Foto-Harald-Nilsson-scaled.jpg
END:VEVENT
BEGIN:VEVENT
DTSTART;TZID=Europe/Stockholm:20220315T200000
DTEND;TZID=Europe/Stockholm:20220315T210000
DTSTAMP:20260423T110146
CREATED:20220308T194406Z
LAST-MODIFIED:20220308T194406Z
UID:1638-1647374400-1647378000@visanisverige.se
SUMMARY:Fåglar och frihet
DESCRIPTION:Vi är tre elever från Nordiska Vislinjen som med vårt turnéprojekt presenterar en konsert med frihet i fokus. Fågeln är för många en symbol för den ultimata friheten. Under vår konsert tar fågeln med oss till olika ljudlandskap och texter\, alltifrån det vackra och sköra till det råa och ärliga. Fågeln uppmanar oss att visa oss sårbara\, stolta och fria. Låtarna vi presenterar kommer vara en blandning av pop-ballader på engelska\, traditionella visor och egenskrivet material.\nVi som medverkar heter Sara Bylund\, Vendela Neij och Alicia Elfversson.
URL:https://visanisverige.se/evenemang/faglar-och-frihet-3/
LOCATION:Jönköpings kulturhus\, Svavelsticksgränd 7\, Jönköping\, 553 15
CATEGORIES:Konsert
ATTACH;FMTTYPE=image/jpeg:https://visanisverige.se/wp-content/uploads/2022/03/Faglar-och-frihet-650x433-4.jpg
ORGANIZER;CN="J&ouml%3Bnk&ouml%3Bpings kulturhus":MAILTO:opsam@kulturhusetjonkoping.se
END:VEVENT
BEGIN:VEVENT
DTSTART;TZID=Europe/Stockholm:20220316T190000
DTEND;TZID=Europe/Stockholm:20220316T190000
DTSTAMP:20260423T110146
CREATED:20220311T110659Z
LAST-MODIFIED:20220311T110659Z
UID:1667-1647457200-1647457200@visanisverige.se
SUMMARY:Stinas visor - Musik på biblioteket
DESCRIPTION:Med sitt andra album ”Medan bäcken brusar” bjuder gruppen på egna visor i en lekfull mix av svensk och irländsk folkmusik\, visa och bluegrass. De vardagsnära texterna innehåller båda små och stora frågor om livet och ämnen som relationer\, cyklar och dans hemma på köksgolvet.
URL:https://visanisverige.se/evenemang/stinas-visor-musik-pa-biblioteket-2/
LOCATION:Munkedals bibliotek\, Centrumtorget 5\, Munkedal\, 455 30
CATEGORIES:Konsert
ATTACH;FMTTYPE=image/jpeg:https://visanisverige.se/wp-content/uploads/2022/03/DSC_1180-Blå-Foto-Harald-Nilsson-1-scaled.jpg
END:VEVENT
BEGIN:VEVENT
DTSTART;TZID=Europe/Stockholm:20220316T190000
DTEND;TZID=Europe/Stockholm:20220316T200000
DTSTAMP:20260423T110146
CREATED:20220308T194308Z
LAST-MODIFIED:20220308T194308Z
UID:1643-1647457200-1647460800@visanisverige.se
SUMMARY:Fåglar och frihet
DESCRIPTION:Vi är tre elever från Nordiska Vislinjen som med vårt turnéprojekt presenterar en konsert med frihet i fokus. Fågeln är för många en symbol för den ultimata friheten. Under vår konsert tar fågeln med oss till olika ljudlandskap och texter\, alltifrån det vackra och sköra till det råa och ärliga. Fågeln uppmanar oss att visa oss sårbara\, stolta och fria. Låtarna vi presenterar kommer vara en blandning av pop-ballader på engelska\, traditionella visor och egenskrivet material.\nVi som medverkar heter Sara Bylund\, Vendela Neij och Alicia Elfversson.
URL:https://visanisverige.se/evenemang/faglar-och-frihet-2/
LOCATION:Sörängens folkhögskola\, Rågången 4\, Nässjö\, 571 38
CATEGORIES:Konsert
ATTACH;FMTTYPE=image/jpeg:https://visanisverige.se/wp-content/uploads/2022/03/Faglar-och-frihet-650x433-5.jpg
ORGANIZER;CN="S&ouml%3Br&auml%3Bngens folkh&ouml%3Bgskola":MAILTO:par.berg@sorangen.rjl.se
END:VEVENT
BEGIN:VEVENT
DTSTART;TZID=Europe/Stockholm:20220316T200000
DTEND;TZID=Europe/Stockholm:20220316T213000
DTSTAMP:20260423T110146
CREATED:20220316T065224Z
LAST-MODIFIED:20220316T065224Z
UID:1713-1647460800-1647466200@visanisverige.se
SUMMARY:På väg & Monsiö OK
DESCRIPTION:Vi är alla på väg någonstans. Alla har vi vårt eget bagage att bära. Det kan vara tungt eller lätt\, härligt eller förfärligt\, angenämt eller obekvämt\, det kan bäras med glädje eller sorg. \nVart är du på väg? Vi är på väg till dig! Vi bär med oss sånger och låtar som vi vill ge bort en stund\, innan vi vandrar vidare på vår väg. \nVi är tre deltagare från Nordiska Visskolan i Kungälv. I vårt program utforskar vi hopp och förtvivlan\, i både svenska och engelska sånger\, nya och gamla melodier och såväl egenskrivna som andras texter.
URL:https://visanisverige.se/evenemang/pa-vag-monsio-ok/
LOCATION:Restaurang Ti Amo\, Strandvägen 8\, Stenungsund
CATEGORIES:Konsert
ATTACH;FMTTYPE=image/jpeg:https://visanisverige.se/wp-content/uploads/2022/03/8C2D77B2-EBBD-4E5C-9D7C-9B8AF743567D.jpeg
END:VEVENT
BEGIN:VEVENT
DTSTART;TZID=Europe/Stockholm:20220317T200000
DTEND;TZID=Europe/Stockholm:20220317T200000
DTSTAMP:20260423T110146
CREATED:20220308T105306Z
LAST-MODIFIED:20220308T105306Z
UID:1532-1647547200-1647547200@visanisverige.se
SUMMARY:Peter Granström och Hanna Olsson
DESCRIPTION:I mars får Hökis Visrum besök av Peter Granström och Hanna Olsson som framför sina respektive låtar om livet\, havet\, kärleken och duvor…  \nPeter Granström är vispoeten och det musikaliska naturbarnet som fritt rör sig mellan konstens beslöjade mystik och känslornas rasande utspel. Känd från banden Pohn Jettri och Kom Trasiga\, turnéer från Sverige till Senegal. Var Peter än framträder så är det den elektriska närvaron\, de suggestiva kompen och de tveegade fraserna som förundrar och omtumlar publiken. \nHanna Olsson – bockstenspoppens matriark har äntligen börjat ge solokonserter. Med sina egensinniga texter och unika stil trollbinder hon gång på gång sin publik. \n**************** \nVi serverar fika i pausen för 30:-\nVi öppnar kl 18.00 – kom och se vår fina Cornelisutställning. \nHjärtligt välkomna!
URL:https://visanisverige.se/evenemang/peter-granstrom-och-hanna-olsson/
LOCATION:HökisVisrum/Stockholm\, Hökarängsplan 3\, Stockhom\, 123 56\, Sverige
CATEGORIES:Konsert
ATTACH;FMTTYPE=image/jpeg:https://visanisverige.se/wp-content/uploads/2022/03/h-bild-11.jpg
ORGANIZER;CN="H%C3%B6kis Visrum":MAILTO:Info@Hokisvisrum.se
END:VEVENT
BEGIN:VEVENT
DTSTART;TZID=Europe/Stockholm:20220318T180000
DTEND;TZID=Europe/Stockholm:20220318T193000
DTSTAMP:20260423T110146
CREATED:20220316T065249Z
LAST-MODIFIED:20220316T065249Z
UID:1718-1647626400-1647631800@visanisverige.se
SUMMARY:På väg & Monsiö OK
DESCRIPTION:Vi är alla på väg någonstans. Alla har vi vårt eget bagage att bära. Det kan vara tungt eller lätt\, härligt eller förfärligt\, angenämt eller obekvämt\, det kan bäras med glädje eller sorg. \nVart är du på väg? Vi är på väg till dig! Vi bär med oss sånger och låtar som vi vill ge bort en stund\, innan vi vandrar vidare på vår väg. \nVi är tre deltagare från Nordiska Visskolan i Kungälv. I vårt program utforskar vi hopp och förtvivlan\, i både svenska och engelska sånger\, nya och gamla melodier och såväl egenskrivna som andras texter.
URL:https://visanisverige.se/evenemang/pa-vag-monsio-ok-2/
LOCATION:Mimers Kulturhus\, Trollhättevägen 4\, Kungälv
CATEGORIES:Konsert
ATTACH;FMTTYPE=image/jpeg:https://visanisverige.se/wp-content/uploads/2022/03/CDC6FD9E-56A9-4ECD-BAAF-ADA4520510D2.jpeg
END:VEVENT
BEGIN:VEVENT
DTSTART;TZID=Europe/Stockholm:20220320T150000
DTEND;TZID=Europe/Stockholm:20220320T170000
DTSTAMP:20260423T110146
CREATED:20220308T194223Z
LAST-MODIFIED:20220308T194223Z
UID:1648-1647788400-1647795600@visanisverige.se
SUMMARY:Fåglar och frihet
DESCRIPTION:Vi är tre elever från Nordiska Vislinjen som med vårt turnéprojekt presenterar en konsert med frihet i fokus. Fågeln är för många en symbol för den ultimata friheten. Under vår konsert tar fågeln med oss till olika ljudlandskap och texter\, alltifrån det vackra och sköra till det råa och ärliga. Fågeln uppmanar oss att visa oss sårbara\, stolta och fria. Låtarna vi presenterar kommer vara en blandning av pop-ballader på engelska\, traditionella visor och egenskrivet material.\nVi som medverkar heter Sara Bylund\, Vendela Neij och Alicia Elfversson.
URL:https://visanisverige.se/evenemang/faglar-och-frihet/
LOCATION:Kustens Hus\, Taubegatan 9\, Göteborg\, 414 55\, Sverige
CATEGORIES:Konsert
ATTACH;FMTTYPE=image/jpeg:https://visanisverige.se/wp-content/uploads/2022/03/Faglar-och-frihet-650x433-6.jpg
ORGANIZER;CN="Visans V%C3%A4nner G%C3%B6teborg":MAILTO:visansvannergbg@gmail.com
END:VEVENT
BEGIN:VEVENT
DTSTART;TZID=Europe/Stockholm:20220323T190000
DTEND;TZID=Europe/Stockholm:20220323T203000
DTSTAMP:20260423T110146
CREATED:20220316T065308Z
LAST-MODIFIED:20220316T065308Z
UID:1722-1648062000-1648067400@visanisverige.se
SUMMARY:På väg & Monsiö OK
DESCRIPTION:Vi är alla på väg någonstans. Alla har vi vårt eget bagage att bära. Det kan vara tungt eller lätt\, härligt eller förfärligt\, angenämt eller obekvämt\, det kan bäras med glädje eller sorg. \nVart är du på väg?\nVi är på väg till dig! Vi bär med oss sånger och låtar som vi vill ge bort en stund\, innan vi vandrar vidare på vår väg. \nVi är tre deltagare från Nordiska Visskolan i Kungälv. I vårt program utforskar vi hopp och förtvivlan\, i både svenska och engelska sånger\, nya och gamla melodier och såväl egenskrivna som andras texter.
URL:https://visanisverige.se/evenemang/pa-vag-monsio-ok-3/
LOCATION:Nordiska folkhögskolan\, Olof Palmes väg 1\, Kungälv
CATEGORIES:Konsert
ATTACH;FMTTYPE=image/jpeg:https://visanisverige.se/wp-content/uploads/2022/03/5397F51C-1230-4918-B371-43A63FFA62B0.jpeg
END:VEVENT
BEGIN:VEVENT
DTSTART;TZID=Europe/Stockholm:20220324T200000
DTEND;TZID=Europe/Stockholm:20220324T200000
DTSTAMP:20260423T110146
CREATED:20220308T105248Z
LAST-MODIFIED:20220308T105248Z
UID:1548-1648152000-1648152000@visanisverige.se
SUMMARY:Lovisa Hagström
DESCRIPTION:Bland vardagens kalla pannkakor singlar löven från kökstaken.. Tår och tårar fryser längs blankväg till pärlor och kristaller sköra som glas… Lovisa Hagström för oss med i poetiska betraktelser och nakna sanningar i såväl raka som slingriga vägar genom livets virrvarr. \nLovisa började sin musikaliska bana i garagepunken och vandrade över såväl baktakt som folk-\, rock- och världsmusik. Detta hörs i hennes musik som i sitt uttryck varierar från avskalad visa till smärtsam Majornatango. Hon har jämförts med storheter som Edith Piaff\, Richard Wolf och Lisa Ekdal och hennes uttryck är ofta starkt berörande och högst personligt. \nUnder två år på Nordiska folkhögskolan utvecklades började Lovisa ta med visuella uttryck till sina sånger och hennes examensarbete resulterade i utställningskonserten ”Tedags för Svalor” där årets sånger även kunde upplevas i form av performance och installationer i både fysisk och videoform. \nI år jobbar Lovisa vidare med nästa projekt ”Avskalat”\, som handlar om det som finns under ytan\, under huden\, under det synliga\, mellanmänskliga och i vart undermedvetna. Hon har under de senaste åren även skrivit material till tre album som just nu är under inspelning och vi kommer under kvällen få höra delar från de alla. \nSpotify: https://open.spotify.com/track/4SdIO8ET64NiALiTHnnEST?si=c15925026a5d4c5b \nFacebook: www.facebook.com/lovisahagstrommusic/ \nSamt på Youtube: https://www.youtube.com/watch?v=F4RxWqDnzeg \n*********** \nVi serverar fika i pausen för 30:-\nVi öppnar kl 18.00 – kom och se vår fina Cornelisutställning. \nHjärtligt välkomna!
URL:https://visanisverige.se/evenemang/lovisa-hagstrom/
LOCATION:HökisVisrum/Stockholm\, Hökarängsplan 3\, Stockhom\, 123 56\, Sverige
CATEGORIES:Konsert
ATTACH;FMTTYPE=image/png:https://visanisverige.se/wp-content/uploads/2022/03/h-bild-12.png
ORGANIZER;CN="H%C3%B6kis Visrum":MAILTO:Info@Hokisvisrum.se
END:VEVENT
BEGIN:VEVENT
DTSTART;TZID=Europe/Stockholm:20220331T210000
DTEND;TZID=Europe/Stockholm:20220331T210000
DTSTAMP:20260423T110146
CREATED:20220308T105225Z
LAST-MODIFIED:20220330T092430Z
UID:1551-1648760400-1648760400@visanisverige.se
SUMMARY:Visrum för freden
DESCRIPTION:Nyinsatt program; HökisVisrum för freden. Kom och möt oss i en manifestation för freden och för att visa solidaritet med de som utsätts för krigets fula ansikte. På programmet Leif Rahm\, ro.t\, Lidoba\, Hans Ellemar\, Sebastian Mantel\, Jimmy “Stjärnstoff” Flodin och förhoppningsvis några till. \nBiljettintäkterna går oavkortat till UNHCR:s arbete i Ukraina. \n******** \nVi serverar fika i pausen för 30:-\nVi öppnar kl 18.00 – kom och se vår fina Cornelisutställning. \nHjärtligt välkomna!
URL:https://visanisverige.se/evenemang/visrum-for-freden/
LOCATION:HökisVisrum/Stockholm\, Hökarängsplan 3\, Stockhom\, 123 56\, Sverige
CATEGORIES:Konsert
ATTACH;FMTTYPE=image/png:https://visanisverige.se/wp-content/uploads/2022/03/fred.png
ORGANIZER;CN="H%C3%B6kis Visrum":MAILTO:Info@Hokisvisrum.se
END:VEVENT
END:VCALENDAR