BEGIN:VCALENDAR
VERSION:2.0
PRODID:-//Visan i Sverige - ECPv6.15.18//NONSGML v1.0//EN
CALSCALE:GREGORIAN
METHOD:PUBLISH
X-WR-CALNAME:Visan i Sverige
X-ORIGINAL-URL:https://visanisverige.se
X-WR-CALDESC:Händelser för Visan i Sverige
REFRESH-INTERVAL;VALUE=DURATION:PT1H
X-Robots-Tag:noindex
X-PUBLISHED-TTL:PT1H
BEGIN:VTIMEZONE
TZID:Europe/Stockholm
BEGIN:DAYLIGHT
TZOFFSETFROM:+0100
TZOFFSETTO:+0200
TZNAME:CEST
DTSTART:20210328T010000
END:DAYLIGHT
BEGIN:STANDARD
TZOFFSETFROM:+0200
TZOFFSETTO:+0100
TZNAME:CET
DTSTART:20211031T010000
END:STANDARD
BEGIN:DAYLIGHT
TZOFFSETFROM:+0100
TZOFFSETTO:+0200
TZNAME:CEST
DTSTART:20220327T010000
END:DAYLIGHT
BEGIN:STANDARD
TZOFFSETFROM:+0200
TZOFFSETTO:+0100
TZNAME:CET
DTSTART:20221030T010000
END:STANDARD
BEGIN:DAYLIGHT
TZOFFSETFROM:+0100
TZOFFSETTO:+0200
TZNAME:CEST
DTSTART:20230326T010000
END:DAYLIGHT
BEGIN:STANDARD
TZOFFSETFROM:+0200
TZOFFSETTO:+0100
TZNAME:CET
DTSTART:20231029T010000
END:STANDARD
END:VTIMEZONE
BEGIN:VEVENT
DTSTART;TZID=Europe/Stockholm:20220113T200000
DTEND;TZID=Europe/Stockholm:20220113T200000
DTSTAMP:20260423T140030
CREATED:20220111T150327Z
LAST-MODIFIED:20220111T161301Z
UID:1245-1642104000-1642104000@visanisverige.se
SUMMARY:Käraste Bröder
DESCRIPTION:Käraste Bröder – det vill säga Robert Robertsson och Björn Richard – framför ett program med skaldens visor\, både de kända epistlarna och sångerna samt visorna från de något mindre kända…\nVi serverar fika i pausen för 30:-\nVi öppnar kl 18.00 – kom och se vår fina Cornelisutställning!\nHjärtligt välkomna.
URL:https://visanisverige.se/evenemang/karaste-broder/
LOCATION:HökisVisrum/Stockholm\, Hökarängsplan 3\, Stockhom\, 123 56\, Sverige
CATEGORIES:Konsert
ATTACH;FMTTYPE=image/jpeg:https://visanisverige.se/wp-content/uploads/2022/01/karaste-broder-e1642580116151.jpg
ORGANIZER;CN="H%C3%B6kis Visrum":MAILTO:Info@Hokisvisrum.se
END:VEVENT
BEGIN:VEVENT
DTSTART;TZID=Europe/Stockholm:20220127T200000
DTEND;TZID=Europe/Stockholm:20220127T200000
DTSTAMP:20260423T140030
CREATED:20220111T152407Z
LAST-MODIFIED:20220119T204718Z
UID:1252-1643313600-1643313600@visanisverige.se
SUMMARY:Dagslända
DESCRIPTION:Visgruppen Dagslända har gjort sig känd för egenkomponerad musik till  några av våra bästa diktare. Det började med att Rolf Hedin tonsatte en mängd dagsverser av Stig Dagerman\, vilket senare resulterade i albumet ”En vandring på Dagermans Stig”. Dagslända har därefter framfört sina tonsättningar regelbundet och bjöds bland annat in att speal på ”Dan Andersson”-veckan i Ludvika. Nu presenteras ”I döda poeters sällskap”: dikter av svenska kvinnliga poeter till lättsam musik av Rolf Hedin och Malin Berglund.\nPå 100-årsdagen av Dan Anderssons död utkom ”En vårvisa till Spelmannen”\, en singel med två sånger: ”En vårvisa” med musik av Rolf Hedin samt ”Spelmannen” med musik av Malin Berglund. Redan i samband med skivsläppet av ”En vandring på Dagermans Stig” hade Dagslända premiär med föreställningen ”I döda poeters sällskap”\, en rad svenska kvinnliga poeter till lättsam musik av Rolf Hedin och Malin Berglund.\nDagslända har framträtt i kyrkor\, bygdegårdar\, orangerier\, pubar och konsertlokaler. Förutom sångerna från skivorna gillar bandet att framföra egna översättningar av favoritmusik\, mestadels från engelska men även portugisiska.\nDagslända består av: Malin Berglund (sång och gitarr)\, Rolf Hedin (sång och gitarr)\, Csaba Harkó (fiol)\, Daniel Lööw (munspel)\, Lars Magnus Ejdeholm (bas)\n********************\nVi serverar fika i pausen för 30:-\nVi öppnar kl 18.00 – kom och se vår fina Cornelisutställning!\nHjärtligt välkomna.\n***********\nOBS! För att komma in krävs vaccinationsbevis på att du är fullvaccinerad mot covid-19!
URL:https://visanisverige.se/evenemang/dagslanda/
LOCATION:HökisVisrum/Stockholm\, Hökarängsplan 3\, Stockhom\, 123 56\, Sverige
CATEGORIES:Konsert
ATTACH;FMTTYPE=image/jpeg:https://visanisverige.se/wp-content/uploads/2022/01/dagslanda-e1642580323930.jpg
ORGANIZER;CN="H%C3%B6kis Visrum":MAILTO:Info@Hokisvisrum.se
END:VEVENT
END:VCALENDAR