BEGIN:VCALENDAR
VERSION:2.0
PRODID:-//Visan i Sverige - ECPv6.15.18//NONSGML v1.0//EN
CALSCALE:GREGORIAN
METHOD:PUBLISH
X-WR-CALNAME:Visan i Sverige
X-ORIGINAL-URL:https://visanisverige.se
X-WR-CALDESC:Händelser för Visan i Sverige
REFRESH-INTERVAL;VALUE=DURATION:PT1H
X-Robots-Tag:noindex
X-PUBLISHED-TTL:PT1H
BEGIN:VTIMEZONE
TZID:Europe/Stockholm
BEGIN:DAYLIGHT
TZOFFSETFROM:+0100
TZOFFSETTO:+0200
TZNAME:CEST
DTSTART:20240331T010000
END:DAYLIGHT
BEGIN:STANDARD
TZOFFSETFROM:+0200
TZOFFSETTO:+0100
TZNAME:CET
DTSTART:20241027T010000
END:STANDARD
BEGIN:DAYLIGHT
TZOFFSETFROM:+0100
TZOFFSETTO:+0200
TZNAME:CEST
DTSTART:20250330T010000
END:DAYLIGHT
BEGIN:STANDARD
TZOFFSETFROM:+0200
TZOFFSETTO:+0100
TZNAME:CET
DTSTART:20251026T010000
END:STANDARD
BEGIN:DAYLIGHT
TZOFFSETFROM:+0100
TZOFFSETTO:+0200
TZNAME:CEST
DTSTART:20260329T010000
END:DAYLIGHT
BEGIN:STANDARD
TZOFFSETFROM:+0200
TZOFFSETTO:+0100
TZNAME:CET
DTSTART:20261025T010000
END:STANDARD
END:VTIMEZONE
BEGIN:VEVENT
DTSTART;TZID=Europe/Stockholm:20251004T160000
DTEND;TZID=Europe/Stockholm:20251004T200000
DTSTAMP:20260419T214238
CREATED:20250904T050416Z
LAST-MODIFIED:20250904T050416Z
UID:4624-1759593600-1759608000@visanisverige.se
SUMMARY:Skaraborgs Musikfestival
DESCRIPTION:Skaraborgs Musikfestival lörd. 4 oktober kl. 16.00 – 20.00 på Mariestads Teater\nEn nära visupplevelse på Mariestads teater. \nHösten närmar sig obevekligt men tack och lov kan du den 4oktober krypa in i värmen i den anrika gamla teatern i Mariestad och uppleva en helkväll med några av landets bästa visartister. På scen står: \nMaria Lindström; artist på alla områden som rör Visan: texten\, musiken\, kompet\, det sunda förnuftet och det blödande hjärtat. Allt det där man får med åren samt med möten med publik och medmusikanter. \nJohan Jonzon; född och uppvuxen i Mariestad har spelat musik sen tidig och ålder. Spelar mest med sitt egna band Jonzon med Vänner. Johan har alltid inspirerats av amerikansk folkmusik och kommer bjuda på gamla amerikanska standard med svensk text. \nLevina Storåkern; är verksam som soloartist och som medlem i de prisade banden Ævestaden och Diket\, som båda rör sig i gränslandet mellan folk-\, visa- och samtidsmusik. Våren 2025 debuterade hon solo med albumet Månadsvill\, där dikt och musik vävs samman i ett lågmält och suggestivt uttryck. På festivalen delar hon både egna visor och några favoriter ur det traditionella repertoaret. \nGunnar Källström; Visdiktare/författare kommer att bjuda på sina näst bästa visor (De bästa har ännu ej gjorts). Det handlar om såväl vardagsfenomen som fantastiska\, ja nästan lite mystiska berättelser – Annorlunda barn\, stegrande matpriser\, kråkor och tågresor bland annat. Har verkat i drygt 30 år som visartist\, givit ut tolv skivor i eget namn\, skrivit tre diktsamlingar\, en novellsamling samt två romaner. Turnerat i hela norden\, medverkat i radio och TV. \nLovisa Hagström; Hur skulle du beskriva din väg genom livet? Som ändlös landsväg? Eller kanske som en highway to hell? Lovisa Hagström är en dramatisk kompositör och vissångare som slåss med vilda snår och törnen såväl som vilar på vita moln samt simmar genom rosenblad genom livets virvlande och berg- och dalbanor\n \nPär Sörman; sedan mitten av 80-talet är Pär verksam som frilansande vissångare/skådespelare med svenska visor och dikter på programmet. Han har gjort flera sångturnéer runtom i Norden och i USA´s svenskbygder. Pär har belönats med stipendier från Visans Vänner och Sällskapet Astri och Evert Taubes Vänner. Nils Ferlin-Sällskapets Trubadurpris fick han år 2002 och Dan Andersson priset år 2003. \nDet här är en dag att uppleva! Vi ses på teatern!. Biljett: 300 kr som bokas på webbshopen på denna webbplats https://visansvannerskaraborg.se/\nVisans Vänners medlemmar köper biljett till reducerat pris genom föreningens kassör: 070-633 08 60.
URL:https://visanisverige.se/evenemang/skaraborgs-musikfestival-3/
LOCATION:Mariestads Gamla teater\, Österlånggatan 8\, Mariestad\, 542 30
CATEGORIES:Festival
ATTACH;FMTTYPE=image/jpeg:https://visanisverige.se/wp-content/uploads/2025/09/Visfestival-1-scaled.jpg
END:VEVENT
END:VCALENDAR