BEGIN:VCALENDAR
VERSION:2.0
PRODID:-//Visan i Sverige - ECPv6.15.18//NONSGML v1.0//EN
CALSCALE:GREGORIAN
METHOD:PUBLISH
X-WR-CALNAME:Visan i Sverige
X-ORIGINAL-URL:https://visanisverige.se
X-WR-CALDESC:Händelser för Visan i Sverige
REFRESH-INTERVAL;VALUE=DURATION:PT1H
X-Robots-Tag:noindex
X-PUBLISHED-TTL:PT1H
BEGIN:VTIMEZONE
TZID:Europe/Stockholm
BEGIN:DAYLIGHT
TZOFFSETFROM:+0100
TZOFFSETTO:+0200
TZNAME:CEST
DTSTART:20240331T010000
END:DAYLIGHT
BEGIN:STANDARD
TZOFFSETFROM:+0200
TZOFFSETTO:+0100
TZNAME:CET
DTSTART:20241027T010000
END:STANDARD
BEGIN:DAYLIGHT
TZOFFSETFROM:+0100
TZOFFSETTO:+0200
TZNAME:CEST
DTSTART:20250330T010000
END:DAYLIGHT
BEGIN:STANDARD
TZOFFSETFROM:+0200
TZOFFSETTO:+0100
TZNAME:CET
DTSTART:20251026T010000
END:STANDARD
BEGIN:DAYLIGHT
TZOFFSETFROM:+0100
TZOFFSETTO:+0200
TZNAME:CEST
DTSTART:20260329T010000
END:DAYLIGHT
BEGIN:STANDARD
TZOFFSETFROM:+0200
TZOFFSETTO:+0100
TZNAME:CET
DTSTART:20261025T010000
END:STANDARD
END:VTIMEZONE
BEGIN:VEVENT
DTSTART;TZID=Europe/Stockholm:20250801T180000
DTEND;TZID=Europe/Stockholm:20250803T220000
DTSTAMP:20260420T003713
CREATED:20250226T141043Z
LAST-MODIFIED:20250728T171647Z
UID:4074-1754071200-1754258400@visanisverige.se
SUMMARY:Munkarpsfestivalen 2025
DESCRIPTION:1-3 augusti 2025\nMunkarpsgården\nMunkarp 102\, Höör \nHelgbiljett fredag-söndag 500 kr\nEndagsbiljett 200 kr\nBarn under13 år går gratis i vuxet sällskap\nhttps://billetto.se/e/munkarpsfestivalen-2025-biljetter-1180539 \nFörsta helgen i augusti vankas det återigen festival i lilla Munkarp på den skånska landsbygden utanför Höör. Bland åkrar och ängar tornar Munkarpsgården upp sig med loppis\, gäss och getter. Till råga på allt har det gamla hönshuset förvandlats till en scen där artister från både när och fjärran framför några väl valda alster hela helgen. Visor\, punk\, rock\, reggae\, folkmusik och allt möjligt där fokus ligger på artister som vill berätta något när de ändå har ordet. \nFREDAG 1 AUGUSTI\n18:00 Rick Titrö & Kärleksministeriet (Malmö)\n18:50 Trå (Rydsgård/Malmö)\n19:45 Presidenten (Höganäs)\n20:35 Mohlavyr (Örebro)\n21:30 Trollkarlens Kapell (Munkarp)\n22:20 Cecilia Nordlund och Fullmånen Från Helvetet (Malmö)\n23:15 Kamelritt (Klippan)\n00:10 Scandinavian Zcoundrels (Malmö) \nLÖRDAG 2 AUGUSTI\n12:00 Klimatkapellet – Vem är det som bestämmer? (Malmö) (gården\, gratis inträde)\n13:00 Danne & Falckungarna (Löddeköpinge) (gården\, gratis inträde)\n15:00 Karl Mikael Larson (Ängelholm)\n15:55 Sigvard & The Bonewhispers (Ludvigsborg)\n16:50 Dolkenihåsan (Klippan)\n17:40 Säg mig (Hisings Backa)\n18:35 Fou Parle (Borås)\n19:30 Tysta Drömmar (Malmö)\n20:25 Harvig (Malmö/Västerås)\n21:20 Eric Palmqwist (Visbyslätt)\n22:10 Hjelle (Teckomatorp)\n23:05 Palle Bull & Förlorarna (Malmö)\n00:00 Lilla Krogen Band (Borås) \nSÖNDAG 3 AUGUSTI\n12:00 Humorkollektivet Charken – En stor chark (Malmö) (gratis inträde) 13:00 Anneli Östersjö (Tierp) (gratis inträde\, konstutställning) \n15:00 Alex Holm (Malmö/Kalifornien)\n15:50 Sunkens Taverna (Malmö)\n16:40 William Bülow O’Nils (Stockholm)\n17:35 Åh Katta! (Malmö)\n18:25 Daniel Östersjö (Tierp)\n19:20 Söder om Söder (Malmö)\n20:15 Gula Blend (Malmö)\n21:15 Elvira Bira (Stockholm) \n  \nFör mer info: www.facebook.com/munkarpsfestivalen \nServering av mat inklusive frukost\, fika och snacks samt alkoholfri dryck finns.\nAlkoholhaltig dryck är tillåtet att ta med sig. \nBokning av gratis tältplats och övriga fågor om mat och boende: Cecilia 0705-31 83 73\, cicci@antikhusetlugnet.se\nHusdjur får ej medtagas \nArrangeras av Munkarpsgårdens Loppis och Kuriosa och Facklor och Högafflar med stöd av Medborgarskolan och Skånsk Live
URL:https://visanisverige.se/evenemang/munkarpsfestivalen-2025/
LOCATION:Munkarpsgårdens Loppis och Kuriosa\, Munkarp 102\, Höör\, 24391\, Sweden
CATEGORIES:Festival,Konsert
ATTACH;FMTTYPE=image/jpeg:https://visanisverige.se/wp-content/uploads/2025/02/Untitled_Artwork-3-scaled.jpg
ORGANIZER;CN="Facklor och H%C3%B6gafflar":MAILTO:rick_titro@hotmail.com
END:VEVENT
BEGIN:VEVENT
DTSTART;TZID=Europe/Stockholm:20250823T110000
DTEND;TZID=Europe/Stockholm:20250823T210000
DTSTAMP:20260420T003713
CREATED:20250812T094821Z
LAST-MODIFIED:20250812T094821Z
UID:4465-1755946800-1755982800@visanisverige.se
SUMMARY:Flunsåsfestivalen
DESCRIPTION:Överallt där människor finns skapas konst och kultur\, och den kommer i hundratusentals olika färger och former. Flunsåsfestivalen samlar ett brett utbud av gratis kulturinnehåll där idéer om fin- och fulkultur suddas ut\, olika konstformer möts och således också olika typer av publik. Varmt välkommen till ett mångfacetterat potpurri där vi firar kulturutövande och utmanas att bredda våra vyer! \nDen 23/8 mellan kl. 11 och 21 fyller vi vackra Flunsåsparken på Hisingen med konst och kultur. Från scenen bjuds på livemusik i blandade genrer\, från psykedelisk indie till visor\, improvteater\, cirkusakter\, dans m.m\, runtom pågår en konst- och hantverksmarknad där konstnärerna själva ställer ut och säljer sina skapelser\, och till höger om scen finns mat\, dryck och fika från världens olika kök till försäljning. Utöver detta tatueringshörna\, prova på-cirkus\, konstvägg… med mera! Inträdet är gratis. Välkommen!// Klangeriet
URL:https://visanisverige.se/evenemang/flunsasfestivalen/
LOCATION:Flunsåsparken\, Sockenvägen 24\, Göteborg\, 400 72
CATEGORIES:Festival
ATTACH;FMTTYPE=image/png:https://visanisverige.se/wp-content/uploads/2025/08/Flunsasfestivalen-affisch-textig-7-1.png
ORGANIZER;CN="Klangeriet":MAILTO:klangeriet.info@gmail.com
END:VEVENT
END:VCALENDAR