BEGIN:VCALENDAR
VERSION:2.0
PRODID:-//Visan i Sverige - ECPv6.15.18//NONSGML v1.0//EN
CALSCALE:GREGORIAN
METHOD:PUBLISH
X-WR-CALNAME:Visan i Sverige
X-ORIGINAL-URL:https://visanisverige.se
X-WR-CALDESC:Händelser för Visan i Sverige
REFRESH-INTERVAL;VALUE=DURATION:PT1H
X-Robots-Tag:noindex
X-PUBLISHED-TTL:PT1H
BEGIN:VTIMEZONE
TZID:Europe/Stockholm
BEGIN:DAYLIGHT
TZOFFSETFROM:+0100
TZOFFSETTO:+0200
TZNAME:CEST
DTSTART:20230326T010000
END:DAYLIGHT
BEGIN:STANDARD
TZOFFSETFROM:+0200
TZOFFSETTO:+0100
TZNAME:CET
DTSTART:20231029T010000
END:STANDARD
BEGIN:DAYLIGHT
TZOFFSETFROM:+0100
TZOFFSETTO:+0200
TZNAME:CEST
DTSTART:20240331T010000
END:DAYLIGHT
BEGIN:STANDARD
TZOFFSETFROM:+0200
TZOFFSETTO:+0100
TZNAME:CET
DTSTART:20241027T010000
END:STANDARD
BEGIN:DAYLIGHT
TZOFFSETFROM:+0100
TZOFFSETTO:+0200
TZNAME:CEST
DTSTART:20250330T010000
END:DAYLIGHT
BEGIN:STANDARD
TZOFFSETFROM:+0200
TZOFFSETTO:+0100
TZNAME:CET
DTSTART:20251026T010000
END:STANDARD
END:VTIMEZONE
BEGIN:VEVENT
DTSTART;TZID=Europe/Stockholm:20241005T180000
DTEND;TZID=Europe/Stockholm:20241005T220000
DTSTAMP:20260422T150057
CREATED:20240920T171430Z
LAST-MODIFIED:20240925T075059Z
UID:3690-1728151200-1728165600@visanisverige.se
SUMMARY:Skaraborgs Musikfestival - En nära visupplevelse
DESCRIPTION:5 oktober 16.00 är det dags för årets musikfestival på Mariestads teater. Under eftermiddagen kommer ni få höra några av landets bästa visartister. På scenen spelar Hanne Juul\, Johan Ludvig Rask och Åsa B Johansson samt Vänervind. I pausen spelar Elona Planman. Det här är en dag att uppleva! Vi ses på teatern!. Biljett: 300 kr som bokas på webbshopen. Se evenemangets webbplats.Visans Vänners medlemmar köper biljett till reducerat pris genom föreningens kassör: 070-633 08 60.
URL:https://visanisverige.se/evenemang/skaraborgs-musikfestival-en-nara-visupplevelse/
LOCATION:Mariestads Gamla teater\, Österlånggatan 8\, Mariestad\, 542 30
CATEGORIES:Festival
ATTACH;FMTTYPE=image/jpeg:https://visanisverige.se/wp-content/uploads/2024/09/Visfestival_4-8.jpg
END:VEVENT
END:VCALENDAR