BEGIN:VCALENDAR
VERSION:2.0
PRODID:-//Visan i Sverige - ECPv6.15.18//NONSGML v1.0//EN
CALSCALE:GREGORIAN
METHOD:PUBLISH
X-WR-CALNAME:Visan i Sverige
X-ORIGINAL-URL:https://visanisverige.se
X-WR-CALDESC:Händelser för Visan i Sverige
REFRESH-INTERVAL;VALUE=DURATION:PT1H
X-Robots-Tag:noindex
X-PUBLISHED-TTL:PT1H
BEGIN:VTIMEZONE
TZID:Europe/Stockholm
BEGIN:DAYLIGHT
TZOFFSETFROM:+0100
TZOFFSETTO:+0200
TZNAME:CEST
DTSTART:20230326T010000
END:DAYLIGHT
BEGIN:STANDARD
TZOFFSETFROM:+0200
TZOFFSETTO:+0100
TZNAME:CET
DTSTART:20231029T010000
END:STANDARD
BEGIN:DAYLIGHT
TZOFFSETFROM:+0100
TZOFFSETTO:+0200
TZNAME:CEST
DTSTART:20240331T010000
END:DAYLIGHT
BEGIN:STANDARD
TZOFFSETFROM:+0200
TZOFFSETTO:+0100
TZNAME:CET
DTSTART:20241027T010000
END:STANDARD
BEGIN:DAYLIGHT
TZOFFSETFROM:+0100
TZOFFSETTO:+0200
TZNAME:CEST
DTSTART:20250330T010000
END:DAYLIGHT
BEGIN:STANDARD
TZOFFSETFROM:+0200
TZOFFSETTO:+0100
TZNAME:CET
DTSTART:20251026T010000
END:STANDARD
END:VTIMEZONE
BEGIN:VEVENT
DTSTART;TZID=Europe/Stockholm:20240810T170000
DTEND;TZID=Europe/Stockholm:20240810T180000
DTSTAMP:20260422T172606
CREATED:20240604T133430Z
LAST-MODIFIED:20240604T133430Z
UID:3320-1723309200-1723312800@visanisverige.se
SUMMARY:Medverkande på jazzfestival
DESCRIPTION:Konsert med Leif Brixmark & New Holland Band  på Jazz o Glassfestivalen i Flen
URL:https://visanisverige.se/evenemang/medverkande-pa-jazzfestival/
LOCATION:Flen\, Thuleparken\, Flen
CATEGORIES:Festival
ATTACH;FMTTYPE=image/jpeg:https://visanisverige.se/wp-content/uploads/2024/06/LEIF-BRIXMARK-Foto-Ake-Lindberg-2.jpg
END:VEVENT
BEGIN:VEVENT
DTSTART;TZID=Europe/Stockholm:20240810T203000
DTEND;TZID=Europe/Stockholm:20240810T213000
DTSTAMP:20260422T172606
CREATED:20240604T133500Z
LAST-MODIFIED:20240604T133500Z
UID:3328-1723321800-1723325400@visanisverige.se
SUMMARY:Medverkande på Bluesfestival
DESCRIPTION:Leif Brixmark & New Holland Band konsert i samband med Bluesfestival i Nykvarn.
URL:https://visanisverige.se/evenemang/medverkande-pa-bluesfestival/
LOCATION:Nykvarns folkets park\, Nykvarn
CATEGORIES:Festival
ATTACH;FMTTYPE=image/jpeg:https://visanisverige.se/wp-content/uploads/2024/06/LEIF-BRIXMARK-Foto-Ake-Lindberg-3.jpg
END:VEVENT
END:VCALENDAR