BEGIN:VCALENDAR
VERSION:2.0
PRODID:-//Visan i Sverige - ECPv6.15.18//NONSGML v1.0//EN
CALSCALE:GREGORIAN
METHOD:PUBLISH
X-WR-CALNAME:Visan i Sverige
X-ORIGINAL-URL:https://visanisverige.se
X-WR-CALDESC:Händelser för Visan i Sverige
REFRESH-INTERVAL;VALUE=DURATION:PT1H
X-Robots-Tag:noindex
X-PUBLISHED-TTL:PT1H
BEGIN:VTIMEZONE
TZID:Europe/Stockholm
BEGIN:DAYLIGHT
TZOFFSETFROM:+0100
TZOFFSETTO:+0200
TZNAME:CEST
DTSTART:20230326T010000
END:DAYLIGHT
BEGIN:STANDARD
TZOFFSETFROM:+0200
TZOFFSETTO:+0100
TZNAME:CET
DTSTART:20231029T010000
END:STANDARD
BEGIN:DAYLIGHT
TZOFFSETFROM:+0100
TZOFFSETTO:+0200
TZNAME:CEST
DTSTART:20240331T010000
END:DAYLIGHT
BEGIN:STANDARD
TZOFFSETFROM:+0200
TZOFFSETTO:+0100
TZNAME:CET
DTSTART:20241027T010000
END:STANDARD
BEGIN:DAYLIGHT
TZOFFSETFROM:+0100
TZOFFSETTO:+0200
TZNAME:CEST
DTSTART:20250330T010000
END:DAYLIGHT
BEGIN:STANDARD
TZOFFSETFROM:+0200
TZOFFSETTO:+0100
TZNAME:CET
DTSTART:20251026T010000
END:STANDARD
END:VTIMEZONE
BEGIN:VEVENT
DTSTART;TZID=Europe/Stockholm:20240706T150000
DTEND;TZID=Europe/Stockholm:20240706T210000
DTSTAMP:20260422T184255
CREATED:20240708T173734Z
LAST-MODIFIED:20240708T173734Z
UID:3281-1720278000-1720299600@visanisverige.se
SUMMARY:Stockholms Visfestival 2024 i Vinterviken
DESCRIPTION:Pierre Ström & Lolita Ray hälsar er varmt välkomna till årets festival! Fantastiska visartister och allsång i Vintervikens underbara Trädgård!200 kr entré Swish vid ingången.Mat och dryck finns till försäljning! Sätt en bock i kalendern och kom!\nANN-CATRINE PERSSON & INGMARIE ROMELLELIN LYTH & DANIEL ÖSTERSJÖKENNETH WEISSGLAS FREJDKERSTIN TOIVESDOTTER WILLIAM BÜLOW O´NILSMURRE ERIKSSONBILLEY SHAMROCKMARIA LINDSTRÖM MIKAEL IVARSSONSTIGMARK & RAYKLAS NORBERG PIERRE STRÖMJIMMY GINSBYAXEL SONDÉNEVA HILLEREDFIA EKBERGTRIOL\n\nArtisterna kommer presenteras löpande i evenemanget!\nFrågor? info@stockholmsvisfestival.se\nArrangeras av YTF i samarbete med Vintervikens Trädgård och med stöd av Stockholm Stad\, Stiftelsen Längmanska Kulturfonden och Hägersten-Älvsjö Stadsdelsförvaltning.\nPS vår hemsida är ännu inte uppdaterad med årets festival men det kommer!
URL:https://visanisverige.se/evenemang/stockholms-visfestival-2024-i-vinterviken/
LOCATION:Vintervikens Trädgård\, Vinterviksvägen 30\, Stockholm
CATEGORIES:Festival
ATTACH;FMTTYPE=image/jpeg:https://visanisverige.se/wp-content/uploads/2024/05/I-VINTERVIKEN-scaled.jpg
ORGANIZER;CN="Yrkestrubadurernas F&ouml%3Brening":MAILTO:pierre@pierrestrom.se
END:VEVENT
BEGIN:VEVENT
DTSTART;TZID=Europe/Stockholm:20240712T200000
DTEND;TZID=Europe/Stockholm:20240713T230000
DTSTAMP:20260422T184255
CREATED:20240308T120603Z
LAST-MODIFIED:20240308T120603Z
UID:3052-1720814400-1720911600@visanisverige.se
SUMMARY:Visfesten i Loo
DESCRIPTION:Två dagars visfest i ljuvliga Loo – två mil norr om Alingsås.\nArtister i vårt mysiga tält – Fredag – Matilda Magnusson –\n”Matilda Magnusson sjunger svensk visa med ett engagemang och en energi som är alldeles speciell och helt hennes egen. Hon blandar friskt traditionell litterär\, modern rytmisk och egenhändigt komponerad visa\, alltid med samma glödande och övertygande inlevelse. Väl förankrad i traditionen är hon en ung förnyare av svensk visa.”\nGunnar Källström – ”Gunnar Källström är en helt unik artist. Det finns ingen som på hans självklara sätt slungar sig mellan tjofaderittan till vemodigt mörker…/…Fantastiska\, hisnande historier…/…Ännu ett makalöst album och han har hittat ett alldeles eget rum inom svensk visa.” – Barometern\nArtister lördag – Ola Henricsson – Han har en doktorshatt i muntligt berättande och har med sina berättelser fascinerat publik i såväl Bombay som Borås men är också Bastukvintettens välkända gitarrton. Men framför allt är han en enträgen vissnickare sedan innan han föddes.\nUrskog – Vi minns förra årets jublande succé. Urskog tar sig an den svenska visan från alla världens håll. Varning för scendrag!\nDessutom – Keramik av Anna Ekwall Henricsson och Therese Källström i vår gemytliga lada.\nKaffe och bullar i trädgården\, mingel med grannar och nya bekantskaper och så är vi extra stolta över vårt magnifika tält från 1953!\nEntré 200 kr per dag eller 300 kronor för båda.\nVarmt välkommen! \nhttps://www.facebook.com/events/370388409092318/?post_id=370388415758984&view=permalink&notif_id=1708972463293130&notif_t=feedback_reaction_generic&ref=notif&locale=sv_SE
URL:https://visanisverige.se/evenemang/visfesten-i-loo-2/
LOCATION:Loo 560 Sollebrunn\, Loo 560 Ekelund\, Sollebrunn\, 44175
CATEGORIES:Festival,Konsert
ATTACH;FMTTYPE=image/jpeg:https://visanisverige.se/wp-content/uploads/2024/02/Goa-grannar-presenterar-stolt-2.jpg
END:VEVENT
BEGIN:VEVENT
DTSTART;TZID=Europe/Stockholm:20240720T160000
DTEND;TZID=Europe/Stockholm:20240721T015900
DTSTAMP:20260422T184255
CREATED:20240708T173241Z
LAST-MODIFIED:20240708T173241Z
UID:3367-1721491200-1721527140@visanisverige.se
SUMMARY:Lagår´n 24
DESCRIPTION:14-16 FAMILJETAJM\nSmåstjärnorna och pysselverkstad.Fikaförsäljning.\n\nVill kiddot vara med i Småstjärnorna? Maila barnets namn\, artist och låtens titel till info@studiomaddez.se. Begränsat antal platser!\nKom ihåg att en familj kan se ut hur som helst – har du inga barn i huset så låna med någon annans!\n_ _ _ _ _ _ _ _\n18-23.59 KONSERTEntré 200 kr. På scen:\n\nMADDEZ – Release för nya albumet ”Folk i allmänhet”. Satir skriven i tonsatt dansbandsformat.\nSTAMMEN – Plattan i mattan\, fullt ös\, nalta stökigt. Musiken är en blandning av dansant men tung stoner\, psych och garagerock.\nSARA WOHLIN ZERPE – med rötter i skogarna kring Boden\, spelar varm\, organisk indiepop. Ärligt\, sårbart och poetiskt\, och alltid med ett litet ljus i slutet av tunneln.\n_ _ _ _ _ _ _ _\nLägerelden är igång och levererar kokkaffe och varmkorv\, och under de senare timmarna blir det karaoke i kobåset/repan\, eller ett schysst häng för den som inte vill greppa micken.\nKaraoken och hänget har fri entré.\n\nAlla aktiviteter kräver biljett\, bokas via Simple Signup!\nARR: Studio Maddez & Queenommunication KF
URL:https://visanisverige.se/evenemang/lagarn-24/
LOCATION:Norrdrottningen\, Mjöträsk 80\, Niemisel\, 95595\, Sverige
CATEGORIES:Festival
ATTACH;FMTTYPE=image/jpeg:https://visanisverige.se/wp-content/uploads/2024/06/24-insta.jpg
ORGANIZER;CN="Studio Maddez":MAILTO:info@studiomaddez.se
END:VEVENT
END:VCALENDAR