BEGIN:VCALENDAR
VERSION:2.0
PRODID:-//Visan i Sverige - ECPv6.15.18//NONSGML v1.0//EN
CALSCALE:GREGORIAN
METHOD:PUBLISH
X-WR-CALNAME:Visan i Sverige
X-ORIGINAL-URL:https://visanisverige.se
X-WR-CALDESC:Händelser för Visan i Sverige
REFRESH-INTERVAL;VALUE=DURATION:PT1H
X-Robots-Tag:noindex
X-PUBLISHED-TTL:PT1H
BEGIN:VTIMEZONE
TZID:Europe/Stockholm
BEGIN:DAYLIGHT
TZOFFSETFROM:+0100
TZOFFSETTO:+0200
TZNAME:CEST
DTSTART:20250330T010000
END:DAYLIGHT
BEGIN:STANDARD
TZOFFSETFROM:+0200
TZOFFSETTO:+0100
TZNAME:CET
DTSTART:20251026T010000
END:STANDARD
BEGIN:DAYLIGHT
TZOFFSETFROM:+0100
TZOFFSETTO:+0200
TZNAME:CEST
DTSTART:20260329T010000
END:DAYLIGHT
BEGIN:STANDARD
TZOFFSETFROM:+0200
TZOFFSETTO:+0100
TZNAME:CET
DTSTART:20261025T010000
END:STANDARD
BEGIN:DAYLIGHT
TZOFFSETFROM:+0100
TZOFFSETTO:+0200
TZNAME:CEST
DTSTART:20270328T010000
END:DAYLIGHT
BEGIN:STANDARD
TZOFFSETFROM:+0200
TZOFFSETTO:+0100
TZNAME:CET
DTSTART:20271031T010000
END:STANDARD
END:VTIMEZONE
BEGIN:VEVENT
DTSTART;TZID=Europe/Stockholm:20260419T140000
DTEND;TZID=Europe/Stockholm:20260419T160000
DTSTAMP:20260419T141650
CREATED:20260206T100930Z
LAST-MODIFIED:20260206T100930Z
UID:4905-1776607200-1776614400@visanisverige.se
SUMMARY:Söndagsvisa/Öppen Scen
DESCRIPTION:Anmälan sker på plats.\nKaffe och fika säljs under hela evenemanget.
URL:https://visanisverige.se/evenemang/sondagsvisa-oppen-scen-2/
LOCATION:Kustens Hus\, Taubegatan 9\, Göteborg\, 414 55\, Sverige
CATEGORIES:Öppen scen
ATTACH;FMTTYPE=image/jpeg:https://visanisverige.se/wp-content/uploads/2026/02/mikrofon_hela-2.jpg
ORGANIZER;CN="Visans V%C3%A4nner G%C3%B6teborg":MAILTO:visansvannergbg@gmail.com
END:VEVENT
END:VCALENDAR